Workbook
Name _1순위: detail!$V$81:$X$81
Name _2순위: detail!$W$82:$Y$82
Name _3순위: detail!$V$83:$X$83
Name 삼순위: detail!#REF!
Name 우선순위: detail!$V$80:$X$80
Name 이순위: detail!#REF!
Name 일순위: detail!#REF!
Name 전출: #REF!
Name 전출_1순위: detail!$V$81:$X$81
Name 전출_2순위: detail!$W$82:$Y$82
Name 전출_3순위: detail!$V$83:$X$83
Name 전출1순위: detail!$V$81:$X$81
Name 전출2순위: detail!$V$82:$Y$82
Name 전출3순위: detail!$V$83:$X$83

Sheet 작성요령(필독)
A1: 자료입력시 유의사항[필독]
A5: 1. 자료의 입력시 진노란색 셀은 반드시 입력하고
A6: 연노란색 셀은 해당사항이 있는 경우에 입력함.
A7: 나머지 셀은 자동입력되어 있으므로 임의로 수정하지 말 것.
A8: 2. 전출희망시도 : '서울,부산,대구,인천,광주,대전,울산,경기,강원,충북,충남,전북,전남,경북,제주,세종' 중에서 택일
A9: 3. 교사구분(전출과목) : 타시도간 교류에서 사용하는 과목명 선택(반드시 다음 과목 중 본인의 현 발령과목을 기재), 중등(국어),중등(영어) 등
A10: 가. 일반과목 : 국어, 수학, 공통과학, 물리, 화학, 생물, 지구과학, 공통사회, 일반사회, 역사, 지리, 도덕-윤리, 상담, 연극영화, 교육학, 종교, 철학, 환경, 심리학, 체육, 교련, 음악, 미술, 한문, 영어, 독일어, 프랑스어, 중국어, 스페인어, 일보어, 러시아어, 아랍어, 기술, 가정, 기술-가정, 농공, 식물자원-조경, 동물자원, 농산물유통, 식품가공, 사진, 디자인-공예, 정보-컴퓨터, 전기-전자-통신, 기계-금속, 화공-섬유, 자연-환경, 건설, 요업, 인쇄, 상업정보, 수산-해양, 향해-기관, 냉동, 의상, 관광, 조리, 미용, 진로진학상담
A11: 나. 특수교과 : 위의 과목 앞에 특수를 붙인다. (예) 특수(국어), 특수(생물)
A12: 다. 비교과교사 : 중등(보건), 중등(영양), 중등(사서), 중등(전문상담) 등
A13: 4. 전출희망지: 위 칸은 도명(자동입력됨), 아래칸은 시명(구명) 입력
A14: (예) | B14: 소지자격 (1희망) | C14: 전출희망지 (2희망) | D14: 별거기간 (3희망)
B15: 중등1정 | C15: <자동입력> | D15: <자동입력>
B16: 강남구 | C16: 구로구 | D16: 강서구
A17: 5. 부부별거기간, 본도 근속경력, 교육총경력란은 전출 희망자의 해당 경력기간을 입력하면 자동계산되나 경력기간을
A18: 입력하기 전에 아래의 [타시도전출 희망자 신청서 작성방법]을 필독한다.
A19: 6. 전출기준: 신청서(detail 시트) 2Page 하단의 진노란색 셀의 전출기준란 중 위 칸에 순위(우선순위,1순위,2순위,3순위)를, 아래칸에는
A20: 기준(부부별거, 장애인부양 등)을 선택 입력하면 신청서 1 Page 상단의 전출기준은 자동 입력된다.
A21: 예) 2 순위
A22: 별거3년이상
A23: 7. 별거기간 산출 대상기간 구하기: 부부별거 기간이 없는 경우는 입력하지 않는다.
A24: * 부부별거기간 산출방법은 아래의 [타시도전출 희망자 신청서 작성방법]을 꼭 참조한다.
A25: * 별거기간 산출 기준일은 "경남교육청관내 공립학교 신규 임용일" 또는 "혼인관계증명서상 결혼일" 둘 중에 본인에게 해당되는 경우 한가지만 골라 "2024-2-29" 아래의 연노란색 셀에 입력한다.
A26: 8. 날짜를 입력하는 셀("부터", "까지")의 입력 형식은 반드시 YYYY-MM-DD(4자리 년-2자리 월-2자리 일)형식으로 입력한다.
A27: 9. 다음 각 항의 경력기간 구하기는 각각의 기간들("부터" - "까지")을 계산한 후 1개월을 30일로 계산하여 자동계산 된다.
A28: 1. 부부별거기간 산출대상에서 제외되는 기간 구하기
... A96: ※ 기타 : 휴직 중인 교사[단, 전출 일자(2024.03.01) 이전 복직(복귀) 예정자에 한함]는 **휴직으로 쓰고, 부부교사는 배우자 성명(근무처) 기재바람.

Sheet detail
A1: 2024.03.01. 타시도 | G1: 전출 | I1: 희망자 신청서 | AF1: =IF(OR(G1="전출",G1="교환"),"을","를") -> 을 | AG1: =IF(G1="전출","전출",IF(G1="파견","파견","파견연장")) -> 전출 | AH1: =IF(G1="전출","전출을 명함",IF(G1="파견","파견근무를 명함","파견연장 근무를 명함")) -> 전출을 명함 | AK1: 옆의 노란색 셀과 아래노란색 셀을 선택하고 작업 하세요
A3: 전출 희망시도 | B3: 교사구분 (전출과목) | C3: 소속 | D3: 성명 (남녀) | E3: 생년월일 neis개인코드 | F3: 소지자격 (1희망) | G3: 전출희망지 (2희망) | H3: (3희망) | I3: 전출순위 (전출내용) | J3: 별거기간 | K3: 본도근속 교육경력 | R3: 교육총경력 | S3: 최초임용일 (신규,전입) | T3: 연락처 (휴대폰)
A4: 서울 | B4: 국어 | C4: 경남교육고등학교 | D4: 홍길동 | E4: 820327 | F4: 국어1정 | G4: =IF(A4="","",A4) -> 서울 | I4: =IF(E81="","",E81) -> 전출2순위 | J4: =IF(V24=0,".",V24) -> 2.11 | K4: =V50 -> 13.06 | R4: =V78 -> 14 | S4: =TEXT(R53,"####")&"-"&TEXT(S53,"##")&"-"&TEXT(T53,"#") -> 2010-3-1 | T4: 010-1234-5678 | AK4: 지역 | AL4: 창원 | AM4: =IF(LEN(AL4)<>2,"두자로입력하십시오","") | AN4: =IF(OR(AL4="창원",AL4="김해"),"중등교육과장","교육지원과장") -> 중등교육과장
D5: 남 | E5: S100000000 | F5: 강남구 | G5: 구로구 | H5: 강서구 | I5: =IF(E82="","",E82) -> 장애인 부양 | S5: =TEXT(R32,"####")&"-"&TEXT(S32,"##")&"-"&TEXT(T32,"#") -> 2010-3-1 | AK5: 교감성명 | AL5: 이교감
A6: 별 거 기 간 | B6: 별거기간 산출 대상 기간 구하기( 해당란에 ○표) | AK6: 과장성명 | AM6: 교육지원청 과장님 성명
B7: 해당란 O표 | C7: ① ( ) | D7: 신규임용 전 결혼한 경우 | R7: 진노란색 셀은 필수 입력사항
C8: ② ( O ) | D8: 경남도교육청 관내 공립학교 신규임용 후 결혼한 경우 | R8: 연노란색 셀은 선택 입력사항 | AK8: 출력방향 | AL8: 학교용 | AM8: 학교용 / 지원청용
C9: ③ ( ) | D9: 타 시.도교육청 관내학교 신규임용 후 결혼한 경우
B10: ㉮ | C10: 별거기간 산출 기준일 | O10: =R11 -> 2015 | P10: =S11 -> 4 | Q10: =T11 -> 11 | R10: 2024 | S10: 2 | T10: 29 | U10: =R10 -> 2024 | V10: =S10 -> 2 | W10: =IF(V10=2,IF((ISERROR(SEARCH(U10,"19681972197619801984198819921996200020042008",1)))=TRUE,IF(T10<28,T10,30),IF(T10<29,T10,30)),IF(T10>30,30,T10)) -> 30 | X10: =IF(OR(O10>0,P10>0),IF(Q10>T10,IF(P10>=V10,U10-O10-1,U10-O10),IF(P10>V10,U10-O10-1,U10-O10))," ") -> 8 | Y10: =IF(OR(O10>0,P10>0),IF(Q10<=W10,IF(P10<=V10,V10-P10,V10+12-P10),IF(P10<V10,V10-P10-1,V10+12-P10-1))," ") -> 10 | Z10: =IF(O10="","",IF(Q10=31,IF(Q10<=W10,W10-Q10+2,W10+30-Q10+2),IF(Q10<=W10,W10-Q10+1,W10+30-Q10+1))) -> 20
B11: ㉯ | C11: 경남도교육청 관내 공립학교 신규임용(전입)일(①, ③) | R11: 2015 | S11: 4 | T11: 11
B12: ㉰ | C12: 혼인관계증명서 상 결혼일(②) | R12: ㉰의 경우도 바로 윗칸에 입력
B13: ㉱ | C13: 별거기간 산출 대상 기간〔㉱=㉮-(㉯ 또는 ㉰)〕 | R13: =IF(R11="",0,IF(O10>0,IF(Y10>=11,IF(Z10>=30,X10+1,X10),X10)," ")) -> 8 | S13: =IF(S11="",0,IF(AND(O10="",R10=""),"",IF(Z10>=30,IF(Y10>=11,0,Y10+1),Y10))) -> 10 | T13: =IF(T11="",0,IF(AND(O10="",R10=""),"",IF(Z10>=30,Z10-30,Z10))) -> 20
B14: 별거기간 산출 대상 기간(㉱)에서 제외되는 기간 합계(㉸) 구하기
C15: 별거기간에서 제외사유 | F15: 부터 | I15: 까지 | R15: 기간
F16: 년 | G16: 월 | H16: 일 | I16: 년 | J16: 월 | K16: 일 | R16: 년 | S16: 월 | T16: 일
B17: ㉲ | F17: 2017 | G17: 3 | H17: 14 | I17: 2023 | J17: 2 | K17: 28 | L17: =I17 -> 2023 | M17: =J17 -> 2 | N17: =IF(M17=2,IF((ISERROR(SEARCH(L17,"19681972197619801984198819921996200020042008",1)))=TRUE,IF(K17<28,K17,30),IF(K17<29,K17,30)),IF(K17>30,30,K17)) -> 30 | O17: =IF(OR(F17>0,G17>0),IF(H17>K17,IF(G17>=M17,L17-F17-1,L17-F17),IF(G17>M17,L17-F17-1,L17-F17))," ") -> 5 | P17: =IF(OR(F17>0,G17>0),IF(H17<=N17,IF(G17<=M17,M17-G17,M17+12-G17),IF(G17<M17,M17-G17-1,M17+12-G17-1))," ") -> 11 | Q17: =IF(F17="","",IF(H17=31,IF(H17<=N17,N17-H17+2,N17+30-H17+2),IF(H17<=N17,N17-H17+1,N17+30-H17+1))) -> 17 | R17: =IF(F17>0,IF(P17>=11,IF(Q17>=30,O17+1,O17),O17)," ") -> 5 | S17: =IF(AND(F17="",I17=""),"",IF(Q17>=30,IF(P17>=11,0,P17+1),P17)) -> 11 | T17: =IF(AND(F17="",I17=""),"",IF(Q17>=30,Q17-30,Q17)) -> 17
B18: ㉳ | L18: =I18 -> 0 | M18: =J18 -> 0 | N18: =IF(M18=2,IF((ISERROR(SEARCH(L18,"19681972197619801984198819921996200020042008",1)))=TRUE,IF(K18<28,K18,30),IF(K18<29,K18,30)),IF(K18>30,30,K18)) -> 0 | O18: =IF(OR(F18>0,G18>0),IF(H18>K18,IF(G18>=M18,L18-F18-1,L18-F18),IF(G18>M18,L18-F18-1,L18-F18))," ") | P18: =IF(OR(F18>0,G18>0),IF(H18<=N18,IF(G18<=M18,M18-G18,M18+12-G18),IF(G18<M18,M18-G18-1,M18+12-G18-1))," ") | Q18: =IF(F18="","",IF(H18=31,IF(H18<=N18,N18-H18+2,N18+30-H18+2),IF(H18<=N18,N18-H18+1,N18+30-H18+1))) | R18: =IF(F18>0,IF(P18>=11,IF(Q18>=30,O18+1,O18),O18)," ") | S18: =IF(AND(F18="",I18=""),"",IF(Q18>=30,IF(P18>=11,0,P18+1),P18)) | T18: =IF(AND(F18="",I18=""),"",IF(Q18>=30,Q18-30,Q18))
B19: ㉴ | L19: =I19 -> 0 | M19: =J19 -> 0 | N19: =IF(M19=2,IF((ISERROR(SEARCH(L19,"19681972197619801984198819921996200020042008",1)))=TRUE,IF(K19<28,K19,30),IF(K19<29,K19,30)),IF(K19>30,30,K19)) -> 0 | O19: =IF(OR(F19>0,G19>0),IF(H19>K19,IF(G19>=M19,L19-F19-1,L19-F19),IF(G19>M19,L19-F19-1,L19-F19))," ") | P19: =IF(OR(F19>0,G19>0),IF(H19<=N19,IF(G19<=M19,M19-G19,M19+12-G19),IF(G19<M19,M19-G19-1,M19+12-G19-1))," ") | Q19: =IF(F19="","",IF(H19=31,IF(H19<=N19,N19-H19+2,N19+30-H19+2),IF(H19<=N19,N19-H19+1,N19+30-H19+1))) | R19: =IF(F19>0,IF(P19>=11,IF(Q19>=30,O19+1,O19),O19)," ") | S19: =IF(AND(F19="",I19=""),"",IF(Q19>=30,IF(P19>=11,0,P19+1),P19)) | T19: =IF(AND(F19="",I19=""),"",IF(Q19>=30,Q19-30,Q19))
B20: ㉵ | L20: =I20 -> 0 | M20: =J20 -> 0 | N20: =IF(M20=2,IF((ISERROR(SEARCH(L20,"19681972197619801984198819921996200020042008",1)))=TRUE,IF(K20<28,K20,30),IF(K20<29,K20,30)),IF(K20>30,30,K20)) -> 0 | O20: =IF(OR(F20>0,G20>0),IF(H20>K20,IF(G20>=M20,L20-F20-1,L20-F20),IF(G20>M20,L20-F20-1,L20-F20))," ") | P20: =IF(OR(F20>0,G20>0),IF(H20<=N20,IF(G20<=M20,M20-G20,M20+12-G20),IF(G20<M20,M20-G20-1,M20+12-G20-1))," ") | Q20: =IF(F20="","",IF(H20=31,IF(H20<=N20,N20-H20+2,N20+30-H20+2),IF(H20<=N20,N20-H20+1,N20+30-H20+1))) | R20: =IF(F20>0,IF(P20>=11,IF(Q20>=30,O20+1,O20),O20)," ") | S20: =IF(AND(F20="",I20=""),"",IF(Q20>=30,IF(P20>=11,0,P20+1),P20)) | T20: =IF(AND(F20="",I20=""),"",IF(Q20>=30,Q20-30,Q20))
B21: ㉶ | L21: =I21 -> 0 | M21: =J21 -> 0 | N21: =IF(M21=2,IF((ISERROR(SEARCH(L21,"19681972197619801984198819921996200020042008",1)))=TRUE,IF(K21<28,K21,30),IF(K21<29,K21,30)),IF(K21>30,30,K21)) -> 0 | O21: =IF(OR(F21>0,G21>0),IF(H21>K21,IF(G21>=M21,L21-F21-1,L21-F21),IF(G21>M21,L21-F21-1,L21-F21))," ") | P21: =IF(OR(F21>0,G21>0),IF(H21<=N21,IF(G21<=M21,M21-G21,M21+12-G21),IF(G21<M21,M21-G21-1,M21+12-G21-1))," ") | Q21: =IF(F21="","",IF(H21=31,IF(H21<=N21,N21-H21+2,N21+30-H21+2),IF(H21<=N21,N21-H21+1,N21+30-H21+1))) | R21: =IF(F21>0,IF(P21>=11,IF(Q21>=30,O21+1,O21),O21)," ") | S21: =IF(AND(F21="",I21=""),"",IF(Q21>=30,IF(P21>=11,0,P21+1),P21)) | T21: =IF(AND(F21="",I21=""),"",IF(Q21>=30,Q21-30,Q21))
B22: ㉷ | C22: 별거기간 산출 대상 기간에서 제외되는 기간 합계 | R22: =SUM(R17:R21)+INT((SUM(S17:S21)+INT(SUM(T17:T21)/30))/12) -> 5 | S22: =MOD(SUM(S17:S21)+INT(SUM(T17:T21)/30),12) -> 11 | T22: =MOD(SUM(T17:T21),30) -> 17 | U22: 기간합계
B23: 실제 별거기간 (㉸) 구하기 | V23: =IF(S13-S22-W23>=0,0,1) -> 1 | W23: =IF(T13-T22>=0,0,1) -> 0
B24: ㉸ | C24: 실제 별거기간 (㉸=㉱-㉷) | R24: =R13-R22-V23 -> 2 | S24: =IF(S13-S22-W23>=0,S13-S22-W23,S13-S22-W23+12) -> 11 | T24: =IF(T13-T22>=0,T13-T22,T13-T22+30) -> 3 | V24: =R24+IF(S24*0.01+IF(T24>=15,1,0)*0.01>=0.12,1,S24*0.01+IF(T24>=15,1,0)*0.01) -> 2.11
B25: 첨부한 제출서류 목록( 첨부 자료 앞에 ○표)
B26: 제출서류(해당란에'0'표) | C26: ( ) | D26: 호봉발령사항 1부 | H26: 제출서류(해당란에'0'표) | I26: ( ) | J26: 배우자의 재직증명서 1부
C27: ( ) | D27: 가족관계증명서 1부 | I27: ( ) | J27: 배우자의 사업자 등록증 사본 1부
C28: ( ) | D28: 본인의 주민등록 초본 1부 | I28: ( ) | J28: 별거기간 입증 증빙자료 1부
C29: ( ) | D29: 배우자의 주민등록 초본 1부 | I29: ( ) | J29: 기타 증빙자료 1부
A30: 본도 근속 교육 경력 | B30: 본도 근속 교육 경력 구하기
B31: ㉮ | C31: 본도 근속교육경력 산출 기준일 | O31: =R32 -> 2010 | P31: =S32 -> 3 | Q31: =T32 -> 1 | R31: 2024 | S31: 2 | T31: 29 | U31: =R31 -> 2024 | V31: =S31 -> 2 | W31: =IF(V31=2,IF((ISERROR(SEARCH(U31,"19681972197619801984198819921996200020042008",1)))=TRUE,IF(T31<28,T31,30),IF(T31<29,T31,30)),IF(T31>30,30,T31)) -> 30 | X31: =IF(OR(O31>0,P31>0),IF(Q31>T31,IF(P31>=V31,U31-O31-1,U31-O31),IF(P31>V31,U31-O31-1,U31-O31))," ") -> 13 | Y31: =IF(OR(O31>0,P31>0),IF(Q31<=W31,IF(P31<=V31,V31-P31,V31+12-P31),IF(P31<V31,V31-P31-1,V31+12-P31-1))," ") -> 11 | Z31: =IF(O31="","",IF(Q31=31,IF(Q31<=W31,W31-Q31+2,W31+30-Q31+2),IF(Q31<=W31,W31-Q31+1,W31+30-Q31+1))) -> 30
B32: ㉯ | C32: 경남도교육청 관내 공립학교 신규임용(전입)일 | R32: 2010 | S32: 3 | T32: 1
B33: 본도 근속교육경력 산출 대상 기간
C34: 근무교 | F34: 부터 | I34: 까지 | R34: 기간
R35: 년 | S35: 월 | T35: 일
B36: 1 | F36: 2010 | G36: 3 | H36: 1 | I36: 2019 | J36: 2 | K36: 28 | L36: =I36 -> 2019 | M36: =J36 -> 2 | N36: =IF(M36=2,IF((ISERROR(SEARCH(L36,"19681972197619801984198819921996200020042008",1)))=TRUE,IF(K36<28,K36,30),IF(K36<29,K36,30)),IF(K36>30,30,K36)) -> 30 | O36: =IF(OR(F36>0,G36>0),IF(H36>K36,IF(G36>=M36,L36-F36-1,L36-F36),IF(G36>M36,L36-F36-1,L36-F36))," ") -> 8 | P36: =IF(OR(F36>0,G36>0),IF(H36<=N36,IF(G36<=M36,M36-G36,M36+12-G36),IF(G36<M36,M36-G36-1,M36+12-G36-1))," ") -> 11 | Q36: =IF(F36="","",IF(H36=31,IF(H36<=N36,N36-H36+2,N36+30-H36+2),IF(H36<=N36,N36-H36+1,N36+30-H36+1))) -> 30 | R36: =IF(F36>0,IF(P36>=11,IF(Q36>=30,O36+1,O36),O36)," ") -> 9 | S36: =IF(AND(F36="",I36=""),"",IF(Q36>=30,IF(P36>=11,0,P36+1),P36)) -> 0 | T36: =IF(AND(F36="",I36=""),"",IF(Q36>=30,Q36-30,Q36)) -> 0
B37: 2 | L37: =I37 -> 0 | M37: =J37 -> 0 | N37: =IF(M37=2,IF((ISERROR(SEARCH(L37,"19681972197619801984198819921996200020042008",1)))=TRUE,IF(K37<28,K37,30),IF(K37<29,K37,30)),IF(K37>30,30,K37)) -> 0 | O37: =IF(OR(F37>0,G37>0),IF(H37>K37,IF(G37>=M37,L37-F37-1,L37-F37),IF(G37>M37,L37-F37-1,L37-F37))," ") | P37: =IF(OR(F37>0,G37>0),IF(H37<=N37,IF(G37<=M37,M37-G37,M37+12-G37),IF(G37<M37,M37-G37-1,M37+12-G37-1))," ") | Q37: =IF(F37="","",IF(H37=31,IF(H37<=N37,N37-H37+2,N37+30-H37+2),IF(H37<=N37,N37-H37+1,N37+30-H37+1))) | R37: =IF(F37>0,IF(P37>=11,IF(Q37>=30,O37+1,O37),O37)," ") | S37: =IF(AND(F37="",I37=""),"",IF(Q37>=30,IF(P37>=11,0,P37+1),P37)) | T37: =IF(AND(F37="",I37=""),"",IF(Q37>=30,Q37-30,Q37))
B38: 3 | L38: =I38 -> 0 | M38: =J38 -> 0 | N38: =IF(M38=2,IF((ISERROR(SEARCH(L38,"19681972197619801984198819921996200020042008",1)))=TRUE,IF(K38<28,K38,30),IF(K38<29,K38,30)),IF(K38>30,30,K38)) -> 0 | O38: =IF(OR(F38>0,G38>0),IF(H38>K38,IF(G38>=M38,L38-F38-1,L38-F38),IF(G38>M38,L38-F38-1,L38-F38))," ") | P38: =IF(OR(F38>0,G38>0),IF(H38<=N38,IF(G38<=M38,M38-G38,M38+12-G38),IF(G38<M38,M38-G38-1,M38+12-G38-1))," ") | Q38: =IF(F38="","",IF(H38=31,IF(H38<=N38,N38-H38+2,N38+30-H38+2),IF(H38<=N38,N38-H38+1,N38+30-H38+1))) | R38: =IF(F38>0,IF(P38>=11,IF(Q38>=30,O38+1,O38),O38)," ") | S38: =IF(AND(F38="",I38=""),"",IF(Q38>=30,IF(P38>=11,0,P38+1),P38)) | T38: =IF(AND(F38="",I38=""),"",IF(Q38>=30,Q38-30,Q38))
B39: 4 | L39: =I39 -> 0 | M39: =J39 -> 0 | N39: =IF(M39=2,IF((ISERROR(SEARCH(L39,"19681972197619801984198819921996200020042008",1)))=TRUE,IF(K39<28,K39,30),IF(K39<29,K39,30)),IF(K39>30,30,K39)) -> 0 | O39: =IF(OR(F39>0,G39>0),IF(H39>K39,IF(G39>=M39,L39-F39-1,L39-F39),IF(G39>M39,L39-F39-1,L39-F39))," ") | P39: =IF(OR(F39>0,G39>0),IF(H39<=N39,IF(G39<=M39,M39-G39,M39+12-G39),IF(G39<M39,M39-G39-1,M39+12-G39-1))," ") | Q39: =IF(F39="","",IF(H39=31,IF(H39<=N39,N39-H39+2,N39+30-H39+2),IF(H39<=N39,N39-H39+1,N39+30-H39+1))) | R39: =IF(F39>0,IF(P39>=11,IF(Q39>=30,O39+1,O39),O39)," ") | S39: =IF(AND(F39="",I39=""),"",IF(Q39>=30,IF(P39>=11,0,P39+1),P39)) | T39: =IF(AND(F39="",I39=""),"",IF(Q39>=30,Q39-30,Q39))
B40: ㉰ | C40: 본도 근속교육경력 산출 대상 기간 합계(㉰=㉮-㉯) | R40: =IF(R32="",0,IF(O31>0,IF(Y31>=11,IF(Z31>=30,X31+1,X31),X31)," ")) -> 14 | S40: =IF(S32="",0,IF(AND(O31="",R31=""),"",IF(Z31>=30,IF(Y31>=11,0,Y31+1),Y31))) -> 0 | T40: =IF(T32="",0,IF(AND(O31="",R31=""),"",IF(Z31>=30,Z31-30,Z31))) -> 0 | U40: ㉮-㉯ | V40: =R40+IF(S40*0.01+IF(T40>=15,1,0)*0.01>=0.12,1,S40*0.01+IF(T40>=15,1,0)*0.01) -> 14
B41: 본도 근속교육경력 산출 대상 기간에서 제외되는 기간
...

Sheet dataa
A1: ="2024.3.1.자 타시도 "&detail!G1&"자 명부" -> 2024.3.1.자 타시도 전출자 명부
A3: 연번 | B3: 희망시도 | C3: 전출과목 (발령과목) | D3: 소속학교 | E3: 성명 | F3: 성별 | G3: 생년월일 | H3: 나이스개인코드 | I3: 소지자격 | J3: 1희망지 (시군구) | K3: 2희망지 (시군구) | L3: 3희망지 (시군구) | M3: 전출 순위 | N3: 전출 내용 | O3: 별거기간 | P3: 본도 근속경력 | Q3: 교육 총경력 | R3: 연락처(휴대폰)
B4: =detail!A4 -> 서울 | C4: =detail!B4 -> 국어 | D4: =detail!C4 -> 경남교육고등학교 | E4: =detail!D4 -> 홍길동 | F4: =detail!D5 -> 남 | G4: =detail!E4 -> 820327 | H4: =detail!E5 -> S100000000 | I4: =detail!F4 -> 국어1정 | J4: =detail!F5 -> 강남구 | K4: =detail!G5 -> 구로구 | L4: =detail!H5 -> 강서구 | M4: =detail!I4 -> 전출2순위 | N4: =detail!I5 -> 장애인 부양 | O4: =detail!J4 -> 2.11 | P4: =detail!K4 -> 13.06 | Q4: =detail!R4 -> 14 | R4: =detail!T4 -> 010-1234-5678

Sheet <서식3>인적사항
B1: <서식 3>
B3: ="2024.3.1.자 "&detail!G1&"자 인적사항" -> 2024.3.1.자 전출자 인적사항
C5: =detail!G1&" 희망시도: "&detail!A4 -> 전출 희망시도: 서울
G6: =detail!AL4 -> 창원
B7: 인 적 사 항 | C7: 소속 | D7: =detail!C4 -> 경남교육고등학교 | G7: 생년월일 | H7: =LEFT(detail!E4,2)&"."&MID(detail!E4,3,2)&"."&MID(detail!E4,5,2) -> 82.03.27
C8: 성명 | D8: =detail!D4 -> 홍길동 | E8: 직위 | F8: 교사 | G8: 교육총경력 | H8: =detail!R4 -> 14
C9: 현주소
C10: 전출희망지 (생활연고) | D10: 1희망( ), 2희망( ), 3희망( )
C11: 연락처 | D11: 자택 | E11: 휴대폰 | G11: 성별 | H11: =detail!D5 -> 남
D12: 055-123-4567 | E12: =detail!T4 -> 010-1234-5678
B13: =detail!G1&"사유 (구체적-간략)" -> 전출사유 (구체적-간략)
B15: ="※ "&detail!G1&" 희망지를 구체적으로 작성요(예, 00시, 00구, 00군 등), 학교 배정 시 참고자료가 됨." -> ※ 전출 희망지를 구체적으로 작성요(예, 00시, 00구, 00군 등), 학교 배정 시 참고자료가 됨.
