Workbook

Sheet 내역서
A1: 내 역 서
A2: [ 경상남도교육청 일위대가(2022년 하반기) ]
A3: 품 명 | B3: 규 격 | C3: 단위 | D3: 수량 | E3: 재 료 비 | G3: 노 무 비 | I3: 경 비 | K3: 합 계 | M3: 비 고 | N3: 품목코드 | O3: 변수 | P3: 설정 | Q3: 공종코드 | R3: 상위공종 | S3: 일위 | T3: 단산 | U3: 자재 | V3: 손료적용 | W3: 손료저장 | X3: 적용율 | Y3: JUK1 | Z3: JUK2 | AA3: JUK3 | AB3: JUK4 | AC3: JUK5 | AD3: JUK6 | AE3: JUK7 | AF3: JUK8 | AG3: JUK9 | AH3: JUK10 | AI3: JUK11 | AJ3: JUK12 | AK3: JUK13 | AL3: JUK14 | AM3: JUK15 | AN3: JUK16 | AO3: JUK17 | AP3: JUK18 | AQ3: JUK19 | AR3: JUK20 | AS3: 자재구분 | AT3: 공종레벨 | AU3: 공종구분 | AV3: 공종소계 | AW3: 공종+자재 | AX3: 고유번호 | AY3: 원가계산서 연결금액
E4: 단 가 | F4: 금 액 | G4: 단 가 | H4: 금 액 | I4: 단 가 | J4: 금 액 | K4: 단 가 | L4: 금 액
A5: 경상남도교육청 일위대가(2022년 하반기) | D5: 1 | E5: =SUMIF(R6:R1699, Q5, F6:F1699) -> 0 | F5: =TRUNC(E5*D5, 0) -> 0 | G5: =SUMIF(R6:R1699, Q5, H6:H1699) -> 0 | H5: =TRUNC(G5*D5, 0) -> 0 | I5: =SUMIF(R6:R1699, Q5, J6:J1699) -> 0 | J5: =TRUNC(I5*D5, 0) -> 0 | K5: =SUMIF(R6:R1699, Q5, L6:L1699) -> 0 | L5: =TRUNC(F5+H5+J5, 0) -> 0 | Q5: 01 | S5: F | T5: F | U5: F | AT5: 1 | AW5: 01 | AX5: 1
A6: 공통공사 | D6: 1 | E6: =SUMIF(R7:R1699, Q6, F7:F1699) -> 0 | F6: =TRUNC(E6*D6, 0) -> 0 | G6: =SUMIF(R7:R1699, Q6, H7:H1699) -> 0 | H6: =TRUNC(G6*D6, 0) -> 0 | I6: =SUMIF(R7:R1699, Q6, J7:J1699) -> 0 | J6: =TRUNC(I6*D6, 0) -> 0 | K6: =SUMIF(R7:R1699, Q6, L7:L1699) -> 0 | L6: =TRUNC(F6+H6+J6, 0) -> 0 | Q6: 0101 | R6: 01 | S6: F | T6: F | U6: F | AT6: 2 | AW6: 0101 | AX6: 2
A7: 가설공사 | D7: 1 | E7: =SUMIF(R8:R1699, Q7, F8:F1699) -> 0 | F7: =TRUNC(E7*D7, 0) -> 0 | G7: =SUMIF(R8:R1699, Q7, H8:H1699) -> 0 | H7: =TRUNC(G7*D7, 0) -> 0 | I7: =SUMIF(R8:R1699, Q7, J8:J1699) -> 0 | J7: =TRUNC(I7*D7, 0) -> 0 | K7: =SUMIF(R8:R1699, Q7, L8:L1699) -> 0 | L7: =TRUNC(F7+H7+J7, 0) -> 0 | Q7: 010101 | R7: 0101 | S7: F | T7: F | U7: F | AT7: 3 | AW7: 010101 | AX7: 3
A8: 가설건축물 | D8: 1 | E8: =SUMIF(R9:R1699, Q8, F9:F1699) -> 0 | F8: =TRUNC(E8*D8, 0) -> 0 | G8: =SUMIF(R9:R1699, Q8, H9:H1699) -> 0 | H8: =TRUNC(G8*D8, 0) -> 0 | I8: =SUMIF(R9:R1699, Q8, J9:J1699) -> 0 | J8: =TRUNC(I8*D8, 0) -> 0 | K8: =SUMIF(R9:R1699, Q8, L9:L1699) -> 0 | L8: =TRUNC(F8+H8+J8, 0) -> 0 | Q8: 01010101 | R8: 010101 | S8: F | T8: F | U8: F | AT8: 4 | AW8: 01010101 | AX8: 75
A9: (☞ 철재조립식 가설건축물 설치 및 해체)-------- | D9: 1 | E9: =SUM(F10:F11) -> 0 | F9: =TRUNC(E9*D9, 0) -> 0 | G9: =SUM(H10:H11) -> 0 | H9: =TRUNC(G9*D9, 0) -> 0 | I9: =SUM(J10:J11) -> 0 | J9: =TRUNC(I9*D9, 0) -> 0 | K9: =SUM(L10:L11) -> 0 | L9: =TRUNC(F9+H9+J9, 0) -> 0 | Q9: 0101010101 | R9: 01010101 | S9: F | T9: F | U9: F | AT9: 5 | AW9: 0101010101 | AX9: 58
A10: 철재조립식 가설건축물 설치 및 해체 | B10: 사무실 | C10: M2 | E10: =TRUNC(일위대가목록!E4,0) -> 0 | F10: =TRUNC(E10*D10, 0) -> 0 | G10: =TRUNC(일위대가목록!F4,0) -> 0 | H10: =TRUNC(G10*D10, 0) -> 0 | I10: =TRUNC(일위대가목록!G4,0) -> 94995 | J10: =TRUNC(I10*D10, 0) -> 0 | K10: =TRUNC(E10+G10+I10, 0) -> 94995 | L10: =TRUNC(F10+H10+J10, 0) -> 0 | N10: 5C60033F4B7563CC0C8D2CDFF15322 | Q10: 0101010101 | S10: T | T10: F | U10: F | AW10: 01010101015C60033F4B7563CC0C8D2CDFF15322 | AX10: 22
A11: 철재조립식 가설건축물 설치 및 해체 | B11: 창고 | C11: M2 | E11: =TRUNC(일위대가목록!E5,0) -> 0 | F11: =TRUNC(E11*D11, 0) -> 0 | G11: =TRUNC(일위대가목록!F5,0) -> 0 | H11: =TRUNC(G11*D11, 0) -> 0 | I11: =TRUNC(일위대가목록!G5,0) -> 74189 | J11: =TRUNC(I11*D11, 0) -> 0 | K11: =TRUNC(E11+G11+I11, 0) -> 74189 | L11: =TRUNC(F11+H11+J11, 0) -> 0 | N11: 5C60033F4B7563CC0C8D2CDFF1521B | Q11: 0101010101 | S11: T | T11: F | U11: F | AW11: 01010101015C60033F4B7563CC0C8D2CDFF1521B | AX11: 23
A12: (☞ 콘테이너형 가설건축물 설치 및 해체)------ | D12: 1 | E12: =SUM(F13:F18) -> 0 | F12: =TRUNC(E12*D12, 0) -> 0 | G12: =SUM(H13:H18) -> 0 | H12: =TRUNC(G12*D12, 0) -> 0 | I12: =SUM(J13:J18) -> 0 | J12: =TRUNC(I12*D12, 0) -> 0 | K12: =SUM(L13:L18) -> 0 | L12: =TRUNC(F12+H12+J12, 0) -> 0 | Q12: 0101010102 | R12: 01010101 | S12: F | T12: F | U12: F | AT12: 5 | AW12: 0101010102 | AX12: 59
A13: 콘테이너형 가설건축물 설치 | B13: 3.0*3.0*2.6m | C13: 개소 | E13: =TRUNC(일위대가목록!E6,0) -> 0 | F13: =TRUNC(E13*D13, 0) -> 0 | G13: =TRUNC(일위대가목록!F6,0) -> 0 | H13: =TRUNC(G13*D13, 0) -> 0 | I13: =TRUNC(일위대가목록!G6,0) -> 154953 | J13: =TRUNC(I13*D13, 0) -> 0 | K13: =TRUNC(E13+G13+I13, 0) -> 154953 | L13: =TRUNC(F13+H13+J13, 0) -> 0 | N13: 5C60033F4B756220488751143F5488 | Q13: 0101010102 | S13: T | T13: F | U13: F | AW13: 01010101025C60033F4B756220488751143F5488 | AX13: 25
A14: 콘테이너형 가설건축물 해체 | B14: 3.0*3.0*2.6m | C14: 개소 | E14: =TRUNC(일위대가목록!E7,0) -> 0 | F14: =TRUNC(E14*D14, 0) -> 0 | G14: =TRUNC(일위대가목록!F7,0) -> 0 | H14: =TRUNC(G14*D14, 0) -> 0 | I14: =TRUNC(일위대가목록!G7,0) -> 154953 | J14: =TRUNC(I14*D14, 0) -> 0 | K14: =TRUNC(E14+G14+I14, 0) -> 154953 | L14: =TRUNC(F14+H14+J14, 0) -> 0 | N14: 5C60033F4B756220488751143F548D | Q14: 0101010102 | S14: T | T14: F | U14: F | AW14: 01010101025C60033F4B756220488751143F548D | AX14: 29
A15: 콘테이너형 가설건축물 해체 | B15: 3.0*6.0*2.6m | C15: 개소 | E15: =TRUNC(일위대가목록!E8,0) -> 0 | F15: =TRUNC(E15*D15, 0) -> 0 | G15: =TRUNC(일위대가목록!F8,0) -> 0 | H15: =TRUNC(G15*D15, 0) -> 0 | I15: =TRUNC(일위대가목록!G8,0) -> 194557 | J15: =TRUNC(I15*D15, 0) -> 0 | K15: =TRUNC(E15+G15+I15, 0) -> 194557 | L15: =TRUNC(F15+H15+J15, 0) -> 0 | N15: 5C60033F4B756220488751143F5759 | Q15: 0101010102 | S15: T | T15: F | U15: F | AW15: 01010101025C60033F4B756220488751143F5759 | AX15: 26
A16: 콘테이너형 가설건축물 설치 | B16: 3.0*6.0*2.6m | C16: 개소 | E16: =TRUNC(일위대가목록!E9,0) -> 0 | F16: =TRUNC(E16*D16, 0) -> 0 | G16: =TRUNC(일위대가목록!F9,0) -> 0 | H16: =TRUNC(G16*D16, 0) -> 0 | I16: =TRUNC(일위대가목록!G9,0) -> 194557 | J16: =TRUNC(I16*D16, 0) -> 0 | K16: =TRUNC(E16+G16+I16, 0) -> 194557 | L16: =TRUNC(F16+H16+J16, 0) -> 0 | N16: 5C60033F4B756220488751143F575C | Q16: 0101010102 | S16: T | T16: F | U16: F | AW16: 01010101025C60033F4B756220488751143F575C | AX16: 30
A17: 콘테이너형 가설건축물 해체 | B17: 3.0*9.0*2.6m | C17: 개소 | E17: =TRUNC(일위대가목록!E10,0) -> 0 | F17: =TRUNC(E17*D17, 0) -> 0 | G17: =TRUNC(일위대가목록!F10,0) -> 0 | H17: =TRUNC(G17*D17, 0) -> 0 | I17: =TRUNC(일위대가목록!G10,0) -> 225308 | J17: =TRUNC(I17*D17, 0) -> 0 | K17: =TRUNC(E17+G17+I17, 0) -> 225308 | L17: =TRUNC(F17+H17+J17, 0) -> 0 | N17: 5C60033F4B756220488751143F56B3 | Q17: 0101010102 | S17: T | T17: F | U17: F | AW17: 01010101025C60033F4B756220488751143F56B3 | AX17: 27
A18: 콘테이너형 가설건축물 설치 | B18: 3.0*9.0*2.6m | C18: 개소 | E18: =TRUNC(일위대가목록!E11,0) -> 0 | F18: =TRUNC(E18*D18, 0) -> 0 | G18: =TRUNC(일위대가목록!F11,0) -> 0 | H18: =TRUNC(G18*D18, 0) -> 0 | I18: =TRUNC(일위대가목록!G11,0) -> 225308 | J18: =TRUNC(I18*D18, 0) -> 0 | K18: =TRUNC(E18+G18+I18, 0) -> 225308 | L18: =TRUNC(F18+H18+J18, 0) -> 0 | N18: 5C60033F4B756220488751143F56B6 | Q18: 0101010102 | S18: T | T18: F | U18: F | AW18: 01010101025C60033F4B756220488751143F56B6 | AX18: 28
A19: 가설 울타리 및 가설 방음벽 | D19: 1 | E19: =SUMIF(R20:R1699, Q19, F20:F1699) -> 0 | F19: =TRUNC(E19*D19, 0) -> 0 | G19: =SUMIF(R20:R1699, Q19, H20:H1699) -> 0 | H19: =TRUNC(G19*D19, 0) -> 0 | I19: =SUMIF(R20:R1699, Q19, J20:J1699) -> 0 | J19: =TRUNC(I19*D19, 0) -> 0 | K19: =SUMIF(R20:R1699, Q19, L20:L1699) -> 0 | L19: =TRUNC(F19+H19+J19, 0) -> 0 | Q19: 01010102 | R19: 010101 | S19: F | T19: F | U19: F | AT19: 4 | AW19: 01010102 | AX19: 76
A20: (☞ 강관 지주 설치 및 해체)----- | D20: 1 | E20: =SUM(F21:F24) -> 0 | F20: =TRUNC(E20*D20, 0) -> 0 | G20: =SUM(H21:H24) -> 0 | H20: =TRUNC(G20*D20, 0) -> 0 | I20: =SUM(J21:J24) -> 0 | J20: =TRUNC(I20*D20, 0) -> 0 | K20: =SUM(L21:L24) -> 0 | L20: =TRUNC(F20+H20+J20, 0) -> 0 | Q20: 0101010201 | R20: 01010102 | S20: F | T20: F | U20: F | AT20: 5 | AW20: 0101010201 | AX20: 60
A21: 강관 지주 설치 | B21: 지주높이 3.5m 이하 | C21: M | E21: =TRUNC(일위대가목록!E12,0) -> 0 | F21: =TRUNC(E21*D21, 0) -> 0 | G21: =TRUNC(일위대가목록!F12,0) -> 0 | H21: =TRUNC(G21*D21, 0) -> 0 | I21: =TRUNC(일위대가목록!G12,0) -> 12472 | J21: =TRUNC(I21*D21, 0) -> 0 | K21: =TRUNC(E21+G21+I21, 0) -> 12472 | L21: =TRUNC(F21+H21+J21, 0) -> 0 | N21: 5C60033C4E0266B6AF878F8CD85912 | Q21: 0101010201 | S21: T | T21: F | U21: F | AW21: 01010102015C60033C4E0266B6AF878F8CD85912 | AX21: 31
A22: 강관 지주 해체 | B22: 지주높이 3.5m 이하 | C22: M | E22: =TRUNC(일위대가목록!E13,0) -> 0 | F22: =TRUNC(E22*D22, 0) -> 0 | G22: =TRUNC(일위대가목록!F13,0) -> 0 | H22: =TRUNC(G22*D22, 0) -> 0 | I22: =TRUNC(일위대가목록!G13,0) -> 4925 | J22: =TRUNC(I22*D22, 0) -> 0 | K22: =TRUNC(E22+G22+I22, 0) -> 4925 | L22: =TRUNC(F22+H22+J22, 0) -> 0 | N22: 5C60033C4E0266B6AF878F8CD8580B | Q22: 0101010201 | S22: T | T22: F | U22: F | AW22: 01010102015C60033C4E0266B6AF878F8CD8580B | AX22: 32
A23: 강관 지주 설치 | B23: 지주높이 6m 이하 | C23: M | E23: =TRUNC(일위대가목록!E14,0) -> 0 | F23: =TRUNC(E23*D23, 0) -> 0 | G23: =TRUNC(일위대가목록!F14,0) -> 0 | H23: =TRUNC(G23*D23, 0) -> 0 | I23: =TRUNC(일위대가목록!G14,0) -> 17697 | J23: =TRUNC(I23*D23, 0) -> 0 | K23: =TRUNC(E23+G23+I23, 0) -> 17697 | L23: =TRUNC(F23+H23+J23, 0) -> 0 | N23: 5C60033C4E0266B6AF878F8CCE534F | Q23: 0101010201 | S23: T | T23: F | U23: F | AW23: 01010102015C60033C4E0266B6AF878F8CCE534F | AX23: 33
A24: 강관 지주 해체 | B24: 지주높이 6m 이하 | C24: M | E24: =TRUNC(일위대가목록!E15,0) -> 0 | F24: =TRUNC(E24*D24, 0) -> 0 | G24: =TRUNC(일위대가목록!F15,0) -> 0 | H24: =TRUNC(G24*D24, 0) -> 0 | I24: =TRUNC(일위대가목록!G15,0) -> 6904 | J24: =TRUNC(I24*D24, 0) -> 0 | K24: =TRUNC(E24+G24+I24, 0) -> 6904 | L24: =TRUNC(F24+H24+J24, 0) -> 0 | N24: 5C60033C4E0266B6AF878F8CCE52A8 | Q24: 0101010201 | S24: T | T24: F | U24: F | AW24: 01010102015C60033C4E0266B6AF878F8CCE52A8 | AX24: 34
A25: (☞ H형강 지주 설치 및 해체)----- | D25: 1 | E25: =SUM(F26:F29) -> 0 | F25: =TRUNC(E25*D25, 0) -> 0 | G25: =SUM(H26:H29) -> 0 | H25: =TRUNC(G25*D25, 0) -> 0 | I25: =SUM(J26:J29) -> 0 | J25: =TRUNC(I25*D25, 0) -> 0 | K25: =SUM(L26:L29) -> 0 | L25: =TRUNC(F25+H25+J25, 0) -> 0 | Q25: 0101010202 | R25: 01010102 | S25: F | T25: F | U25: F | AT25: 5 | AW25: 0101010202 | AX25: 61
A26: H형강 지주 설치 | B26: 지주높이 4m 이하 | C26: M | E26: =TRUNC(일위대가목록!E16,0) -> 0 | F26: =TRUNC(E26*D26, 0) -> 0 | G26: =TRUNC(일위대가목록!F16,0) -> 0 | H26: =TRUNC(G26*D26, 0) -> 0 | I26: =TRUNC(일위대가목록!G16,0) -> 24864 | J26: =TRUNC(I26*D26, 0) -> 0 | K26: =TRUNC(E26+G26+I26, 0) -> 24864 | L26: =TRUNC(F26+H26+J26, 0) -> 0 | N26: 5C60033C4E0266B6AF878FAFB855B3 | Q26: 0101010202 | S26: T | T26: F | U26: F | AW26: 01010102025C60033C4E0266B6AF878FAFB855B3 | AX26: 37
A27: H형강 지주 해체 | B27: 지주높이 4m 이하 | C27: M | E27: =TRUNC(일위대가목록!E17,0) -> 0 | F27: =TRUNC(E27*D27, 0) -> 0 | G27: =TRUNC(일위대가목록!F17,0) -> 0 | H27: =TRUNC(G27*D27, 0) -> 0 | I27: =TRUNC(일위대가목록!G17,0) -> 9998 | J27: =TRUNC(I27*D27, 0) -> 0 | K27: =TRUNC(E27+G27+I27, 0) -> 9998 | L27: =TRUNC(F27+H27+J27, 0) -> 0 | N27: 5C60033C4E0266B6AF878FAFB854AC | Q27: 0101010202 | S27: T | T27: F | U27: F | AW27: 01010102025C60033C4E0266B6AF878FAFB854AC | AX27: 38
A28: H형강 지주 설치 | B28: 지주높이 7m 이하 | C28: M | E28: =TRUNC(일위대가목록!E18,0) -> 0 | F28: =TRUNC(E28*D28, 0) -> 0 | G28: =TRUNC(일위대가목록!F18,0) -> 0 | H28: =TRUNC(G28*D28, 0) -> 0 | I28: =TRUNC(일위대가목록!G18,0) -> 43343 | J28: =TRUNC(I28*D28, 0) -> 0 | K28: =TRUNC(E28+G28+I28, 0) -> 43343 | L28: =TRUNC(F28+H28+J28, 0) -> 0 | N28: 5C60033C4E0266B6AF878FAFAF5EE1 | Q28: 0101010202 | S28: T | T28: F | U28: F | AW28: 01010102025C60033C4E0266B6AF878FAFAF5EE1 | AX28: 39
A29: H형강 지주 해체 | B29: 지주높이 7m 이하 | C29: M | E29: =TRUNC(일위대가목록!E19,0) -> 0 | F29: =TRUNC(E29*D29, 0) -> 0 | G29: =TRUNC(일위대가목록!F19,0) -> 0 | H29: =TRUNC(G29*D29, 0) -> 0 | I29: =TRUNC(일위대가목록!G19,0) -> 17456 | J29: =TRUNC(I29*D29, 0) -> 0 | K29: =TRUNC(E29+G29+I29, 0) -> 17456 | L29: =TRUNC(F29+H29+J29, 0) -> 0 | N29: 5C60033C4E0266B6AF878FAFAF5F87 | Q29: 0101010202 | S29: T | T29: F | U29: F | AW29: 01010102025C60033C4E0266B6AF878FAFAF5F87 | AX29: 40
A30: (☞ 가설울타리판 설치 및 해체)----- | D30: 1 | E30: =SUM(F31:F34) -> 0 | F30: =TRUNC(E30*D30, 0) -> 0 | G30: =SUM(H31:H34) -> 0 | H30: =TRUNC(G30*D30, 0) -> 0 | I30: =SUM(J31:J34) -> 0 | J30: =TRUNC(I30*D30, 0) -> 0 | K30: =SUM(L31:L34) -> 0 | L30: =TRUNC(F30+H30+J30, 0) -> 0 | Q30: 0101010203 | R30: 01010102 | S30: F | T30: F | U30: F | AT30: 5 | AW30: 0101010203 | AX30: 62
A31: 가설울타리판 설치 | B31: 설치높이 3m 이하 | C31: M | E31: =TRUNC(일위대가목록!E20,0) -> 0 | F31: =TRUNC(E31*D31, 0) -> 0 | G31: =TRUNC(일위대가목록!F20,0) -> 0 | H31: =TRUNC(G31*D31, 0) -> 0 | I31: =TRUNC(일위대가목록!G20,0) -> 8629 | J31: =TRUNC(I31*D31, 0) -> 0 | K31: =TRUNC(E31+G31+I31, 0) -> 8629 | L31: =TRUNC(F31+H31+J31, 0) -> 0 | N31: 5C60033C4E0266B4F88B8D694C5D2E | Q31: 0101010203 | S31: T | T31: F | U31: F | AW31: 01010102035C60033C4E0266B4F88B8D694C5D2E | AX31: 42
A32: 가설울타리판 해체 | B32: 설치높이 3m 이하 | C32: M | E32: =TRUNC(일위대가목록!E21,0) -> 0 | F32: =TRUNC(E32*D32, 0) -> 0 | G32: =TRUNC(일위대가목록!F21,0) -> 0 | H32: =TRUNC(G32*D32, 0) -> 0 | I32: =TRUNC(일위대가목록!G21,0) -> 3404 | J32: =TRUNC(I32*D32, 0) -> 0 | K32: =TRUNC(E32+G32+I32, 0) -> 3404 | L32: =TRUNC(F32+H32+J32, 0) -> 0 | N32: 5C60033C4E0266B4F88B8D694C5C08 | Q32: 0101010203 | S32: T | T32: F | U32: F | AW32: 01010102035C60033C4E0266B4F88B8D694C5C08 | AX32: 43
A33: 가설울타리판 설치 | B33: 설치높이 6m 이하 | C33: M | E33: =TRUNC(일위대가목록!E22,0) -> 0 | F33: =TRUNC(E33*D33, 0) -> 0 | G33: =TRUNC(일위대가목록!F22,0) -> 0 | H33: =TRUNC(G33*D33, 0) -> 0 | I33: =TRUNC(일위대가목록!G22,0) -> 10054 | J33: =TRUNC(I33*D33, 0) -> 0 | K33: =TRUNC(E33+G33+I33, 0) -> 10054 | L33: =TRUNC(F33+H33+J33, 0) -> 0 | N33: 5C60033C4E0266B4F88B8D695D5400 | Q33: 0101010203 | S33: T | T33: F | U33: F | AW33: 01010102035C60033C4E0266B4F88B8D695D5400 | AX33: 44
A34: 가설울타리판 해체 | B34: 설치높이 6m 이하 | C34: M | E34: =TRUNC(일위대가목록!E23,0) -> 0 | F34: =TRUNC(E34*D34, 0) -> 0 | G34: =TRUNC(일위대가목록!F23,0) -> 0 | H34: =TRUNC(G34*D34, 0) -> 0 | I34: =TRUNC(일위대가목록!G23,0) -> 4116 | J34: =TRUNC(I34*D34, 0) -> 0 | K34: =TRUNC(E34+G34+I34, 0) -> 4116 | L34: =TRUNC(F34+H34+J34, 0) -> 0 | N34: 5C60033C4E0266B4F88B8D695D5527 | Q34: 0101010203 | S34: T | T34: F | U34: F | AW34: 01010102035C60033C4E0266B4F88B8D695D5527 | AX34: 45
A35: (☞ 세로형 가설방음판 설치 및 해체)----- | D35: 1 | E35: =SUM(F36:F39) -> 0 | F35: =TRUNC(E35*D35, 0) -> 0 | G35: =SUM(H36:H39) -> 0 | H35: =TRUNC(G35*D35, 0) -> 0 | I35: =SUM(J36:J39) -> 0 | J35: =TRUNC(I35*D35, 0) -> 0 | K35: =SUM(L36:L39) -> 0 | L35: =TRUNC(F35+H35+J35, 0) -> 0 | Q35: 0101010204 | R35: 01010102 | S35: F | T35: F | U35: F | AT35: 5 | AW35: 0101010204 | AX35: 63
A36: 세로형 가설방음판 설치 | B36: 설치높이 3m 이하 | C36: M | E36: =TRUNC(일위대가목록!E24,0) -> 0 | F36: =TRUNC(E36*D36, 0) -> 0 | G36: =TRUNC(일위대가목록!F24,0) -> 0 | H36: =TRUNC(G36*D36, 0) -> 0 | I36: =TRUNC(일위대가목록!G24,0) -> 8075 | J36: =TRUNC(I36*D36, 0) -> 0 | K36: =TRUNC(E36+G36+I36, 0) -> 8075 | L36: =TRUNC(F36+H36+J36, 0) -> 0 | N36: 5C60033C4E0266B4F88B8D4E7758B8 | Q36: 0101010204 | S36: T | T36: F | U36: F | AW36: 01010102045C60033C4E0266B4F88B8D4E7758B8 | AX36: 47
A37: 세로형 가설방음판 해체 | B37: 설치높이 3m 이하 | C37: M | E37: =TRUNC(일위대가목록!E25,0) -> 0 | F37: =TRUNC(E37*D37, 0) -> 0 | G37: =TRUNC(일위대가목록!F25,0) -> 0 | H37: =TRUNC(G37*D37, 0) -> 0 | I37: =TRUNC(일위대가목록!G25,0) -> 3245 | J37: =TRUNC(I37*D37, 0) -> 0 | K37: =TRUNC(E37+G37+I37, 0) -> 3245 | L37: =TRUNC(F37+H37+J37, 0) -> 0 | N37: 5C60033C4E0266B4F88B8D4E77595F | Q37: 0101010204 | S37: T | T37: F | U37: F | AW37: 01010102045C60033C4E0266B4F88B8D4E77595F | AX37: 48
A38: 세로형 가설방음판 설치 | B38: 설치높이 6m 이하 | C38: M | E38: =TRUNC(일위대가목록!E26,0) -> 0 | F38: =TRUNC(E38*D38, 0) -> 0 | G38: =TRUNC(일위대가목록!F26,0) -> 0 | H38: =TRUNC(G38*D38, 0) -> 0 | I38: =TRUNC(일위대가목록!G26,0) -> 9341 | J38: =TRUNC(I38*D38, 0) -> 0 | K38: =TRUNC(E38+G38+I38, 0) -> 9341 | L38: =TRUNC(F38+H38+J38, 0) -> 0 | N38: 5C60033C4E0266B4F88B8D4E6551AF | Q38: 0101010204 | S38: T | T38: F | U38: F | AW38: 01010102045C60033C4E0266B4F88B8D4E6551AF | AX38: 49
A39: 세로형 가설방음판 해체 | B39: 설치높이 6m 이하 | C39: M | E39: =TRUNC(일위대가목록!E27,0) -> 0 | F39: =TRUNC(E39*D39, 0) -> 0 | G39: =TRUNC(일위대가목록!F27,0) -> 0 | H39: =TRUNC(G39*D39, 0) -> 0 | I39: =TRUNC(일위대가목록!G27,0) -> 3681 | J39: =TRUNC(I39*D39, 0) -> 0 | K39: =TRUNC(E39+G39+I39, 0) -> 3681 | L39: =TRUNC(F39+H39+J39, 0) -> 0 | N39: 5C60033C4E0266B4F88B8D4E655088 | Q39: 0101010204 | S39: T | T39: F | U39: F | AW39: 01010102045C60033C4E0266B4F88B8D4E655088 | AX39: 50
A40: (☞ 가로형 가설방음판 설치 및 해체)----- | D40: 1 | E40: =SUM(F41:F44) -> 0 | F40: =TRUNC(E40*D40, 0) -> 0 | G40: =SUM(H41:H44) -> 0 | H40: =TRUNC(G40*D40, 0) -> 0 | I40: =SUM(J41:J44) -> 0 | J40: =TRUNC(I40*D40, 0) -> 0 | K40: =SUM(L41:L44) -> 0 | L40: =TRUNC(F40+H40+J40, 0) -> 0 | Q40: 0101010205 | R40: 01010102 | S40: F | T40: F | U40: F | AT40: 5 | AW40: 0101010205 | AX40: 64
A41: 가로형 가설방음판 설치 | B41: 설치높이 3m 이하 | C41: M | E41: =TRUNC(일위대가목록!E28,0) -> 0 | F41: =TRUNC(E41*D41, 0) -> 0 | G41: =TRUNC(일위대가목록!F28,0) -> 0 | H41: =TRUNC(G41*D41, 0) -> 0 | I41: =TRUNC(일위대가목록!G28,0) -> 29356 | J41: =TRUNC(I41*D41, 0) -> 0 | K41: =TRUNC(E41+G41+I41, 0) -> 29356 | L41: =TRUNC(F41+H41+J41, 0) -> 0 | N41: 5C60033C4E0266B4F88B8D239D5D66 | Q41: 0101010205 | S41: T | T41: F | U41: F | AW41: 01010102055C60033C4E0266B4F88B8D239D5D66 | AX41: 54
A42: 가로형 가설방음판 해체 | B42: 설치높이 3m 이하 | C42: M | E42: =TRUNC(일위대가목록!E29,0) -> 0 | F42: =TRUNC(E42*D42, 0) -> 0 | G42: =TRUNC(일위대가목록!F29,0) -> 0 | H42: =TRUNC(G42*D42, 0) -> 0 | I42: =TRUNC(일위대가목록!G29,0) -> 11734 | J42: =TRUNC(I42*D42, 0) -> 0 | K42: =TRUNC(E42+G42+I42, 0) -> 11734 | L42: =TRUNC(F42+H42+J42, 0) -> 0 | N42: 5C60033C4E0266B4F88B8D239D5C5F | Q42: 0101010205 | S42: T | T42: F | U42: F | AW42: 01010102055C60033C4E0266B4F88B8D239D5C5F | AX42: 55
A43: 가로형 가설방음판 설치 | B43: 설치높이 6m 이하 | C43: M | E43: =TRUNC(일위대가목록!E30,0) -> 0 | F43: =TRUNC(E43*D43, 0) -> 0 | G43: =TRUNC(일위대가목록!F30,0) -> 0 | H43: =TRUNC(G43*D43, 0) -> 0 | I43: =TRUNC(일위대가목록!G30,0) -> 34206 | J43: =TRUNC(I43*D43, 0) -> 0 | K43: =TRUNC(E43+G43+I43, 0) -> 34206 | L43: =TRUNC(F43+H43+J43, 0) -> 0 | N43: 5C60033C4E0266B4F88B8D238357C3 | Q43: 0101010205 | S43: T | T43: F | U43: F | AW43: 01010102055C60033C4E0266B4F88B8D238357C3 | AX43: 56
A44: 가로형 가설방음판 해체 | B44: 설치높이 6m 이하 | C44: M | E44: =TRUNC(일위대가목록!E31,0) -> 0 | F44: =TRUNC(E44*D44, 0) -> 0 | G44: =TRUNC(일위대가목록!F31,0) -> 0 | H44: =TRUNC(G44*D44, 0) -> 0 | I44: =TRUNC(일위대가목록!G31,0) -> 13769 | J44: =TRUNC(I44*D44, 0) -> 0 | K44: =TRUNC(E44+G44+I44, 0) -> 13769 | L44: =TRUNC(F44+H44+J44, 0) -> 0 | N44: 5C60033C4E0266B4F88B8D2383563C | Q44: 0101010205 | S44: T | T44: F | U44: F | AW44: 01010102055C60033C4E0266B4F88B8D2383563C | AX44: 57
A45: 규준틀 | D45: 1 | E45: =SUMIF(R46:R1699, Q45, F46:F1699) -> 0 | F45: =TRUNC(E45*D45, 0) -> 0 | G45: =SUMIF(R46:R1699, Q45, H46:H1699) -> 0 | H45: =TRUNC(G45*D45, 0) -> 0 | I45: =SUMIF(R46:R1699, Q45, J46:J1699) -> 0 | J45: =TRUNC(I45*D45, 0) -> 0 | K45: =SUMIF(R46:R1699, Q45, L46:L1699) -> 0 | L45: =TRUNC(F45+H45+J45, 0) -> 0 | Q45: 01010103 | R45: 010101 | S45: F | T45: F | U45: F | AT45: 4 | AW45: 01010103 | AX45: 77
A46: (☞ 토공의 비탈 규준틀)------- | D46: 1 | E46: =SUM(F47:F47) -> 0 | F46: =TRUNC(E46*D46, 0) -> 0 | G46: =SUM(H47:H47) -> 0 | H46: =TRUNC(G46*D46, 0) -> 0 | I46: =SUM(J47:J47) -> 0 | J46: =TRUNC(I46*D46, 0) -> 0 | K46: =SUM(L47:L47) -> 0 | L46: =TRUNC(F46+H46+J46, 0) -> 0 | Q46: 0101010301 | R46: 01010103 | S46: F | T46: F | U46: F | AT46: 5 | AW46: 0101010301 | AX46: 65
A47: 토공의 비탈 규준틀 | B47: 재료 별도 | C47: 개소 | E47: =TRUNC(일위대가목록!E32,0) -> 0 | F47: =TRUNC(E47*D47, 0) -> 0 | G47: =TRUNC(일위대가목록!F32,0) -> 60334 | H47: =TRUNC(G47*D47, 0) -> 0 | I47: =TRUNC(일위대가목록!G32,0) -> 0 | J47: =TRUNC(I47*D47, 0) -> 0 | K47: =TRUNC(E47+G47+I47, 0) -> 60334 | L47: =TRUNC(F47+H47+J47, 0) -> 0 | N47: 5C60033C4E2E6CB2428FA0658C52D7 | Q47: 0101010301 | S47: T | T47: F | U47: F | AW47: 01010103015C60033C4E2E6CB2428FA0658C52D7 | AX47: 52
A48: (☞ 도로용 수평규준틀)------- | D48: 1 | E48: =SUM(F49:F51) -> 0 | F48: =TRUNC(E48*D48, 0) -> 0 | G48: =SUM(H49:H51) -> 0 | H48: =TRUNC(G48*D48, 0) -> 0 | I48: =SUM(J49:J51) -> 0 | J48: =TRUNC(I48*D48, 0) -> 0 | K48: =SUM(L49:L51) -> 0 | L48: =TRUNC(F48+H48+J48, 0) -> 0 | Q48: 0101010302 | R48: 01010103 | S48: F | T48: F | U48: F | AT48: 5 | AW48: 0101010302 | AX48: 68
A49: 목재 규준틀 | B49: - 재료비 별도 - | C49: 개소 | E49: =TRUNC(일위대가목록!E33,0) -> 0 | F49: =TRUNC(E49*D49, 0) -> 0 | G49: =TRUNC(일위대가목록!F33,0) -> 80149 | H49: =TRUNC(G49*D49, 0) -> 0 | I49: =TRUNC(일위대가목록!G33,0) -> 0 | J49: =TRUNC(I49*D49, 0) -> 0 | K49: =TRUNC(E49+G49+I49, 0) -> 80149 | L49: =TRUNC(F49+H49+J49, 0) -> 0 | N49: 5C4353FA47DB63A2C386A221195723 | Q49: 0101010302 | S49: T | T49: F | U49: F | AW49: 01010103025C4353FA47DB63A2C386A221195723 | AX49: 67
A50: 철재 규준틀 | B50: 5m이하(재료비 별도) | C50: 개소 | E50: =TRUNC(일위대가목록!E34,0) -> 0 | F50: =TRUNC(E50*D50, 0) -> 0 | G50: =TRUNC(일위대가목록!F34,0) -> 52408 | H50: =TRUNC(G50*D50, 0) -> 0 | I50: =TRUNC(일위대가목록!G34,0) -> 0 | J50: =TRUNC(I50*D50, 0) -> 0 | K50: =TRUNC(E50+G50+I50, 0) -> 52408 | L50: =TRUNC(F50+H50+J50, 0) -> 0 | N50: 5C4353FA47DB63A2C386A2212B5ECD | Q50: 0101010302 | S50: T | T50: F | U50: F | AW50: 01010103025C4353FA47DB63A2C386A2212B5ECD | AX50: 69
A51: 철재 규준틀 | B51: 10m이하(재료비 별도) | C51: 개소 | E51: =TRUNC(일위대가목록!E35,0) -> 0 | F51: =TRUNC(E51*D51, 0) -> 0 | G51: =TRUNC(일위대가목록!F35,0) -> 62761 | H51: =TRUNC(G51*D51, 0) -> 0 | I51: =TRUNC(일위대가목록!G35,0) -> 0 | J51: =TRUNC(I51*D51, 0) -> 0 | K51: =TRUNC(E51+G51+I51, 0) -> 62761 | L51: =TRUNC(F51+H51+J51, 0) -> 0 | N51: 5C4353FA47DB63A2C386A22134559F | Q51: 0101010302 | S51: T | T51: F | U51: F | AW51: 01010103025C4353FA47DB63A2C386A22134559F | AX51: 70
A52: (☞ 평·귀규준틀 설치 및 철거)------- | D52: 1 | E52: =SUM(F53:F54) -> 0 | F52: =TRUNC(E52*D52, 0) -> 0 | G52: =SUM(H53:H54) -> 0 | H52: =TRUNC(G52*D52, 0) -> 0 | I52: =SUM(J53:J54) -> 0 | J52: =TRUNC(I52*D52, 0) -> 0 | K52: =SUM(L53:L54) -> 0 | L52: =TRUNC(F52+H52+J52, 0) -> 0 | Q52: 0101010303 | R52: 01010103 | S52: F | T52: F | U52: F | AT52: 5 | AW52: 0101010303 | AX52: 74
A53: 수평 규준틀 | B53: 평 | C53: 개소 | E53: =TRUNC(일위대가목록!E36,0) -> 4973 | F53: =TRUNC(E53*D53, 0) -> 0 | G53: =TRUNC(일위대가목록!F36,0) -> 82495 | H53: =TRUNC(G53*D53, 0) -> 0 | I53: =TRUNC(일위대가목록!G36,0) -> 0 | J53: =TRUNC(I53*D53, 0) -> 0 | K53: =TRUNC(E53+G53+I53, 0) -> 87468 | L53: =TRUNC(F53+H53+J53, 0) -> 0 | N53: 5C60033C4E2E6CB2428FA077FE5C58 | Q53: 0101010303 | S53: T | T53: F | U53: F | AW53: 01010103035C60033C4E2E6CB2428FA077FE5C58 | AX53: 72
A54: 수평 규준틀 | B54: 귀 | C54: 개소 | E54: =TRUNC(일위대가목록!E37,0) -> 8137 | F54: =TRUNC(E54*D54, 0) -> 0 | G54: =TRUNC(일위대가목록!F37,0) -> 141941 | H54: =TRUNC(G54*D54, 0) -> 0 | I54: =TRUNC(일위대가목록!G37,0) -> 0 | J54: =TRUNC(I54*D54, 0) -> 0 | K54: =TRUNC(E54+G54+I54, 0) -> 150078 | L54: =TRUNC(F54+H54+J54, 0) -> 0 | N54: 5C60033C4E2E6CB2428FA04AB05DF9 | Q54: 0101010303 | S54: T | T54: F | U54: F | AW54: 01010103035C60033C4E2E6CB2428FA04AB05DF9 | AX54: 73
A55: 동바리 | D55: 1 | E55: =SUMIF(R56:R1699, Q55, F56:F1699) -> 0 | F55: =TRUNC(E55*D55, 0) -> 0 | G55: =SUMIF(R56:R1699, Q55, H56:H1699) -> 0 | H55: =TRUNC(G55*D55, 0) -> 0 | I55: =SUMIF(R56:R1699, Q55, J56:J1699) -> 0 | J55: =TRUNC(I55*D55, 0) -> 0 | K55: =SUMIF(R56:R1699, Q55, L56:L1699) -> 0 | L55: =TRUNC(F55+H55+J55, 0) -> 0 | Q55: 01010104 | R55: 010101 | S55: F | T55: F | U55: F | AT55: 4 | AW55: 01010104 | AX55: 88
A56: (☞ 강관동바리)--------- | D56: 1 | E56: =SUM(F57:F68) -> 0 | F56: =TRUNC(E56*D56, 0) -> 0 | G56: =SUM(H57:H68) -> 0 | H56: =TRUNC(G56*D56, 0) -> 0 | I56: =SUM(J57:J68) -> 0 | J56: =TRUNC(I56*D56, 0) -> 0 | K56: =SUM(L57:L68) -> 0 | L56: =TRUNC(F56+H56+J56, 0) -> 0 | Q56: 0101010401 | R56: 01010104 | S56: F | T56: F | U56: F | AT56: 5 | AW56: 0101010401 | AX56: 89
A57: 강관동바리설치간격 0.6m 이하 | B57: H=0∼2.5이하(재료비별도) | C57: 공M3 | E57: =TRUNC(일위대가목록!E38,0) -> 0 | F57: =TRUNC(E57*D57, 0) -> 0 | G57: =TRUNC(일위대가목록!F38,0) -> 19837 | H57: =TRUNC(G57*D57, 0) -> 0 | I57: =TRUNC(일위대가목록!G38,0) -> 0 | J57: =TRUNC(I57*D57, 0) -> 0 | K57: =TRUNC(E57+G57+I57, 0) -> 19837 | L57: =TRUNC(F57+H57+J57, 0) -> 0 | N57: 5C4353FF4E37619A2D8EE717045735 | Q57: 0101010401 | S57: T | T57: F | U57: F | AW57: 01010104015C4353FF4E37619A2D8EE717045735 | AX57: 78
A58: 강관동바리설치간격 0.6초과, 0.8m 이하 | B58: H=0∼2.5이하(재료비별도) | C58: 공M3 | E58: =TRUNC(일위대가목록!E39,0) -> 0 | F58: =TRUNC(E58*D58, 0) -> 0 | G58: =TRUNC(일위대가목록!F39,0) -> 16531 | H58: =TRUNC(G58*D58, 0) -> 0 | I58: =TRUNC(일위대가목록!G39,0) -> 0 | J58: =TRUNC(I58*D58, 0) -> 0 | K58: =TRUNC(E58+G58+I58, 0) -> 16531 | L58: =TRUNC(F58+H58+J58, 0) -> 0 | N58: 5C4353FF4E37619A2D8EE7219F5FF9 | Q58: 0101010401 | S58: T | T58: F | U58: F | AW58: 01010104015C4353FF4E37619A2D8EE7219F5FF9 | AX58: 79
A59: 강관동바리설치간격 0.8m 초과 | B59: H=0∼2.5이하(재료비별도) | C59: 공M3 | E59: =TRUNC(일위대가목록!E40,0) -> 0 | F59: =TRUNC(E59*D59, 0) -> 0 | G59: =TRUNC(일위대가목록!F40,0) -> 14878 | H59: =TRUNC(G59*D59, 0) -> 0 | I59: =TRUNC(일위대가목록!G40,0) -> 0 | J59: =TRUNC(I59*D59, 0) -> 0 | K59: =TRUNC(E59+G59+I59, 0) -> 14878 | L59: =TRUNC(F59+H59+J59, 0) -> 0 | N59: 5C4353FF4E37619A2D8EE733ED5B47 | Q59: 0101010401 | S59: T | T59: F | U59: F | AW59: 01010104015C4353FF4E37619A2D8EE733ED5B47 | AX59: 80
A60: 강관동바리설치간격 0.6m 이하 | B60: H=2.5초과, 3.5m 이하(재료비별도) | C60: 공M3 | E60: =TRUNC(일위대가목록!E41,0) -> 0 | F60: =TRUNC(E60*D60, 0) -> 0 | G60: =TRUNC(일위대가목록!F41,0) -> 21389 | H60: =TRUNC(G60*D60, 0) -> 0 | I60: =TRUNC(일위대가목록!G41,0) -> 0 | J60: =TRUNC(I60*D60, 0) -> 0 | K60: =TRUNC(E60+G60+I60, 0) -> 21389 | L60: =TRUNC(F60+H60+J60, 0) -> 0 | N60: 5C4353FF4E37619A2D8EE733ED5AA0 | Q60: 0101010401 | S60: T | T60: F | U60: F | AW60: 01010104015C4353FF4E37619A2D8EE733ED5AA0 | AX60: 81
A61: 강관동바리설치간격 0.6초과, 0.8m 이하 | B61: H=2.5초과, 3.5m 이하(재료비별도) | C61: 공M3 | E61: =TRUNC(일위대가목록!E42,0) -> 0 | F61: =TRUNC(E61*D61, 0) -> 0 | G61: =TRUNC(일위대가목록!F42,0) -> 17824 | H61: =TRUNC(G61*D61, 0) -> 0 | I61: =TRUNC(일위대가목록!G42,0) -> 0 | J61: =TRUNC(I61*D61, 0) -> 0 | K61: =TRUNC(E61+G61+I61, 0) -> 17824 | L61: =TRUNC(F61+H61+J61, 0) -> 0 | N61: 5C4353FF4E37619A2D8EE733ED599A | Q61: 0101010401 | S61: T | T61: F | U61: F | AW61: 01010104015C4353FF4E37619A2D8EE733ED599A | AX61: 82
A62: 강관동바리설치간격 0.8m 초과 | B62: H=2.5초과, 3.5m 이하(재료비별도) | C62: 공M3 | E62: =TRUNC(일위대가목록!E43,0) -> 0 | F62: =TRUNC(E62*D62, 0) -> 0 | G62: =TRUNC(일위대가목록!F43,0) -> 16041 | H62: =TRUNC(G62*D62, 0) -> 0 | I62: =TRUNC(일위대가목록!G43,0) -> 0 | J62: =TRUNC(I62*D62, 0) -> 0 | K62: =TRUNC(E62+G62+I62, 0) -> 16041 | L62: =TRUNC(F62+H62+J62, 0) -> 0 | N62: 5C4353FF4E37619A2D8EE733ED58F3 | Q62: 0101010401 | S62: T | T62: F | U62: F | AW62: 01010104015C4353FF4E37619A2D8EE733ED58F3 | AX62: 83
A63: 강관동바리설치간격 0.6m 이하 | B63: H=3.5초과, 4.2m 이하(재료비별도) | C63: 공M3 | E63: =TRUNC(일위대가목록!E44,0) -> 0 | F63: =TRUNC(E63*D63, 0) -> 0 | G63: =TRUNC(일위대가목록!F44,0) -> 23235 | H63: =TRUNC(G63*D63, 0) -> 0 | I63: =TRUNC(일위대가목록!G44,0) -> 0 | J63: =TRUNC(I63*D63, 0) -> 0 | K63: =TRUNC(E63+G63+I63, 0) -> 23235 | L63: =TRUNC(F63+H63+J63, 0) -> 0 | N63: 5C4353FF4E37619A2D8EE733ED5F22 | Q63: 0101010401 | S63: T | T63: F | U63: F | AW63: 01010104015C4353FF4E37619A2D8EE733ED5F22 | AX63: 84
A64: 강관동바리설치간격 0.6초과, 0.8m 이하 | B64: H=3.5초과, 4.2m 이하(재료비별도) | C64: 공M3 | E64: =TRUNC(일위대가목록!E45,0) -> 0 | F64: =TRUNC(E64*D64, 0) -> 0 | G64: =TRUNC(일위대가목록!F45,0) -> 19363 | H64: =TRUNC(G64*D64, 0) -> 0 | I64: =TRUNC(일위대가목록!G45,0) -> 0 | J64: =TRUNC(I64*D64, 0) -> 0 | K64: =TRUNC(E64+G64+I64, 0) -> 19363 | L64: =TRUNC(F64+H64+J64, 0) -> 0 | N64: 5C4353FF4E37619A2D8EE733ED5E1B | Q64: 0101010401 | S64: T | T64: F | U64: F | AW64: 01010104015C4353FF4E37619A2D8EE733ED5E1B | AX64: 85
A65: 강관동바리설치간격 0.8m 초과 | B65: H=3.5초과, 4.2m 이하(재료비별도) | C65: 공M3 | E65: =TRUNC(일위대가목록!E46,0) -> 0 | F65: =TRUNC(E65*D65, 0) -> 0 | G65: =TRUNC(일위대가목록!F46,0) -> 17426 | H65: =TRUNC(G65*D65, 0) -> 0 | I65: =TRUNC(일위대가목록!G46,0) -> 0 | J65: =TRUNC(I65*D65, 0) -> 0 | K65: =TRUNC(E65+G65+I65, 0) -> 17426 | L65: =TRUNC(F65+H65+J65, 0) -> 0 | N65: 5C4353FF4E37619A2D8EE733ED5D75 | Q65: 0101010401 | S65: T | T65: F | U65: F | AW65: 01010104015C4353FF4E37619A2D8EE733ED5D75 | AX65: 86
A66: 강관동바리 설치 및 해체 | B66: 3.5m 이하 | C66: M2 | E66: =TRUNC(일위대가목록!E47,0) -> 0 | F66: =TRUNC(E66*D66, 0) -> 0 | G66: =TRUNC(일위대가목록!F47,0) -> 13855 | H66: =TRUNC(G66*D66, 0) -> 0 | I66: =TRUNC(일위대가목록!G47,0) -> 0 | J66: =TRUNC(I66*D66, 0) -> 0 | K66: =TRUNC(E66+G66+I66, 0) -> 13855 | L66: =TRUNC(F66+H66+J66, 0) -> 0 | N66: 5C60033C4E2E6F0A7C8486E0B15FC0 | Q66: 0101010401 | S66: T | T66: F | U66: F | AW66: 01010104015C60033C4E2E6F0A7C8486E0B15FC0 | AX66: 196
A67: 강관동바리 설치 및 해체 | B67: 3.5m 초과 ~ 4.2m 이하 | C67: M2 | E67: =TRUNC(일위대가목록!E48,0) -> 0 | F67: =TRUNC(E67*D67, 0) -> 0 | G67: =TRUNC(일위대가목록!F48,0) -> 16319 | H67: =TRUNC(G67*D67, 0) -> 0 | I67: =TRUNC(일위대가목록!G48,0) -> 0 | J67: =TRUNC(I67*D67, 0) -> 0 | K67: =TRUNC(E67+G67+I67, 0) -> 16319 | L67: =TRUNC(F67+H67+J67, 0) -> 0 | N67: 5C60033C4E2E6F0A7C8486F1275078 | Q67: 0101010401 | S67: T | T67: F | U67: F | AW67: 01010104015C60033C4E2E6F0A7C8486F1275078 | AX67: 197
A68: 수평연결보강 | B68: 1단 | C68: M2 | E68: =TRUNC(일위대가목록!E49,0) -> 0 | F68: =TRUNC(E68*D68, 0) -> 0 | G68: =TRUNC(일위대가목록!F49,0) -> 6464 | H68: =TRUNC(G68*D68, 0) -> 0 | I68: =TRUNC(일위대가목록!G49,0) -> 0 | J68: =TRUNC(I68*D68, 0) -> 0 | K68: =TRUNC(E68+G68+I68, 0) -> 6464 | L68: =TRUNC(F68+H68+J68, 0) -> 0 | N68: 5C60033C4E2E6F0A7F81EF99845FC6 | Q68: 0101010401 | S68: T | T68: F | U68: F | AW68: 01010104015C60033C4E2E6F0A7F81EF99845FC6 | AX68: 199
A69: (☞ 시스템동바리 설치 및 해체)------- | B69: - 재료량은 별도 계상 - | D69: 1 | E69: =SUM(F70:F72) -> 0 | F69: =TRUNC(E69*D69, 0) -> 0 | G69: =SUM(H70:H72) -> 0 | H69: =TRUNC(G69*D69, 0) -> 0 | I69: =SUM(J70:J72) -> 0 | J69: =TRUNC(I69*D69, 0) -> 0 | K69: =SUM(L70:L72) -> 0 | L69: =TRUNC(F69+H69+J69, 0) -> 0 | Q69: 0101010402 | R69: 01010104 | S69: F | T69: F | U69: F | AT69: 5 | AW69: 0101010402 | AX69: 204
A70: 시스템동바리 설치 및 해체 | B70: 10m 이하, 자재비 별도 | C70: 10공M3 | E70: =TRUNC(일위대가목록!E50,0) -> 1549 | F70: =TRUNC(E70*D70, 0) -> 0 | G70: =TRUNC(일위대가목록!F50,0) -> 178713 | H70: =TRUNC(G70*D70, 0) -> 0 | I70: =TRUNC(일위대가목록!G50,0) -> 6628 | J70: =TRUNC(I70*D70, 0) -> 0 | K70: =TRUNC(E70+G70+I70, 0) -> 186890 | L70: =TRUNC(F70+H70+J70, 0) -> 0 | N70: 5C60033C4E2E6F0B0381D9F4DC54EB | Q70: 0101010402 | S70: T | T70: F | U70: F | AW70: 01010104025C60033C4E2E6F0B0381D9F4DC54EB | AX70: 201
A71: 시스템동바리 설치 및 해체 | B71: 10m 초과∼20m 이하, 자재비 별도 | C71: 10공M3 | E71: =TRUNC(일위대가목록!E51,0) -> 2279 | F71: =TRUNC(E71*D71, 0) -> 0 | G71: =TRUNC(일위대가목록!F51,0) -> 211798 | H71: =TRUNC(G71*D71, 0) -> 0 | I71: =TRUNC(일위대가목록!G51,0) -> 9748 | J71: =TRUNC(I71*D71, 0) -> 0 | K71: =TRUNC(E71+G71+I71, 0) -> 223825 | L71: =TRUNC(F71+H71+J71, 0) -> 0 | N71: 5C60033C4E2E6F0B0D81E1F3B051D2 | Q71: 0101010402 | S71: T | T71: F | U71: F | AW71: 01010104025C60033C4E2E6F0B0D81E1F3B051D2 | AX71: 202
A72: 시스템동바리 설치 및 해체 | B72: 20m 초과∼30m 이하, 자재비 별도 | C72: 10공M3 | E72: =TRUNC(일위대가목록!E52,0) -> 2932 | F72: =TRUNC(E72*D72, 0) -> 0 | G72: =TRUNC(일위대가목록!F52,0) -> 269268 | H72: =TRUNC(G72*D72, 0) -> 0 | I72: =TRUNC(일위대가목록!G52,0) -> 13821 | J72: =TRUNC(I72*D72, 0) -> 0 | K72: =TRUNC(E72+G72+I72, 0) -> 286021 | L72: =TRUNC(F72+H72+J72, 0) -> 0 | N72: 5C60033C4E2E6F0B0D81D78B0750B8 | Q72: 0101010402 | S72: T | T72: F | U72: F | AW72: 01010104025C60033C4E2E6F0B0D81D78B0750B8 | AX72: 203
A73: (☞ 알루미늄 폼 동바리 설치 및 해체)------- | B73: - 재료량은 별도 계상 - | D73: 1 | E73: =SUM(F74:F74) -> 0 | F73: =TRUNC(E73*D73, 0) -> 0 | G73: =SUM(H74:H74) -> 0 | H73: =TRUNC(G73*D73, 0) -> 0 | I73: =SUM(J74:J74) -> 0 | J73: =TRUNC(I73*D73, 0) -> 0 | K73: =SUM(L74:L74) -> 0 | L73: =TRUNC(F73+H73+J73, 0) -> 0 | Q73: 0101010403 | R73: 01010104 | S73: F | T73: F | U73: F | AT73: 5 | AW73: 0101010403 | AX73: 207
A74: 알루미늄 폼 동바리 설치 및 해체 | C74: M2 | E74: =TRUNC(일위대가목록!E53,0) -> 0 | F74: =TRUNC(E74*D74, 0) -> 0 | G74: =TRUNC(일위대가목록!F53,0) -> 8927 | H74: =TRUNC(G74*D74, 0) -> 0 | I74: =TRUNC(일위대가목록!G53,0) -> 0 | J74: =TRUNC(I74*D74, 0) -> 0 | K74: =TRUNC(E74+G74+I74, 0) -> 8927 | L74: =TRUNC(F74+H74+J74, 0) -> 0 | N74: 5C60033C4E2E6F0B0D818F71D15AA6 | Q74: 0101010403 | S74: T | T74: F | U74: F | AW74: 01010104035C60033C4E2E6F0B0D818F71D15AA6 | AX74: 206
A75: (☞ 잭서포트 설치 및 해체)------- | B75: - 재료량은 별도 계상 - | D75: 1 | E75: =SUM(F76:F76) -> 0 | F75: =TRUNC(E75*D75, 0) -> 0 | G75: =SUM(H76:H76) -> 0 | H75: =TRUNC(G75*D75, 0) -> 0 | I75: =SUM(J76:J76) -> 0 | J75: =TRUNC(I75*D75, 0) -> 0 | K75: =SUM(L76:L76) -> 0 | L75: =TRUNC(F75+H75+J75, 0) -> 0 | Q75: 0101010404 | R75: 01010104 | S75: F | T75: F | U75: F | AT75: 5 | AW75: 0101010404 | AX75: 210
A76: 잭서포트 설치 및 해체 | C76: M2 | E76: =TRUNC(일위대가목록!E54,0) -> 0 | F76: =TRUNC(E76*D76, 0) -> 0 | G76: =TRUNC(일위대가목록!F54,0) -> 17855 | H76: =TRUNC(G76*D76, 0) -> 0 | I76: =TRUNC(일위대가목록!G54,0) -> 0 | J76: =TRUNC(I76*D76, 0) -> 0 | K76: =TRUNC(E76+G76+I76, 0) -> 17855 | L76: =TRUNC(F76+H76+J76, 0) -> 0 | N76: 5C60033C4E2E6F0C2B8CCE424C5DDF | Q76: 0101010404 | S76: T | T76: F | U76: F | AW76: 01010104045C60033C4E2E6F0C2B8CCE424C5DDF | AX76: 209
A77: (☞ 강관비계 설치 및 해체)------- | D77: 1 | E77: =SUM(F78:F80) -> 0 | F77: =TRUNC(E77*D77, 0) -> 0 | G77: =SUM(H78:H80) -> 0 | H77: =TRUNC(G77*D77, 0) -> 0 | I77: =SUM(J78:J80) -> 0 | J77: =TRUNC(I77*D77, 0) -> 0 | K77: =SUM(L78:L80) -> 0 | L77: =TRUNC(F77+H77+J77, 0) -> 0 | Q77: 0101010405 | R77: 01010104 | S77: F | T77: F | U77: F | AT77: 5 | AW77: 0101010405 | AX77: 230
A78: 강관비계(쌍줄) 설치 및 해체 | B78: 10m 이하 | C78: M2 | E78: =TRUNC(일위대가목록!E55,0) -> 0 | F78: =TRUNC(E78*D78, 0) -> 0 | G78: =TRUNC(일위대가목록!F55,0) -> 16525 | H78: =TRUNC(G78*D78, 0) -> 0 | I78: =TRUNC(일위대가목록!G55,0) -> 330 | J78: =TRUNC(I78*D78, 0) -> 0 | K78: =TRUNC(E78+G78+I78, 0) -> 16855 | L78: =TRUNC(F78+H78+J78, 0) -> 0 | N78: 5C60033C4E2E6CB3688FDFFB6358DA | Q78: 0101010405 | S78: T | T78: F | U78: F | AW78: 01010104055C60033C4E2E6CB3688FDFFB6358DA | AX78: 212
A79: 강관비계(쌍줄) 설치 및 해체 | B79: 10m 초과~20m 이하 | C79: M2 | E79: =TRUNC(일위대가목록!E56,0) -> 0 | F79: =TRUNC(E79*D79, 0) -> 0 | G79: =TRUNC(일위대가목록!F56,0) -> 19215 | H79: =TRUNC(G79*D79, 0) -> 0 | I79: =TRUNC(일위대가목록!G56,0) -> 384 | J79: =TRUNC(I79*D79, 0) -> 0 | K79: =TRUNC(E79+G79+I79, 0) -> 19599 | L79: =TRUNC(F79+H79+J79, 0) -> 0 | N79: 5C60033C4E2E6CB3688FDFCE255AC0 | Q79: 0101010405 | S79: T | T79: F | U79: F | AW79: 01010104055C60033C4E2E6CB3688FDFCE255AC0 | AX79: 213
A80: 강관비계(쌍줄) 설치 및 해체 | B80: 20m 초과~30m 이하 | C80: M2 | E80: =TRUNC(일위대가목록!E57,0) -> 0 | F80: =TRUNC(E80*D80, 0) -> 0 | G80: =TRUNC(일위대가목록!F57,0) -> 21906 | H80: =TRUNC(G80*D80, 0) -> 0 | I80: =TRUNC(일위대가목록!G57,0) -> 438 | J80: =TRUNC(I80*D80, 0) -> 0 | K80: =TRUNC(E80+G80+I80, 0) -> 22344 | L80: =TRUNC(F80+H80+J80, 0) -> 0 | N80: 5C60033C4E2E6CB3688FDFD8835D40 | Q80: 0101010405 | S80: T | T80: F | U80: F | AW80: 01010104055C60033C4E2E6CB3688FDFD8835D40 | AX80: 214
A81: (☞ 시스템비계 설치 및 해체)------- | D81: 1 | E81: =SUM(F82:F84) -> 0 | F81: =TRUNC(E81*D81, 0) -> 0 | G81: =SUM(H82:H84) -> 0 | H81: =TRUNC(G81*D81, 0) -> 0 | I81: =SUM(J82:J84) -> 0 | J81: =TRUNC(I81*D81, 0) -> 0 | K81: =SUM(L82:L84) -> 0 | L81: =TRUNC(F81+H81+J81, 0) -> 0 | Q81: 0101010406 | R81: 01010104 | S81: F | T81: F | U81: F | AT81: 5 | AW81: 0101010406 | AX81: 231
A82: 시스템비계 설치 및 해체 | B82: 10m 이하 | C82: M2 | E82: =TRUNC(일위대가목록!E58,0) -> 0 | F82: =TRUNC(E82*D82, 0) -> 0 | G82: =TRUNC(일위대가목록!F58,0) -> 12298 | H82: =TRUNC(G82*D82, 0) -> 0 | I82: =TRUNC(일위대가목록!G58,0) -> 0 | J82: =TRUNC(I82*D82, 0) -> 0 | K82: =TRUNC(E82+G82+I82, 0) -> 12298 | L82: =TRUNC(F82+H82+J82, 0) -> 0 | N82: 5C60033C4E2E6CB36C85934332547F | Q82: 0101010406 | S82: T | T82: F | U82: F | AW82: 01010104065C60033C4E2E6CB36C85934332547F | AX82: 216
A83: 시스템비계 설치 및 해체 | B83: 10m 초과~20m 이하 | C83: M2 | E83: =TRUNC(일위대가목록!E59,0) -> 0 | F83: =TRUNC(E83*D83, 0) -> 0 | G83: =TRUNC(일위대가목록!F59,0) -> 14988 | H83: =TRUNC(G83*D83, 0) -> 0 | I83: =TRUNC(일위대가목록!G59,0) -> 0 | J83: =TRUNC(I83*D83, 0) -> 0 | K83: =TRUNC(E83+G83+I83, 0) -> 14988 | L83: =TRUNC(F83+H83+J83, 0) -> 0 | N83: 5C60033C4E2E6CB36C85ADD2945C66 | Q83: 0101010406 | S83: T | T83: F | U83: F | AW83: 01010104065C60033C4E2E6CB36C85ADD2945C66 | AX83: 217
A84: 시스템비계 설치 및 해체 | B84: 20m 초과~30m 이하 | C84: M2 | E84: =TRUNC(일위대가목록!E60,0) -> 0 | F84: =TRUNC(E84*D84, 0) -> 0 | G84: =TRUNC(일위대가목록!F60,0) -> 17679 | H84: =TRUNC(G84*D84, 0) -> 0 | I84: =TRUNC(일위대가목록!G60,0) -> 0 | J84: =TRUNC(I84*D84, 0) -> 0 | K84: =TRUNC(E84+G84+I84, 0) -> 17679 | L84: =TRUNC(F84+H84+J84, 0) -> 0 | N84: 5C60033C4E2E6CB36C85BE26E45E5B | Q84: 0101010406 | S84: T | T84: F | U84: F | AW84: 01010104065C60033C4E2E6CB36C85BE26E45E5B | AX84: 218
A85: (☞ 강관틀 비계 설치 및 해체)------- | D85: 1 | E85: =SUM(F86:F87) -> 0 | F85: =TRUNC(E85*D85, 0) -> 0 | G85: =SUM(H86:H87) -> 0 | H85: =TRUNC(G85*D85, 0) -> 0 | I85: =SUM(J86:J87) -> 0 | J85: =TRUNC(I85*D85, 0) -> 0 | K85: =SUM(L86:L87) -> 0 | L85: =TRUNC(F85+H85+J85, 0) -> 0 | Q85: 0101010407 | R85: 01010104 | S85: F | T85: F | U85: F | AT85: 5 | AW85: 0101010407 | AX85: 232
A86: 강관틀 비계 설치 및 해체 | B86: 10m 이하 | C86: M2 | E86: =TRUNC(일위대가목록!E61,0) -> 0 | F86: =TRUNC(E86*D86, 0) -> 0 | G86: =TRUNC(일위대가목록!F61,0) -> 6917 | H86: =TRUNC(G86*D86, 0) -> 0 | I86: =TRUNC(일위대가목록!G61,0) -> 0 | J86: =TRUNC(I86*D86, 0) -> 0 | K86: =TRUNC(E86+G86+I86, 0) -> 6917 | L86: =TRUNC(F86+H86+J86, 0) -> 0 | N86: 5C60033C4E2E6CB36F828121EE501E | Q86: 0101010407 | S86: T | T86: F | U86: F | AW86: 01010104075C60033C4E2E6CB36F828121EE501E | AX86: 220
A87: 강관틀 비계 설치 및 해체 | B87: 10m 초과 ~ 20m 이하 | C87: M2 | E87: =TRUNC(일위대가목록!E62,0) -> 0 | F87: =TRUNC(E87*D87, 0) -> 0 | G87: =TRUNC(일위대가목록!F62,0) -> 9607 | H87: =TRUNC(G87*D87, 0) -> 0 | I87: =TRUNC(일위대가목록!G62,0) -> 0 | J87: =TRUNC(I87*D87, 0) -> 0 | K87: =TRUNC(E87+G87+I87, 0) -> 9607 | L87: =TRUNC(F87+H87+J87, 0) -> 0 | N87: 5C60033C4E2E6CB36F828121DD592D | Q87: 0101010407 | S87: T | T87: F | U87: F | AW87: 01010104075C60033C4E2E6CB36F828121DD592D | AX87: 221
A88: (☞ 강관 조립말비계(이동식)설치 및 해체 )------- | D88: 1 | E88: =SUM(F89:F90) -> 0 | F88: =TRUNC(E88*D88, 0) -> 0 | G88: =SUM(H89:H90) -> 0 | H88: =TRUNC(G88*D88, 0) -> 0 | I88: =SUM(J89:J90) -> 0 | J88: =TRUNC(I88*D88, 0) -> 0 | K88: =SUM(L89:L90) -> 0 | L88: =TRUNC(F88+H88+J88, 0) -> 0 | Q88: 0101010408 | R88: 01010104 | S88: F | T88: F | U88: F | AT88: 5 | AW88: 0101010408 | AX88: 233
A89: 강관 조립말비계(이동식)설치 및 해체 | B89: 높이 2m, 노무비 | C89: 대 | E89: =TRUNC(일위대가목록!E63,0) -> 0 | F89: =TRUNC(E89*D89, 0) -> 0 | G89: =TRUNC(일위대가목록!F63,0) -> 88773 | H89: =TRUNC(G89*D89, 0) -> 0 | I89: =TRUNC(일위대가목록!G63,0) -> 0 | J89: =TRUNC(I89*D89, 0) -> 0 | K89: =TRUNC(E89+G89+I89, 0) -> 88773 | L89: =TRUNC(F89+H89+J89, 0) -> 0 | N89: 5C60033C4E2E6CB36E801095D6598E | Q89: 0101010408 | S89: T | T89: F | U89: F | AW89: 01010104085C60033C4E2E6CB36E801095D6598E | AX89: 223
A90: 강관 조립말비계(이동식)설치 및 해체 | B90: 높이 4m, 노무비 | C90: 대 | E90: =TRUNC(일위대가목록!E64,0) -> 0 | F90: =TRUNC(E90*D90, 0) -> 0 | G90: =TRUNC(일위대가목록!F64,0) -> 147186 | H90: =TRUNC(G90*D90, 0) -> 0 | I90: =TRUNC(일위대가목록!G64,0) -> 0 | J90: =TRUNC(I90*D90, 0) -> 0 | K90: =TRUNC(E90+G90+I90, 0) -> 147186 | L90: =TRUNC(F90+H90+J90, 0) -> 0 | N90: 5C60033C4E2E6CB36E801095D65A95 | Q90: 0101010408 | S90: T | T90: F | U90: F | AW90: 01010104085C60033C4E2E6CB36E801095D65A95 | AX90: 224
A91: (☞ 경사형 가설 계단 설치 및 해체)------- | D91: 1 | E91: =SUM(F92:F92) -> 0 | F91: =TRUNC(E91*D91, 0) -> 0 | G91: =SUM(H92:H92) -> 0 | H91: =TRUNC(G91*D91, 0) -> 0 | I91: =SUM(J92:J92) -> 0 | J91: =TRUNC(I91*D91, 0) -> 0 | K91: =SUM(L92:L92) -> 0 | L91: =TRUNC(F91+H91+J91, 0) -> 0 | Q91: 0101010409 | R91: 01010104 | S91: F | T91: F | U91: F | AT91: 5 | AW91: 0101010409 | AX91: 234
A92: 경사형 가설 계단 설치 및 해체 | B92: 6m 이하 | C92: M2 | E92: =TRUNC(일위대가목록!E65,0) -> 0 | F92: =TRUNC(E92*D92, 0) -> 0 | G92: =TRUNC(일위대가목록!F65,0) -> 86470 | H92: =TRUNC(G92*D92, 0) -> 0 | I92: =TRUNC(일위대가목록!G65,0) -> 1729 | J92: =TRUNC(I92*D92, 0) -> 0 | K92: =TRUNC(E92+G92+I92, 0) -> 88199 | L92: =TRUNC(F92+H92+J92, 0) -> 0 | N92: 5C60033C4E2E6CB369881FCAD65B44 | Q92: 0101010409 | S92: T | T92: F | U92: F | AW92: 01010104095C60033C4E2E6CB369881FCAD65B44 | AX92: 226
A93: (☞ 비계용 브라켓 설치 및 해체)------- | D93: 1 | E93: =SUM(F94:F95) -> 0 | F93: =TRUNC(E93*D93, 0) -> 0 | G93: =SUM(H94:H95) -> 0 | H93: =TRUNC(G93*D93, 0) -> 0 | I93: =SUM(J94:J95) -> 0 | J93: =TRUNC(I93*D93, 0) -> 0 | K93: =SUM(L94:L95) -> 0 | L93: =TRUNC(F93+H93+J93, 0) -> 0 | Q93: 0101010410 | R93: 01010104 | S93: F | T93: F | U93: F | AT93: 5 | AW93: 0101010410 | AX93: 235
A94: 비계용 브라켓 설치 및 해체 | B94: 벽용(브라켓 별도) | C94: 개소 | E94: =TRUNC(일위대가목록!E66,0) -> 0 | F94: =TRUNC(E94*D94, 0) -> 0 | G94: =TRUNC(일위대가목록!F66,0) -> 21254 | H94: =TRUNC(G94*D94, 0) -> 0 | I94: =TRUNC(일위대가목록!G66,0) -> 0 | J94: =TRUNC(I94*D94, 0) -> 0 | K94: =TRUNC(E94+G94+I94, 0) -> 21254 | L94: =TRUNC(F94+H94+J94, 0) -> 0 | N94: 5C60033C4E2E6CB36C8582F8F050D8 | Q94: 0101010410 | S94: T | T94: F | U94: F | AW94: 01010104105C60033C4E2E6CB36C8582F8F050D8 | AX94: 228
A95: 비계용 브라켓 설치 및 해체 | B95: 슬래브발코니, 난간용(브라켓 별도) | C95: 개소 | E95: =TRUNC(일위대가목록!E67,0) -> 0 | F95: =TRUNC(E95*D95, 0) -> 0 | G95: =TRUNC(일위대가목록!F67,0) -> 16142 | H95: =TRUNC(G95*D95, 0) -> 0 | I95: =TRUNC(일위대가목록!G67,0) -> 0 | J95: =TRUNC(I95*D95, 0) -> 0 | K95: =TRUNC(E95+G95+I95, 0) -> 16142 | L95: =TRUNC(F95+H95+J95, 0) -> 0 | N95: 5C60033C4E2E6CB36C8582F8C45C11 | Q95: 0101010410 | S95: T | T95: F | U95: F | AW95: 01010104105C60033C4E2E6CB36C8582F8C45C11 | AX95: 229
A96: 방호시설 | D96: 1 | E96: =SUMIF(R97:R1699, Q96, F97:F1699) -> 0 | F96: =TRUNC(E96*D96, 0) -> 0 | G96: =SUMIF(R97:R1699, Q96, H97:H1699) -> 0 | H96: =TRUNC(G96*D96, 0) -> 0 | I96: =SUMIF(R97:R1699, Q96, J97:J1699) -> 0 | J96: =TRUNC(I96*D96, 0) -> 0 | K96: =SUMIF(R97:R1699, Q96, L97:L1699) -> 0 | L96: =TRUNC(F96+H96+J96, 0) -> 0 | Q96: 01010105 | R96: 010101 | S96: F | T96: F | U96: F | AT96: 4 | AW96: 01010105 | AX96: 236
A97: (☞ 낙하물 방지망(비계) 설치 및 해체)------- | D97: 1 | E97: =SUM(F98:F104) -> 0 | F97: =TRUNC(E97*D97, 0) -> 0 | G97: =SUM(H98:H104) -> 0 | H97: =TRUNC(G97*D97, 0) -> 0 | I97: =SUM(J98:J104) -> 0 | J97: =TRUNC(I97*D97, 0) -> 0 | K97: =SUM(L98:L104) -> 0 | L97: =TRUNC(F97+H97+J97, 0) -> 0 | Q97: 0101010501 | R97: 01010105 | S97: F | T97: F | U97: F | AT97: 5 | AW97: 0101010501 | AX97: 251
A98: 낙하물방지망 설치 및 해체 | B98: 3개월 | C98: M2 | E98: =TRUNC(일위대가목록!E68,0) -> 2606 | F98: =TRUNC(E98*D98, 0) -> 0 | G98: =TRUNC(일위대가목록!F68,0) -> 9607 | H98: =TRUNC(G98*D98, 0) -> 0 | I98: =TRUNC(일위대가목록!G68,0) -> 192 | J98: =TRUNC(I98*D98, 0) -> 0 | K98: =TRUNC(E98+G98+I98, 0) -> 12405 | L98: =TRUNC(F98+H98+J98, 0) -> 0 | N98: 5C60033C4E3F63A7EE8697B79B5B54 | Q98: 0101010501 | S98: T | T98: F | U98: F | AW98: 01010105015C60033C4E3F63A7EE8697B79B5B54 | AX98: 239
A99: 낙하물방지망 설치 및 해체 | B99: 6개월 | C99: M2 | E99: =TRUNC(일위대가목록!E69,0) -> 3057 | F99: =TRUNC(E99*D99, 0) -> 0 | G99: =TRUNC(일위대가목록!F69,0) -> 9607 | H99: =TRUNC(G99*D99, 0) -> 0 | I99: =TRUNC(일위대가목록!G69,0) -> 192 | J99: =TRUNC(I99*D99, 0) -> 0 | K99: =TRUNC(E99+G99+I99, 0) -> 12856 | L99: =TRUNC(F99+H99+J99, 0) -> 0 | N99: 5C60033C4E3F63A7EE8697A53B58FD | Q99: 0101010501 | S99: T | T99: F | U99: F | AW99: 01010105015C60033C4E3F63A7EE8697A53B58FD | AX99: 240
A100: 낙하물방지망 설치 및 해체 | B100: 12개월 | C100: M2 | E100: =TRUNC(일위대가목록!E70,0) -> 4071 | F100: =TRUNC(E100*D100, 0) -> 0 | G100: =TRUNC(일위대가목록!F70,0) -> 9607 | H100: =TRUNC(G100*D100, 0) -> 0 | I100: =TRUNC(일위대가목록!G70,0) -> 192 | J100: =TRUNC(I100*D100, 0) -> 0 | K100: =TRUNC(E100+G100+I100, 0) -> 13870 | L100: =TRUNC(F100+H100+J100, 0) -> 0 | N100: 5C60033C4E3F63A7EE8697C0005D94 | Q100: 0101010501 | S100: T | T100: F | U100: F | AW100: 01010105015C60033C4E3F63A7EE8697C0005D94 | AX100: 241
...

Sheet 일위대가목록
A1: 일 위 대 가 목 록
A2: [ 경상남도교육청 일위대가(2022년 하반기) ]
A3: 코 드 | B3: 품 명 | C3: 규 격 | D3: 단위 | E3: 재 료 비 | F3: 노 무 비 | G3: 경 비 | H3: 합 계 | I3: 번 호 | J3: 비 고 | K3: 노임계수 | L3: 할증 | M3: 품셈개요 | N3: 장비일위
A4: 5C60033F4B7563CC0C8D2CDFF15322 | B4: 철재조립식 가설건축물 설치 및 해체 | C4: 사무실 | D4: M2 | E4: =일위대가!F10 -> 0 | F4: =일위대가!H10 -> 0 | G4: =일위대가!J10 -> 94995 | H4: =E4+F4+G4 -> 94995 | I4: 호표 1 | M4: 공통 2-3-1
A5: 5C60033F4B7563CC0C8D2CDFF1521B | B5: 철재조립식 가설건축물 설치 및 해체 | C5: 창고 | D5: M2 | E5: =일위대가!F18 -> 0 | F5: =일위대가!H18 -> 0 | G5: =일위대가!J18 -> 74189 | H5: =E5+F5+G5 -> 74189 | I5: 호표 2 | M5: 공통 2-3-1
A6: 5C60033F4B756220488751143F5488 | B6: 콘테이너형 가설건축물 설치 | C6: 3.0*3.0*2.6m | D6: 개소 | E6: =일위대가!F25 -> 0 | F6: =일위대가!H25 -> 0 | G6: =일위대가!J25 -> 154953 | H6: =E6+F6+G6 -> 154953 | I6: 호표 3 | M6: 공통 2-3-2
A7: 5C60033F4B756220488751143F548D | B7: 콘테이너형 가설건축물 해체 | C7: 3.0*3.0*2.6m | D7: 개소 | E7: =일위대가!F32 -> 0 | F7: =일위대가!H32 -> 0 | G7: =일위대가!J32 -> 154953 | H7: =E7+F7+G7 -> 154953 | I7: 호표 4 | M7: 공통 2-3-2
A8: 5C60033F4B756220488751143F5759 | B8: 콘테이너형 가설건축물 해체 | C8: 3.0*6.0*2.6m | D8: 개소 | E8: =일위대가!F39 -> 0 | F8: =일위대가!H39 -> 0 | G8: =일위대가!J39 -> 194557 | H8: =E8+F8+G8 -> 194557 | I8: 호표 5 | M8: 공통 2-3-2
A9: 5C60033F4B756220488751143F575C | B9: 콘테이너형 가설건축물 설치 | C9: 3.0*6.0*2.6m | D9: 개소 | E9: =일위대가!F46 -> 0 | F9: =일위대가!H46 -> 0 | G9: =일위대가!J46 -> 194557 | H9: =E9+F9+G9 -> 194557 | I9: 호표 6 | M9: 공통 2-3-2
A10: 5C60033F4B756220488751143F56B3 | B10: 콘테이너형 가설건축물 해체 | C10: 3.0*9.0*2.6m | D10: 개소 | E10: =일위대가!F53 -> 0 | F10: =일위대가!H53 -> 0 | G10: =일위대가!J53 -> 225308 | H10: =E10+F10+G10 -> 225308 | I10: 호표 7 | M10: 공통 2-3-2
A11: 5C60033F4B756220488751143F56B6 | B11: 콘테이너형 가설건축물 설치 | C11: 3.0*9.0*2.6m | D11: 개소 | E11: =일위대가!F60 -> 0 | F11: =일위대가!H60 -> 0 | G11: =일위대가!J60 -> 225308 | H11: =E11+F11+G11 -> 225308 | I11: 호표 8 | M11: 공통 2-3-2
A12: 5C60033C4E0266B6AF878F8CD85912 | B12: 강관 지주 설치 | C12: 지주높이 3.5m 이하 | D12: M | E12: =일위대가!F68 -> 0 | F12: =일위대가!H68 -> 0 | G12: =일위대가!J68 -> 12472 | H12: =E12+F12+G12 -> 12472 | I12: 호표 9 | M12: 공통 2-4-1
A13: 5C60033C4E0266B6AF878F8CD8580B | B13: 강관 지주 해체 | C13: 지주높이 3.5m 이하 | D13: M | E13: =일위대가!F76 -> 0 | F13: =일위대가!H76 -> 0 | G13: =일위대가!J76 -> 4925 | H13: =E13+F13+G13 -> 4925 | I13: 호표 10 | M13: 공통 2-4-1
A14: 5C60033C4E0266B6AF878F8CCE534F | B14: 강관 지주 설치 | C14: 지주높이 6m 이하 | D14: M | E14: =일위대가!F84 -> 0 | F14: =일위대가!H84 -> 0 | G14: =일위대가!J84 -> 17697 | H14: =E14+F14+G14 -> 17697 | I14: 호표 11 | M14: 공통 2-4-1
A15: 5C60033C4E0266B6AF878F8CCE52A8 | B15: 강관 지주 해체 | C15: 지주높이 6m 이하 | D15: M | E15: =일위대가!F92 -> 0 | F15: =일위대가!H92 -> 0 | G15: =일위대가!J92 -> 6904 | H15: =E15+F15+G15 -> 6904 | I15: 호표 12 | M15: 공통 2-4-1
A16: 5C60033C4E0266B6AF878FAFB855B3 | B16: H형강 지주 설치 | C16: 지주높이 4m 이하 | D16: M | E16: =일위대가!F101 -> 0 | F16: =일위대가!H101 -> 0 | G16: =일위대가!J101 -> 24864 | H16: =E16+F16+G16 -> 24864 | I16: 호표 13 | M16: 공통 2-4-2
A17: 5C60033C4E0266B6AF878FAFB854AC | B17: H형강 지주 해체 | C17: 지주높이 4m 이하 | D17: M | E17: =일위대가!F110 -> 0 | F17: =일위대가!H110 -> 0 | G17: =일위대가!J110 -> 9998 | H17: =E17+F17+G17 -> 9998 | I17: 호표 14 | M17: 공통 2-4-2
A18: 5C60033C4E0266B6AF878FAFAF5EE1 | B18: H형강 지주 설치 | C18: 지주높이 7m 이하 | D18: M | E18: =일위대가!F119 -> 0 | F18: =일위대가!H119 -> 0 | G18: =일위대가!J119 -> 43343 | H18: =E18+F18+G18 -> 43343 | I18: 호표 15 | M18: 공통 2-4-2
A19: 5C60033C4E0266B6AF878FAFAF5F87 | B19: H형강 지주 해체 | C19: 지주높이 7m 이하 | D19: M | E19: =일위대가!F128 -> 0 | F19: =일위대가!H128 -> 0 | G19: =일위대가!J128 -> 17456 | H19: =E19+F19+G19 -> 17456 | I19: 호표 16 | M19: 공통 2-4-2
A20: 5C60033C4E0266B4F88B8D694C5D2E | B20: 가설울타리판 설치 | C20: 설치높이 3m 이하 | D20: M | E20: =일위대가!F135 -> 0 | F20: =일위대가!H135 -> 0 | G20: =일위대가!J135 -> 8629 | H20: =E20+F20+G20 -> 8629 | I20: 호표 17 | M20: 공통 2-4-3
A21: 5C60033C4E0266B4F88B8D694C5C08 | B21: 가설울타리판 해체 | C21: 설치높이 3m 이하 | D21: M | E21: =일위대가!F142 -> 0 | F21: =일위대가!H142 -> 0 | G21: =일위대가!J142 -> 3404 | H21: =E21+F21+G21 -> 3404 | I21: 호표 18 | M21: 공통 2-4-3
A22: 5C60033C4E0266B4F88B8D695D5400 | B22: 가설울타리판 설치 | C22: 설치높이 6m 이하 | D22: M | E22: =일위대가!F149 -> 0 | F22: =일위대가!H149 -> 0 | G22: =일위대가!J149 -> 10054 | H22: =E22+F22+G22 -> 10054 | I22: 호표 19 | M22: 공통 2-4-3
A23: 5C60033C4E0266B4F88B8D695D5527 | B23: 가설울타리판 해체 | C23: 설치높이 6m 이하 | D23: M | E23: =일위대가!F156 -> 0 | F23: =일위대가!H156 -> 0 | G23: =일위대가!J156 -> 4116 | H23: =E23+F23+G23 -> 4116 | I23: 호표 20 | M23: 공통 2-4-3
A24: 5C60033C4E0266B4F88B8D4E7758B8 | B24: 세로형 가설방음판 설치 | C24: 설치높이 3m 이하 | D24: M | E24: =일위대가!F163 -> 0 | F24: =일위대가!H163 -> 0 | G24: =일위대가!J163 -> 8075 | H24: =E24+F24+G24 -> 8075 | I24: 호표 21 | M24: 공통 2-4-4
A25: 5C60033C4E0266B4F88B8D4E77595F | B25: 세로형 가설방음판 해체 | C25: 설치높이 3m 이하 | D25: M | E25: =일위대가!F170 -> 0 | F25: =일위대가!H170 -> 0 | G25: =일위대가!J170 -> 3245 | H25: =E25+F25+G25 -> 3245 | I25: 호표 22 | M25: 공통 2-4-4
A26: 5C60033C4E0266B4F88B8D4E6551AF | B26: 세로형 가설방음판 설치 | C26: 설치높이 6m 이하 | D26: M | E26: =일위대가!F177 -> 0 | F26: =일위대가!H177 -> 0 | G26: =일위대가!J177 -> 9341 | H26: =E26+F26+G26 -> 9341 | I26: 호표 23 | M26: 공통 2-4-4
A27: 5C60033C4E0266B4F88B8D4E655088 | B27: 세로형 가설방음판 해체 | C27: 설치높이 6m 이하 | D27: M | E27: =일위대가!F184 -> 0 | F27: =일위대가!H184 -> 0 | G27: =일위대가!J184 -> 3681 | H27: =E27+F27+G27 -> 3681 | I27: 호표 24 | M27: 공통 2-4-4
A28: 5C60033C4E0266B4F88B8D239D5D66 | B28: 가로형 가설방음판 설치 | C28: 설치높이 3m 이하 | D28: M | E28: =일위대가!F192 -> 0 | F28: =일위대가!H192 -> 0 | G28: =일위대가!J192 -> 29356 | H28: =E28+F28+G28 -> 29356 | I28: 호표 25 | M28: 공통 2-4-5
A29: 5C60033C4E0266B4F88B8D239D5C5F | B29: 가로형 가설방음판 해체 | C29: 설치높이 3m 이하 | D29: M | E29: =일위대가!F200 -> 0 | F29: =일위대가!H200 -> 0 | G29: =일위대가!J200 -> 11734 | H29: =E29+F29+G29 -> 11734 | I29: 호표 26 | M29: 공통 2-4-5
A30: 5C60033C4E0266B4F88B8D238357C3 | B30: 가로형 가설방음판 설치 | C30: 설치높이 6m 이하 | D30: M | E30: =일위대가!F208 -> 0 | F30: =일위대가!H208 -> 0 | G30: =일위대가!J208 -> 34206 | H30: =E30+F30+G30 -> 34206 | I30: 호표 27 | M30: 공통 2-4-5
A31: 5C60033C4E0266B4F88B8D2383563C | B31: 가로형 가설방음판 해체 | C31: 설치높이 6m 이하 | D31: M | E31: =일위대가!F216 -> 0 | F31: =일위대가!H216 -> 0 | G31: =일위대가!J216 -> 13769 | H31: =E31+F31+G31 -> 13769 | I31: 호표 28 | M31: 공통 2-4-5
A32: 5C60033C4E2E6CB2428FA0658C52D7 | B32: 토공의 비탈 규준틀 | C32: 재료 별도 | D32: 개소 | E32: =일위대가!F221 -> 0 | F32: =일위대가!H221 -> 60334 | G32: =일위대가!J221 -> 0 | H32: =E32+F32+G32 -> 60334 | I32: 호표 29 | M32: 공통 2-5-1
A33: 5C4353FA47DB63A2C386A221195723 | B33: 목재 규준틀 | C33: - 재료비 별도 - | D33: 개소 | E33: =일위대가!F226 -> 0 | F33: =일위대가!H226 -> 80149 | G33: =일위대가!J226 -> 0 | H33: =E33+F33+G33 -> 80149 | I33: 호표 30 | M33: 공통 2-5-2
A34: 5C4353FA47DB63A2C386A2212B5ECD | B34: 철재 규준틀 | C34: 5m이하(재료비 별도) | D34: 개소 | E34: =일위대가!F231 -> 0 | F34: =일위대가!H231 -> 52408 | G34: =일위대가!J231 -> 0 | H34: =E34+F34+G34 -> 52408 | I34: 호표 31 | M34: 공통 2-5-3
A35: 5C4353FA47DB63A2C386A22134559F | B35: 철재 규준틀 | C35: 10m이하(재료비 별도) | D35: 개소 | E35: =일위대가!F236 -> 0 | F35: =일위대가!H236 -> 62761 | G35: =일위대가!J236 -> 0 | H35: =E35+F35+G35 -> 62761 | I35: 호표 32 | M35: 공통 2-5-3
A36: 5C60033C4E2E6CB2428FA077FE5C58 | B36: 수평 규준틀 | C36: 평 | D36: 개소 | E36: =일위대가!F242 -> 4973 | F36: =일위대가!H242 -> 82495 | G36: =일위대가!J242 -> 0 | H36: =E36+F36+G36 -> 87468 | I36: 호표 33 | M36: 공통 2-5-4
A37: 5C60033C4E2E6CB2428FA04AB05DF9 | B37: 수평 규준틀 | C37: 귀 | D37: 개소 | E37: =일위대가!F248 -> 8137 | F37: =일위대가!H248 -> 141941 | G37: =일위대가!J248 -> 0 | H37: =E37+F37+G37 -> 150078 | I37: 호표 34 | M37: 공통 2-5-4
A38: 5C4353FF4E37619A2D8EE717045735 | B38: 강관동바리설치간격 0.6m 이하 | C38: H=0∼2.5이하(재료비별도) | D38: 공M3 | E38: =일위대가!F254 -> 0 | F38: =일위대가!H254 -> 19837 | G38: =일위대가!J254 -> 0 | H38: =E38+F38+G38 -> 19837 | I38: 호표 35 | M38: 공통 2-6-1
A39: 5C4353FF4E37619A2D8EE7219F5FF9 | B39: 강관동바리설치간격 0.6초과, 0.8m 이하 | C39: H=0∼2.5이하(재료비별도) | D39: 공M3 | E39: =일위대가!F259 -> 0 | F39: =일위대가!H259 -> 16531 | G39: =일위대가!J259 -> 0 | H39: =E39+F39+G39 -> 16531 | I39: 호표 36 | M39: 공통 2-6-1
A40: 5C4353FF4E37619A2D8EE733ED5B47 | B40: 강관동바리설치간격 0.8m 초과 | C40: H=0∼2.5이하(재료비별도) | D40: 공M3 | E40: =일위대가!F265 -> 0 | F40: =일위대가!H265 -> 14878 | G40: =일위대가!J265 -> 0 | H40: =E40+F40+G40 -> 14878 | I40: 호표 37 | M40: 공통 2-6-1
A41: 5C4353FF4E37619A2D8EE733ED5AA0 | B41: 강관동바리설치간격 0.6m 이하 | C41: H=2.5초과, 3.5m 이하(재료비별도) | D41: 공M3 | E41: =일위대가!F271 -> 0 | F41: =일위대가!H271 -> 21389 | G41: =일위대가!J271 -> 0 | H41: =E41+F41+G41 -> 21389 | I41: 호표 38 | M41: 공통 2-6-1
A42: 5C4353FF4E37619A2D8EE733ED599A | B42: 강관동바리설치간격 0.6초과, 0.8m 이하 | C42: H=2.5초과, 3.5m 이하(재료비별도) | D42: 공M3 | E42: =일위대가!F276 -> 0 | F42: =일위대가!H276 -> 17824 | G42: =일위대가!J276 -> 0 | H42: =E42+F42+G42 -> 17824 | I42: 호표 39 | M42: 공통 2-6-1
A43: 5C4353FF4E37619A2D8EE733ED58F3 | B43: 강관동바리설치간격 0.8m 초과 | C43: H=2.5초과, 3.5m 이하(재료비별도) | D43: 공M3 | E43: =일위대가!F282 -> 0 | F43: =일위대가!H282 -> 16041 | G43: =일위대가!J282 -> 0 | H43: =E43+F43+G43 -> 16041 | I43: 호표 40 | M43: 공통 2-6-1
A44: 5C4353FF4E37619A2D8EE733ED5F22 | B44: 강관동바리설치간격 0.6m 이하 | C44: H=3.5초과, 4.2m 이하(재료비별도) | D44: 공M3 | E44: =일위대가!F288 -> 0 | F44: =일위대가!H288 -> 23235 | G44: =일위대가!J288 -> 0 | H44: =E44+F44+G44 -> 23235 | I44: 호표 41 | M44: 공통 2-6-1
A45: 5C4353FF4E37619A2D8EE733ED5E1B | B45: 강관동바리설치간격 0.6초과, 0.8m 이하 | C45: H=3.5초과, 4.2m 이하(재료비별도) | D45: 공M3 | E45: =일위대가!F293 -> 0 | F45: =일위대가!H293 -> 19363 | G45: =일위대가!J293 -> 0 | H45: =E45+F45+G45 -> 19363 | I45: 호표 42 | M45: 공통 2-6-1
A46: 5C4353FF4E37619A2D8EE733ED5D75 | B46: 강관동바리설치간격 0.8m 초과 | C46: H=3.5초과, 4.2m 이하(재료비별도) | D46: 공M3 | E46: =일위대가!F299 -> 0 | F46: =일위대가!H299 -> 17426 | G46: =일위대가!J299 -> 0 | H46: =E46+F46+G46 -> 17426 | I46: 호표 43 | M46: 공통 2-6-1
A47: 5C60033C4E2E6F0A7C8486E0B15FC0 | B47: 강관동바리 설치 및 해체 | C47: 3.5m 이하 | D47: M2 | E47: =일위대가!F304 -> 0 | F47: =일위대가!H304 -> 13855 | G47: =일위대가!J304 -> 0 | H47: =E47+F47+G47 -> 13855 | I47: 호표 44 | M47: 공통 2-6-2
A48: 5C60033C4E2E6F0A7C8486F1275078 | B48: 강관동바리 설치 및 해체 | C48: 3.5m 초과 ~ 4.2m 이하 | D48: M2 | E48: =일위대가!F309 -> 0 | F48: =일위대가!H309 -> 16319 | G48: =일위대가!J309 -> 0 | H48: =E48+F48+G48 -> 16319 | I48: 호표 45 | M48: 공통 2-6-2
A49: 5C60033C4E2E6F0A7F81EF99845FC6 | B49: 수평연결보강 | C49: 1단 | D49: M2 | E49: =일위대가!F314 -> 0 | F49: =일위대가!H314 -> 6464 | G49: =일위대가!J314 -> 0 | H49: =E49+F49+G49 -> 6464 | I49: 호표 46 | M49: 공통 2-6-2
A50: 5C60033C4E2E6F0B0381D9F4DC54EB | B50: 시스템동바리 설치 및 해체 | C50: 10m 이하, 자재비 별도 | D50: 10공M3 | E50: =일위대가!F320 -> 1549 | F50: =일위대가!H320 -> 178713 | G50: =일위대가!J320 -> 6628 | H50: =E50+F50+G50 -> 186890 | I50: 호표 47 | M50: 공통 2-6-3
A51: 5C60033C4E2E6F0B0D81E1F3B051D2 | B51: 시스템동바리 설치 및 해체 | C51: 10m 초과∼20m 이하, 자재비 별도 | D51: 10공M3 | E51: =일위대가!F326 -> 2279 | F51: =일위대가!H326 -> 211798 | G51: =일위대가!J326 -> 9748 | H51: =E51+F51+G51 -> 223825 | I51: 호표 48 | M51: 공통 2-6-3
A52: 5C60033C4E2E6F0B0D81D78B0750B8 | B52: 시스템동바리 설치 및 해체 | C52: 20m 초과∼30m 이하, 자재비 별도 | D52: 10공M3 | E52: =일위대가!F332 -> 2932 | F52: =일위대가!H332 -> 269268 | G52: =일위대가!J332 -> 13821 | H52: =E52+F52+G52 -> 286021 | I52: 호표 49 | M52: 공통 2-6-3
A53: 5C60033C4E2E6F0B0D818F71D15AA6 | B53: 알루미늄 폼 동바리 설치 및 해체 | D53: M2 | E53: =일위대가!F337 -> 0 | F53: =일위대가!H337 -> 8927 | G53: =일위대가!J337 -> 0 | H53: =E53+F53+G53 -> 8927 | I53: 호표 50 | M53: 공통 2-6-4
A54: 5C60033C4E2E6F0C2B8CCE424C5DDF | B54: 잭서포트 설치 및 해체 | D54: M2 | E54: =일위대가!F342 -> 0 | F54: =일위대가!H342 -> 17855 | G54: =일위대가!J342 -> 0 | H54: =E54+F54+G54 -> 17855 | I54: 호표 51 | M54: 공통 2-6-4
A55: 5C60033C4E2E6CB3688FDFFB6358DA | B55: 강관비계(쌍줄) 설치 및 해체 | C55: 10m 이하 | D55: M2 | E55: =일위대가!F348 -> 0 | F55: =일위대가!H348 -> 16525 | G55: =일위대가!J348 -> 330 | H55: =E55+F55+G55 -> 16855 | I55: 호표 52 | M55: 공통 2-7-1
A56: 5C60033C4E2E6CB3688FDFCE255AC0 | B56: 강관비계(쌍줄) 설치 및 해체 | C56: 10m 초과~20m 이하 | D56: M2 | E56: =일위대가!F354 -> 0 | F56: =일위대가!H354 -> 19215 | G56: =일위대가!J354 -> 384 | H56: =E56+F56+G56 -> 19599 | I56: 호표 53 | M56: 공통 2-7-1
A57: 5C60033C4E2E6CB3688FDFD8835D40 | B57: 강관비계(쌍줄) 설치 및 해체 | C57: 20m 초과~30m 이하 | D57: M2 | E57: =일위대가!F360 -> 0 | F57: =일위대가!H360 -> 21906 | G57: =일위대가!J360 -> 438 | H57: =E57+F57+G57 -> 22344 | I57: 호표 54 | M57: 공통 2-7-1
A58: 5C60033C4E2E6CB36C85934332547F | B58: 시스템비계 설치 및 해체 | C58: 10m 이하 | D58: M2 | E58: =일위대가!F365 -> 0 | F58: =일위대가!H365 -> 12298 | G58: =일위대가!J365 -> 0 | H58: =E58+F58+G58 -> 12298 | I58: 호표 55 | M58: 공통 2-7-2
A59: 5C60033C4E2E6CB36C85ADD2945C66 | B59: 시스템비계 설치 및 해체 | C59: 10m 초과~20m 이하 | D59: M2 | E59: =일위대가!F370 -> 0 | F59: =일위대가!H370 -> 14988 | G59: =일위대가!J370 -> 0 | H59: =E59+F59+G59 -> 14988 | I59: 호표 56 | M59: 공통 2-7-2
A60: 5C60033C4E2E6CB36C85BE26E45E5B | B60: 시스템비계 설치 및 해체 | C60: 20m 초과~30m 이하 | D60: M2 | E60: =일위대가!F375 -> 0 | F60: =일위대가!H375 -> 17679 | G60: =일위대가!J375 -> 0 | H60: =E60+F60+G60 -> 17679 | I60: 호표 57 | M60: 공통 2-7-2
A61: 5C60033C4E2E6CB36F828121EE501E | B61: 강관틀 비계 설치 및 해체 | C61: 10m 이하 | D61: M2 | E61: =일위대가!F380 -> 0 | F61: =일위대가!H380 -> 6917 | G61: =일위대가!J380 -> 0 | H61: =E61+F61+G61 -> 6917 | I61: 호표 58 | M61: 공통 2-7-3
A62: 5C60033C4E2E6CB36F828121DD592D | B62: 강관틀 비계 설치 및 해체 | C62: 10m 초과 ~ 20m 이하 | D62: M2 | E62: =일위대가!F385 -> 0 | F62: =일위대가!H385 -> 9607 | G62: =일위대가!J385 -> 0 | H62: =E62+F62+G62 -> 9607 | I62: 호표 59 | M62: 공통 2-7-3
A63: 5C60033C4E2E6CB36E801095D6598E | B63: 강관 조립말비계(이동식)설치 및 해체 | C63: 높이 2m, 노무비 | D63: 대 | E63: =일위대가!F390 -> 0 | F63: =일위대가!H390 -> 88773 | G63: =일위대가!J390 -> 0 | H63: =E63+F63+G63 -> 88773 | I63: 호표 60 | M63: 공통 2-7-4
A64: 5C60033C4E2E6CB36E801095D65A95 | B64: 강관 조립말비계(이동식)설치 및 해체 | C64: 높이 4m, 노무비 | D64: 대 | E64: =일위대가!F395 -> 0 | F64: =일위대가!H395 -> 147186 | G64: =일위대가!J395 -> 0 | H64: =E64+F64+G64 -> 147186 | I64: 호표 61 | M64: 공통 2-7-4
A65: 5C60033C4E2E6CB369881FCAD65B44 | B65: 경사형 가설 계단 설치 및 해체 | C65: 6m 이하 | D65: M2 | E65: =일위대가!F401 -> 0 | F65: =일위대가!H401 -> 86470 | G65: =일위대가!J401 -> 1729 | H65: =E65+F65+G65 -> 88199 | I65: 호표 62 | M65: 공통 2-7-5
A66: 5C60033C4E2E6CB36C8582F8F050D8 | B66: 비계용 브라켓 설치 및 해체 | C66: 벽용(브라켓 별도) | D66: 개소 | E66: =일위대가!F406 -> 0 | F66: =일위대가!H406 -> 21254 | G66: =일위대가!J406 -> 0 | H66: =E66+F66+G66 -> 21254 | I66: 호표 63 | M66: 공통 2-7-7
A67: 5C60033C4E2E6CB36C8582F8C45C11 | B67: 비계용 브라켓 설치 및 해체 | C67: 슬래브발코니, 난간용(브라켓 별도) | D67: 개소 | E67: =일위대가!F411 -> 0 | F67: =일위대가!H411 -> 16142 | G67: =일위대가!J411 -> 0 | H67: =E67+F67+G67 -> 16142 | I67: 호표 64 | M67: 공통 2-7-7
A68: 5C60033C4E3F63A7EE8697B79B5B54 | B68: 낙하물방지망 설치 및 해체 | C68: 3개월 | D68: M2 | E68: =일위대가!F420 -> 2606 | F68: =일위대가!H420 -> 9607 | G68: =일위대가!J420 -> 192 | H68: =E68+F68+G68 -> 12405 | I68: 호표 65 | M68: 공통 2-8-1
A69: 5C60033C4E3F63A7EE8697A53B58FD | B69: 낙하물방지망 설치 및 해체 | C69: 6개월 | D69: M2 | E69: =일위대가!F429 -> 3057 | F69: =일위대가!H429 -> 9607 | G69: =일위대가!J429 -> 192 | H69: =E69+F69+G69 -> 12856 | I69: 호표 66 | M69: 공통 2-8-1
A70: 5C60033C4E3F63A7EE8697C0005D94 | B70: 낙하물방지망 설치 및 해체 | C70: 12개월 | D70: M2 | E70: =일위대가!F438 -> 4071 | F70: =일위대가!H438 -> 9607 | G70: =일위대가!J438 -> 192 | H70: =E70+F70+G70 -> 13870 | I70: 호표 67 | M70: 공통 2-8-1
A71: 5C60033C4E3F63A7EE8697ECE45018 | B71: 낙하물방지망 설치 및 해체 | C71: 18개월 | D71: M2 | E71: =일위대가!F447 -> 5076 | F71: =일위대가!H447 -> 9607 | G71: =일위대가!J447 -> 192 | H71: =E71+F71+G71 -> 14875 | I71: 호표 68 | M71: 공통 2-8-1
A72: 5C60033C4E3F63A7EE869706F15C7C | B72: 낙하물방지망 설치 및 해체 | C72: 24개월 | D72: M2 | E72: =일위대가!F456 -> 6094 | F72: =일위대가!H456 -> 9607 | G72: =일위대가!J456 -> 192 | H72: =E72+F72+G72 -> 15893 | I72: 호표 69 | M72: 공통 2-8-1
A73: 5C60033C4E3F63A7EE8685349E5F6C | B73: 낙하물방지망 설치 및 해체 | C73: 30개월 | D73: M2 | E73: =일위대가!F465 -> 7095 | F73: =일위대가!H465 -> 9607 | G73: =일위대가!J465 -> 192 | H73: =E73+F73+G73 -> 16894 | I73: 호표 70 | M73: 공통 2-8-1
A74: 5C60033C4E3F63A7EE868519C15A56 | B74: 낙하물방지망 설치 및 해체 | C74: 36개월 | D74: M2 | E74: =일위대가!F474 -> 8070 | F74: =일위대가!H474 -> 9607 | G74: =일위대가!J474 -> 192 | H74: =E74+F74+G74 -> 17869 | I74: 호표 71 | M74: 공통 2-8-1
A75: 5C60033C4E3F63A7EB8959AAC45D88 | B75: 낙하물 방지망(플라잉넷) 설치 및 해체 | C75: - 재료비 별도 - | D75: M2 | E75: =일위대가!F480 -> 0 | F75: =일위대가!H480 -> 6917 | G75: =일위대가!J480 -> 207 | H75: =E75+F75+G75 -> 7124 | I75: 호표 72 | M75: 공통 2-8-2
A76: 5C60033C4E3F63A7EF8733EDB457EC | B76: 낙하물 방지망(시스템방호) 설치 및 해체 | D76: 10M2 | E76: =일위대가!F486 -> 0 | F76: =일위대가!H486 -> 82626 | G76: =일위대가!J486 -> 1652 | H76: =E76+F76+G76 -> 84278 | I76: 호표 73 | M76: 공통 2-8-3
A77: 5C60033C4E3F63A7EF8733EDB456C5 | B77: 낙하물 방지망(시스템방호) 설치 및 해체 | D77: M2 | E77: =일위대가!F492 -> 0 | F77: =일위대가!H492 -> 8262 | G77: =일위대가!J492 -> 165 | H77: =E77+F77+G77 -> 8427 | I77: 호표 74 | M77: 공통 2-8-3
A78: 5C60033C4E3F6C826A859D3888573E | B78: 비계주위 보호막 설치 및 해체 | C78: PVC코팅, #1500, 1.8*1.8m | D78: M2 | E78: =일위대가!F497 -> 2640 | F78: =일위대가!H497 -> 5380 | G78: =일위대가!J497 -> 0 | H78: =E78+F78+G78 -> 8020 | I78: 호표 75 | M78: 공통 2-8-6
A79: 5C60033C4E3F6C826B87A5340D522B | B79: 비계주위 보호막 설치 및 해체 | C79: PVC코팅, #420-1.8*1.8m | D79: M2 | E79: =일위대가!F502 -> 2574 | F79: =일위대가!H502 -> 5380 | G79: =일위대가!J502 -> 0 | H79: =E79+F79+G79 -> 7954 | I79: 호표 76 | M79: 공통 2-8-6
A80: 5C60033C4E3F6C826A859D034859CC | B80: 비계주위 보호망 설치 및 해체 | C80: P.E망, 210合, 10cm | D80: M2 | E80: =일위대가!F507 -> 1367 | F80: =일위대가!H507 -> 2690 | G80: =일위대가!J507 -> 0 | H80: =E80+F80+G80 -> 4057 | I80: 호표 77 | M80: 공통 2-8-7
A81: 5C60033C4E3F61F86882426A855ECC | B81: 비계주위 보호망 설치 및 해체 | C81: 방진망, P.E, 1.5*150m | D81: M2 | E81: =일위대가!F512 -> 405 | F81: =일위대가!H512 -> 2690 | G81: =일위대가!J512 -> 0 | H81: =E81+F81+G81 -> 3095 | I81: 호표 78 | M81: 공통 2-8-7
A82: 5C60033C4E3F6C826A859D65C656DE | B82: 방진망 설치 및 해체 | C82: P.E, 1.5*150m | D82: M2 | E82: =일위대가!F518 -> 700 | F82: =일위대가!H518 -> 4304 | G82: =일위대가!J518 -> 0 | H82: =E82+F82+G82 -> 5004 | I82: 호표 79 | M82: 공통 2-8-9
A83: 5C60033C4E3F6C8372851F501F5409 | B83: 수직형 추락방망 설치 및 해체 | C83: 개구부 면적 1.0m2 이하 | D83: 개소 | E83: =일위대가!F523 -> 0 | F83: =일위대가!H523 -> 13182 | G83: =일위대가!J523 -> 263 | H83: =E83+F83+G83 -> 13445 | I83: 호표 80 | M83: 공통 2-8-10
A84: 5C60033C4E3F6C8372851F501F5636 | B84: 수직형 추락방망 설치 및 해체 | C84: 개구부 면적 1.0~3.0m2 이하 | D84: 개소 | E84: =일위대가!F528 -> 0 | F84: =일위대가!H528 -> 16949 | G84: =일위대가!J528 -> 338 | H84: =E84+F84+G84 -> 17287 | I84: 호표 81 | M84: 공통 2-8-10
A85: 5C60033C4E3F6C8372851F501F5362 | B85: 수직형 추락방망 설치 및 해체 | C85: 개구부 면적 3.0~6.0m2 이하 | D85: 개소 | E85: =일위대가!F533 -> 0 | F85: =일위대가!H533 -> 27172 | G85: =일위대가!J533 -> 543 | H85: =E85+F85+G85 -> 27715 | I85: 호표 82 | M85: 공통 2-8-10
A86: 5C60033C4E3F6C8372851F501F5C5F | B86: 수직형 추락방망 설치 및 해체 | C86: 개구부 면적 6.0~9.0m2 이하 | D86: 개소 | E86: =일위대가!F538 -> 0 | F86: =일위대가!H538 -> 34975 | G86: =일위대가!J538 -> 699 | H86: =E86+F86+G86 -> 35674 | I86: 호표 83 | M86: 공통 2-8-10
A87: 5C60033C4E3F6C8372851F500E5D17 | B87: 수직형 추락방망 설치 및 해체 | C87: 개구부 면적 9.0~12.0m2 이하 | D87: 개소 | E87: =일위대가!F543 -> 0 | F87: =일위대가!H543 -> 43046 | G87: =일위대가!J543 -> 860 | H87: =E87+F87+G87 -> 43906 | I87: 호표 84 | M87: 공통 2-8-10
A88: 5C60033C4E3F6C837387A4EE7956D8 | B88: 안전난간대 설치 및 해체 | C88: 브라켓형 2단, 난간기둥 간격 1.0m이하 | D88: M | E88: =일위대가!F549 -> 0 | F88: =일위대가!H549 -> 16572 | G88: =일위대가!J549 -> 331 | H88: =E88+F88+G88 -> 16903 | I88: 호표 85 | M88: 공통 2-8-11
A89: 5C60033C4E3F6C837387A4EE795304 | B89: 안전난간대 설치 및 해체 | C89: 브라켓형 2단, 난간기둥 간격 1.5m이하 | D89: M | E89: =일위대가!F555 -> 0 | F89: =일위대가!H555 -> 15066 | G89: =일위대가!J555 -> 301 | H89: =E89+F89+G89 -> 15367 | I89: 호표 86 | M89: 공통 2-8-11
A90: 5C60033C4E3F6C837387A4EE4C527A | B90: 안전난간대 설치 및 해체 | C90: 브라켓형 2단, 난간기둥 간격 1.5m초과 | D90: M | E90: =일위대가!F561 -> 0 | F90: =일위대가!H561 -> 13559 | G90: =일위대가!J561 -> 271 | H90: =E90+F90+G90 -> 13830 | I90: 호표 87 | M90: 공통 2-8-11
A91: 5C60033C4E3F6C837387A4F8D75958 | B91: 안전난간대 설치 및 해체 | C91: 브라켓형 3단, 난간기둥 간격 1.0m이하 | D91: M | E91: =일위대가!F567 -> 0 | F91: =일위대가!H567 -> 18348 | G91: =일위대가!J567 -> 366 | H91: =E91+F91+G91 -> 18714 | I91: 호표 88 | M91: 공통 2-8-11
A92: 5C60033C4E3F6C837387A4F8D75C2C | B92: 안전난간대 설치 및 해체 | C92: 브라켓형 3단, 난간기둥 간격 1.5m이하 | D92: M | E92: =일위대가!F573 -> 0 | F92: =일위대가!H573 -> 16680 | G92: =일위대가!J573 -> 333 | H92: =E92+F92+G92 -> 17013 | I92: 호표 89 | M92: 공통 2-8-11
A93: 5C60033C4E3F6C837387A4F8E0502A | B93: 안전난간대 설치 및 해체 | C93: 브라켓형 3단, 난간기둥 간격 1.5m초과 | D93: M | E93: =일위대가!F579 -> 0 | F93: =일위대가!H579 -> 15012 | G93: =일위대가!J579 -> 300 | H93: =E93+F93+G93 -> 15312 | I93: 호표 90 | M93: 공통 2-8-11
A94: 5C60033C4E3F6C837387B5057554E0 | B94: 안전난간대 설치 및 해체 | C94: 앵커형 2단, 난간기둥 간격 1.0m이하 | D94: M | E94: =일위대가!F585 -> 0 | F94: =일위대가!H585 -> 18940 | G94: =일위대가!J585 -> 378 | H94: =E94+F94+G94 -> 19318 | I94: 호표 91 | M94: 공통 2-8-11
A95: 5C60033C4E3F6C837387B50575512C | B95: 안전난간대 설치 및 해체 | C95: 앵커형 2단, 난간기둥 간격 1.5m이하 | D95: M | E95: =일위대가!F591 -> 0 | F95: =일위대가!H591 -> 17218 | G95: =일위대가!J591 -> 344 | H95: =E95+F95+G95 -> 17562 | I95: 호표 92 | M95: 공통 2-8-11
A96: 5C60033C4E3F6C837387B505485001 | B96: 안전난간대 설치 및 해체 | C96: 앵커형 2단, 난간기둥 간격 1.5m초과 | D96: M | E96: =일위대가!F597 -> 0 | F96: =일위대가!H597 -> 15496 | G96: =일위대가!J597 -> 309 | H96: =E96+F96+G96 -> 15805 | I96: 호표 93 | M96: 공통 2-8-11
A97: 5C60033C4E3F6C837387B517D55758 | B97: 안전난간대 설치 및 해체 | C97: 앵커형 3단, 난간기둥 간격 1.0m이하 | D97: M | E97: =일위대가!F603 -> 0 | F97: =일위대가!H603 -> 20715 | G97: =일위대가!J603 -> 414 | H97: =E97+F97+G97 -> 21129 | I97: 호표 94 | M97: 공통 2-8-11
A98: 5C60033C4E3F6C837387B517D552D6 | B98: 안전난간대 설치 및 해체 | C98: 앵커형 3단, 난간기둥 간격 1.5m이하 | D98: M | E98: =일위대가!F609 -> 0 | F98: =일위대가!H609 -> 18832 | G98: =일위대가!J609 -> 376 | H98: =E98+F98+G98 -> 19208 | I98: 호표 95 | M98: 공통 2-8-11
A99: 5C60033C4E3F6C837387B517E75D5A | B99: 안전난간대 설치 및 해체 | C99: 앵커형 3단, 난간기둥 간격 1.5m초과 | D99: M | E99: =일위대가!F615 -> 0 | F99: =일위대가!H615 -> 16949 | G99: =일위대가!J615 -> 338 | H99: =E99+F99+G99 -> 17287 | I99: 호표 96 | M99: 공통 2-8-11
A100: 5C60033C4E3F6C83708A43E77D5E2F | B100: 계단난간대 설치 및 해체 | C100: 브라켓형, 난간대 길이 2.5m이하, 2단 기준 | D100: 개소 | E100: =일위대가!F620 -> 0 | F100: =일위대가!H620 -> 37665 | G100: =일위대가!J620 -> 753 | H100: =E100+F100+G100 -> 38418 | I100: 호표 97 | M100: 공통 2-8-12
...

Sheet 일위대가
A1: [ 경상남도교육청 일위대가(2022년 하반기) ]
A2: 품 명 | B2: 규 격 | C2: 단위 | D2: 수량 | E2: 재 료 비 | G2: 노 무 비 | I2: 경 비 | K2: 합 계 | M2: 비 고 | N2: 일위대가 | O2: 품목코드 | P2: 일위 | Q2: 단산 | R2: 자재 | S2: 손료적용 | T2: 손료저장 | U2: 적용율 | V2: JUK1 | W2: JUK2 | X2: JUK3 | Y2: JUK4 | Z2: JUK5 | AA2: JUK6 | AB2: JUK7 | AC2: JUK8 | AD2: 할증적용 | AE2: 할증저장 | AF2: 할증율 | AG2: HAL1 | AH2: HAL2 | AI2: HAL3 | AJ2: 자재구분 | AK2: 일위대가+자재 | AL2: 장비일위 | AM2: 설정
E3: 단 가 | F3: 금 액 | G3: 단 가 | H3: 금 액 | I3: 단 가 | J3: 금 액 | K3: 단 가 | L3: 금 액
A4: 철재조립식 가설건축물 설치 및 해체 사무실 M2 공통 2-3-1 ( 호표 1 ) | N4: 5C60033F4B7563CC0C8D2CDFF15322
A5: 건축목공 | B5: 일반공사 직종 | C5: 인 | D5: 0.26 | E5: 0 | F5: =TRUNC(E5*D5,1) -> 0 | G5: 242631 | H5: =TRUNC(G5*D5,1) -> 63084 | I5: 0 | J5: =TRUNC(I5*D5,1) -> 0 | K5: =TRUNC(E5+G5+I5,1) -> 242631 | L5: =TRUNC(F5+H5+J5,1) -> 63084 | M5: 금액제외 | O5: 5CBF33614D1B68F169828194565881423DD779 | P5: F | Q5: F | R5: T | V5: 1 | W5: 2 | AK5: 5C60033F4B7563CC0C8D2CDFF153225CBF33614D1B68F169828194565881423DD779 | AM5: -
A6: 보통인부 | B6: 일반공사 직종 | C6: 인 | D6: 0.11 | E6: 0 | F6: =TRUNC(E6*D6,1) -> 0 | G6: 153671 | H6: =TRUNC(G6*D6,1) -> 16903.8 | I6: 0 | J6: =TRUNC(I6*D6,1) -> 0 | K6: =TRUNC(E6+G6+I6,1) -> 153671 | L6: =TRUNC(F6+H6+J6,1) -> 16903.8 | M6: 금액제외 | O6: 5CBF33614D1B68F169828194565881423DD54E | P6: F | Q6: F | R6: T | V6: 1 | W6: 2 | AK6: 5C60033F4B7563CC0C8D2CDFF153225CBF33614D1B68F169828194565881423DD54E | AM6: -
A7: 크레인(무한궤도) | B7: 10ton(0.29㎥) | C7: HR | D7: 0.19 | E7: 9712 | F7: =TRUNC(E7*D7,1) -> 1845.2 | G7: 47967 | H7: =TRUNC(G7*D7,1) -> 9113.7 | I7: 12892 | J7: =TRUNC(I7*D7,1) -> 2449.4 | K7: =TRUNC(E7+G7+I7,1) -> 70571 | L7: =TRUNC(F7+H7+J7,1) -> 13408.3 | M7: 금액제외 | O7: 5B78C378434567B570886E1ACD57890B025538DC | P7: T | Q7: F | R7: F | W7: 2 | AK7: 5C60033F4B7563CC0C8D2CDFF153225B78C378434567B570886E1ACD57890B025538DC | AM7: -
A8: 공구손료 | B8: 인력품의 2% | C8: 식 | D8: 1 | E8: 0 | F8: =TRUNC(E8*D8,1) -> 0 | G8: 0 | H8: =TRUNC(G8*D8,1) -> 0 | I8: =TRUNC(SUMIF(V5:V9, RIGHTB(O8, 1), H5:H9)*U8, 2) -> 1599.75 | J8: =TRUNC(I8*D8,1) -> 1599.7 | K8: =TRUNC(E8+G8+I8,1) -> 1599.7 | L8: =TRUNC(F8+H8+J8,1) -> 1599.7 | M8: 금액제외 | O8: 5D7C43414B556F1341888AB7A65E1 | P8: F | Q8: F | R8: F | S8: 1 | T8: 2 | U8: 0.02 | W8: 2 | AK8: 5C60033F4B7563CC0C8D2CDFF153225D7C43414B556F1341888AB7A65E1 | AM8: -
A9: 경비로 적용 | B9: 합계의 100% | C9: 식 | D9: 1 | E9: 0 | F9: =TRUNC(E9*D9,1) -> 0 | G9: 0 | H9: =TRUNC(G9*D9,1) -> 0 | I9: =TRUNC(SUMIF(W5:W9, RIGHTB(O9, 1), L5:L9)*U9, 2) -> 94995.8 | J9: =TRUNC(I9*D9,1) -> 94995.8 | K9: =TRUNC(E9+G9+I9,1) -> 94995.8 | L9: =TRUNC(F9+H9+J9,1) -> 94995.8 | N9: 5C60033F4B7563CC0C8D2CDFF15322 | O9: 5D7C43414B556F1341888AB7A65D2 | P9: F | Q9: F | R9: F | S9: 3 | T9: 2 | U9: 1 | AK9: 5C60033F4B7563CC0C8D2CDFF153225D7C43414B556F1341888AB7A65D2
A10: [ 합 계 ] | F10: =TRUNC(SUMIF(N5:N9, N4, F5:F9),0) -> 0 | H10: =TRUNC(SUMIF(N5:N9, N4, H5:H9),0) -> 0 | J10: =TRUNC(SUMIF(N5:N9, N4, J5:J9),0) -> 94995 | L10: =F10+H10+J10 -> 94995 | N10: TOTAL | O10: TOTAL | AM10: -
A12: 철재조립식 가설건축물 설치 및 해체 창고 M2 공통 2-3-1 ( 호표 2 ) | N12: 5C60033F4B7563CC0C8D2CDFF1521B
A13: 건축목공 | B13: 일반공사 직종 | C13: 인 | D13: 0.2 | E13: 0 | F13: =TRUNC(E13*D13,1) -> 0 | G13: 242631 | H13: =TRUNC(G13*D13,1) -> 48526.2 | I13: 0 | J13: =TRUNC(I13*D13,1) -> 0 | K13: =TRUNC(E13+G13+I13,1) -> 242631 | L13: =TRUNC(F13+H13+J13,1) -> 48526.2 | M13: 금액제외 | O13: 5CBF33614D1B68F169828194565881423DD779 | P13: F | Q13: F | R13: T | V13: 1 | W13: 2 | AK13: 5C60033F4B7563CC0C8D2CDFF1521B5CBF33614D1B68F169828194565881423DD779 | AM13: -
A14: 보통인부 | B14: 일반공사 직종 | C14: 인 | D14: 0.09 | E14: 0 | F14: =TRUNC(E14*D14,1) -> 0 | G14: 153671 | H14: =TRUNC(G14*D14,1) -> 13830.3 | I14: 0 | J14: =TRUNC(I14*D14,1) -> 0 | K14: =TRUNC(E14+G14+I14,1) -> 153671 | L14: =TRUNC(F14+H14+J14,1) -> 13830.3 | M14: 금액제외 | O14: 5CBF33614D1B68F169828194565881423DD54E | P14: F | Q14: F | R14: T | V14: 1 | W14: 2 | AK14: 5C60033F4B7563CC0C8D2CDFF1521B5CBF33614D1B68F169828194565881423DD54E | AM14: -
A15: 크레인(무한궤도) | B15: 10ton(0.29㎥) | C15: HR | D15: 0.15 | E15: 9712 | F15: =TRUNC(E15*D15,1) -> 1456.8 | G15: 47967 | H15: =TRUNC(G15*D15,1) -> 7195 | I15: 12892 | J15: =TRUNC(I15*D15,1) -> 1933.8 | K15: =TRUNC(E15+G15+I15,1) -> 70571 | L15: =TRUNC(F15+H15+J15,1) -> 10585.6 | M15: 금액제외 | O15: 5B78C378434567B570886E1ACD57890B025538DC | P15: T | Q15: F | R15: F | W15: 2 | AK15: 5C60033F4B7563CC0C8D2CDFF1521B5B78C378434567B570886E1ACD57890B025538DC | AM15: -
A16: 공구손료 | B16: 인력품의 2% | C16: 식 | D16: 1 | E16: 0 | F16: =TRUNC(E16*D16,1) -> 0 | G16: 0 | H16: =TRUNC(G16*D16,1) -> 0 | I16: =TRUNC(SUMIF(V13:V17, RIGHTB(O16, 1), H13:H17)*U16, 2) -> 1247.13 | J16: =TRUNC(I16*D16,1) -> 1247.1 | K16: =TRUNC(E16+G16+I16,1) -> 1247.1 | L16: =TRUNC(F16+H16+J16,1) -> 1247.1 | M16: 금액제외 | O16: 5D7C43414B556F1341888AB7A65E1 | P16: F | Q16: F | R16: F | S16: 1 | T16: 2 | U16: 0.02 | W16: 2 | AK16: 5C60033F4B7563CC0C8D2CDFF1521B5D7C43414B556F1341888AB7A65E1 | AM16: -
A17: 경비로 적용 | B17: 합계의 100% | C17: 식 | D17: 1 | E17: 0 | F17: =TRUNC(E17*D17,1) -> 0 | G17: 0 | H17: =TRUNC(G17*D17,1) -> 0 | I17: =TRUNC(SUMIF(W13:W17, RIGHTB(O17, 1), L13:L17)*U17, 2) -> 74189.2 | J17: =TRUNC(I17*D17,1) -> 74189.2 | K17: =TRUNC(E17+G17+I17,1) -> 74189.2 | L17: =TRUNC(F17+H17+J17,1) -> 74189.2 | N17: 5C60033F4B7563CC0C8D2CDFF1521B | O17: 5D7C43414B556F1341888AB7A65D2 | P17: F | Q17: F | R17: F | S17: 3 | T17: 2 | U17: 1 | AK17: 5C60033F4B7563CC0C8D2CDFF1521B5D7C43414B556F1341888AB7A65D2
A18: [ 합 계 ] | F18: =TRUNC(SUMIF(N13:N17, N12, F13:F17),0) -> 0 | H18: =TRUNC(SUMIF(N13:N17, N12, H13:H17),0) -> 0 | J18: =TRUNC(SUMIF(N13:N17, N12, J13:J17),0) -> 74189 | L18: =F18+H18+J18 -> 74189 | N18: TOTAL | O18: TOTAL | AM18: -
A20: 콘테이너형 가설건축물 설치 3.0*3.0*2.6m 개소 공통 2-3-2 ( 호표 3 ) | N20: 5C60033F4B756220488751143F5488
A21: 비계공 | B21: 일반공사 직종 | C21: 인 | D21: 0.2 | E21: 0 | F21: =TRUNC(E21*D21,1) -> 0 | G21: 269039 | H21: =TRUNC(G21*D21,1) -> 53807.8 | I21: 0 | J21: =TRUNC(I21*D21,1) -> 0 | K21: =TRUNC(E21+G21+I21,1) -> 269039 | L21: =TRUNC(F21+H21+J21,1) -> 53807.8 | M21: 금액제외 | O21: 5CBF33614D1B68F169828194565881423DD54A | P21: F | Q21: F | R21: T | V21: 1 | AK21: 5C60033F4B756220488751143F54885CBF33614D1B68F169828194565881423DD54A | AM21: -
A22: 특별인부 | B22: 일반공사 직종 | C22: 인 | D22: 0.09 | E22: 0 | F22: =TRUNC(E22*D22,1) -> 0 | G22: 192375 | H22: =TRUNC(G22*D22,1) -> 17313.7 | I22: 0 | J22: =TRUNC(I22*D22,1) -> 0 | K22: =TRUNC(E22+G22+I22,1) -> 192375 | L22: =TRUNC(F22+H22+J22,1) -> 17313.7 | M22: 금액제외 | O22: 5CBF33614D1B68F169828194565881423DD54F | P22: F | Q22: F | R22: T | V22: 1 | AK22: 5C60033F4B756220488751143F54885CBF33614D1B68F169828194565881423DD54F | AM22: -
A23: 크레인(타이어) | B23: 10ton | C23: HR | D23: 1 | E23: 7370 | F23: =TRUNC(E23*D23,1) -> 7370 | G23: 47967 | H23: =TRUNC(G23*D23,1) -> 47967 | I23: 28495 | J23: =TRUNC(I23*D23,1) -> 28495 | K23: =TRUNC(E23+G23+I23,1) -> 83832 | L23: =TRUNC(F23+H23+J23,1) -> 83832 | M23: 금액제외 | O23: 5B78C378434567B5708832C1F05C7F86D5B4A77A | P23: T | Q23: F | R23: F | V23: 1 | AK23: 5C60033F4B756220488751143F54885B78C378434567B5708832C1F05C7F86D5B4A77A | AM23: -
A24: 경비로 적용 | B24: 합계의 100% | C24: 식 | D24: 1 | E24: 0 | F24: =TRUNC(E24*D24,1) -> 0 | G24: 0 | H24: =TRUNC(G24*D24,1) -> 0 | I24: =TRUNC(SUMIF(V21:V24, RIGHTB(O24, 1), L21:L24)*U24, 2) -> 154953.5 | J24: =TRUNC(I24*D24,1) -> 154953.5 | K24: =TRUNC(E24+G24+I24,1) -> 154953.5 | L24: =TRUNC(F24+H24+J24,1) -> 154953.5 | N24: 5C60033F4B756220488751143F5488 | O24: 5D7C43414B556F1341888AB7A65E1 | P24: F | Q24: F | R24: F | S24: 3 | T24: 2 | U24: 1 | AK24: 5C60033F4B756220488751143F54885D7C43414B556F1341888AB7A65E1
A25: [ 합 계 ] | F25: =TRUNC(SUMIF(N21:N24, N20, F21:F24),0) -> 0 | H25: =TRUNC(SUMIF(N21:N24, N20, H21:H24),0) -> 0 | J25: =TRUNC(SUMIF(N21:N24, N20, J21:J24),0) -> 154953 | L25: =F25+H25+J25 -> 154953 | N25: TOTAL | O25: TOTAL | AM25: -
A27: 콘테이너형 가설건축물 해체 3.0*3.0*2.6m 개소 공통 2-3-2 ( 호표 4 ) | N27: 5C60033F4B756220488751143F548D
A28: 비계공 | B28: 일반공사 직종 | C28: 인 | D28: 0.2 | E28: 0 | F28: =TRUNC(E28*D28,1) -> 0 | G28: 269039 | H28: =TRUNC(G28*D28,1) -> 53807.8 | I28: 0 | J28: =TRUNC(I28*D28,1) -> 0 | K28: =TRUNC(E28+G28+I28,1) -> 269039 | L28: =TRUNC(F28+H28+J28,1) -> 53807.8 | M28: 금액제외 | O28: 5CBF33614D1B68F169828194565881423DD54A | P28: F | Q28: F | R28: T | V28: 1 | AK28: 5C60033F4B756220488751143F548D5CBF33614D1B68F169828194565881423DD54A | AM28: -
A29: 특별인부 | B29: 일반공사 직종 | C29: 인 | D29: 0.09 | E29: 0 | F29: =TRUNC(E29*D29,1) -> 0 | G29: 192375 | H29: =TRUNC(G29*D29,1) -> 17313.7 | I29: 0 | J29: =TRUNC(I29*D29,1) -> 0 | K29: =TRUNC(E29+G29+I29,1) -> 192375 | L29: =TRUNC(F29+H29+J29,1) -> 17313.7 | M29: 금액제외 | O29: 5CBF33614D1B68F169828194565881423DD54F | P29: F | Q29: F | R29: T | V29: 1 | AK29: 5C60033F4B756220488751143F548D5CBF33614D1B68F169828194565881423DD54F | AM29: -
A30: 크레인(타이어) | B30: 10ton | C30: HR | D30: 1 | E30: 7370 | F30: =TRUNC(E30*D30,1) -> 7370 | G30: 47967 | H30: =TRUNC(G30*D30,1) -> 47967 | I30: 28495 | J30: =TRUNC(I30*D30,1) -> 28495 | K30: =TRUNC(E30+G30+I30,1) -> 83832 | L30: =TRUNC(F30+H30+J30,1) -> 83832 | M30: 금액제외 | O30: 5B78C378434567B5708832C1F05C7F86D5B4A77A | P30: T | Q30: F | R30: F | V30: 1 | AK30: 5C60033F4B756220488751143F548D5B78C378434567B5708832C1F05C7F86D5B4A77A | AM30: -
A31: 경비로 적용 | B31: 합계의 100% | C31: 식 | D31: 1 | E31: 0 | F31: =TRUNC(E31*D31,1) -> 0 | G31: 0 | H31: =TRUNC(G31*D31,1) -> 0 | I31: =TRUNC(SUMIF(V28:V31, RIGHTB(O31, 1), L28:L31)*U31, 2) -> 154953.5 | J31: =TRUNC(I31*D31,1) -> 154953.5 | K31: =TRUNC(E31+G31+I31,1) -> 154953.5 | L31: =TRUNC(F31+H31+J31,1) -> 154953.5 | N31: 5C60033F4B756220488751143F548D | O31: 5D7C43414B556F1341888AB7A65E1 | P31: F | Q31: F | R31: F | S31: 3 | T31: 2 | U31: 1 | AK31: 5C60033F4B756220488751143F548D5D7C43414B556F1341888AB7A65E1
A32: [ 합 계 ] | F32: =TRUNC(SUMIF(N28:N31, N27, F28:F31),0) -> 0 | H32: =TRUNC(SUMIF(N28:N31, N27, H28:H31),0) -> 0 | J32: =TRUNC(SUMIF(N28:N31, N27, J28:J31),0) -> 154953 | L32: =F32+H32+J32 -> 154953 | N32: TOTAL | O32: TOTAL | AM32: -
A34: 콘테이너형 가설건축물 해체 3.0*6.0*2.6m 개소 공통 2-3-2 ( 호표 5 ) | N34: 5C60033F4B756220488751143F5759
A35: 비계공 | B35: 일반공사 직종 | C35: 인 | D35: 0.29 | E35: 0 | F35: =TRUNC(E35*D35,1) -> 0 | G35: 269039 | H35: =TRUNC(G35*D35,1) -> 78021.3 | I35: 0 | J35: =TRUNC(I35*D35,1) -> 0 | K35: =TRUNC(E35+G35+I35,1) -> 269039 | L35: =TRUNC(F35+H35+J35,1) -> 78021.3 | M35: 금액제외 | O35: 5CBF33614D1B68F169828194565881423DD54A | P35: F | Q35: F | R35: T | V35: 1 | AK35: 5C60033F4B756220488751143F57595CBF33614D1B68F169828194565881423DD54A | AM35: -
A36: 특별인부 | B36: 일반공사 직종 | C36: 인 | D36: 0.17 | E36: 0 | F36: =TRUNC(E36*D36,1) -> 0 | G36: 192375 | H36: =TRUNC(G36*D36,1) -> 32703.7 | I36: 0 | J36: =TRUNC(I36*D36,1) -> 0 | K36: =TRUNC(E36+G36+I36,1) -> 192375 | L36: =TRUNC(F36+H36+J36,1) -> 32703.7 | M36: 금액제외 | O36: 5CBF33614D1B68F169828194565881423DD54F | P36: F | Q36: F | R36: T | V36: 1 | AK36: 5C60033F4B756220488751143F57595CBF33614D1B68F169828194565881423DD54F | AM36: -
A37: 크레인(타이어) | B37: 10ton | C37: HR | D37: 1 | E37: 7370 | F37: =TRUNC(E37*D37,1) -> 7370 | G37: 47967 | H37: =TRUNC(G37*D37,1) -> 47967 | I37: 28495 | J37: =TRUNC(I37*D37,1) -> 28495 | K37: =TRUNC(E37+G37+I37,1) -> 83832 | L37: =TRUNC(F37+H37+J37,1) -> 83832 | M37: 금액제외 | O37: 5B78C378434567B5708832C1F05C7F86D5B4A77A | P37: T | Q37: F | R37: F | V37: 1 | AK37: 5C60033F4B756220488751143F57595B78C378434567B5708832C1F05C7F86D5B4A77A | AM37: -
A38: 경비로 적용 | B38: 합계의 100% | C38: 식 | D38: 1 | E38: 0 | F38: =TRUNC(E38*D38,1) -> 0 | G38: 0 | H38: =TRUNC(G38*D38,1) -> 0 | I38: =TRUNC(SUMIF(V35:V38, RIGHTB(O38, 1), L35:L38)*U38, 2) -> 194557 | J38: =TRUNC(I38*D38,1) -> 194557 | K38: =TRUNC(E38+G38+I38,1) -> 194557 | L38: =TRUNC(F38+H38+J38,1) -> 194557 | N38: 5C60033F4B756220488751143F5759 | O38: 5D7C43414B556F1341888AB7A65E1 | P38: F | Q38: F | R38: F | S38: 3 | T38: 2 | U38: 1 | AK38: 5C60033F4B756220488751143F57595D7C43414B556F1341888AB7A65E1
A39: [ 합 계 ] | F39: =TRUNC(SUMIF(N35:N38, N34, F35:F38),0) -> 0 | H39: =TRUNC(SUMIF(N35:N38, N34, H35:H38),0) -> 0 | J39: =TRUNC(SUMIF(N35:N38, N34, J35:J38),0) -> 194557 | L39: =F39+H39+J39 -> 194557 | N39: TOTAL | O39: TOTAL | AM39: -
A41: 콘테이너형 가설건축물 설치 3.0*6.0*2.6m 개소 공통 2-3-2 ( 호표 6 ) | N41: 5C60033F4B756220488751143F575C
A42: 비계공 | B42: 일반공사 직종 | C42: 인 | D42: 0.29 | E42: 0 | F42: =TRUNC(E42*D42,1) -> 0 | G42: 269039 | H42: =TRUNC(G42*D42,1) -> 78021.3 | I42: 0 | J42: =TRUNC(I42*D42,1) -> 0 | K42: =TRUNC(E42+G42+I42,1) -> 269039 | L42: =TRUNC(F42+H42+J42,1) -> 78021.3 | M42: 금액제외 | O42: 5CBF33614D1B68F169828194565881423DD54A | P42: F | Q42: F | R42: T | V42: 1 | AK42: 5C60033F4B756220488751143F575C5CBF33614D1B68F169828194565881423DD54A | AM42: -
A43: 특별인부 | B43: 일반공사 직종 | C43: 인 | D43: 0.17 | E43: 0 | F43: =TRUNC(E43*D43,1) -> 0 | G43: 192375 | H43: =TRUNC(G43*D43,1) -> 32703.7 | I43: 0 | J43: =TRUNC(I43*D43,1) -> 0 | K43: =TRUNC(E43+G43+I43,1) -> 192375 | L43: =TRUNC(F43+H43+J43,1) -> 32703.7 | M43: 금액제외 | O43: 5CBF33614D1B68F169828194565881423DD54F | P43: F | Q43: F | R43: T | V43: 1 | AK43: 5C60033F4B756220488751143F575C5CBF33614D1B68F169828194565881423DD54F | AM43: -
A44: 크레인(타이어) | B44: 10ton | C44: HR | D44: 1 | E44: 7370 | F44: =TRUNC(E44*D44,1) -> 7370 | G44: 47967 | H44: =TRUNC(G44*D44,1) -> 47967 | I44: 28495 | J44: =TRUNC(I44*D44,1) -> 28495 | K44: =TRUNC(E44+G44+I44,1) -> 83832 | L44: =TRUNC(F44+H44+J44,1) -> 83832 | M44: 금액제외 | O44: 5B78C378434567B5708832C1F05C7F86D5B4A77A | P44: T | Q44: F | R44: F | V44: 1 | AK44: 5C60033F4B756220488751143F575C5B78C378434567B5708832C1F05C7F86D5B4A77A | AM44: -
A45: 경비로 적용 | B45: 합계의 100% | C45: 식 | D45: 1 | E45: 0 | F45: =TRUNC(E45*D45,1) -> 0 | G45: 0 | H45: =TRUNC(G45*D45,1) -> 0 | I45: =TRUNC(SUMIF(V42:V45, RIGHTB(O45, 1), L42:L45)*U45, 2) -> 194557 | J45: =TRUNC(I45*D45,1) -> 194557 | K45: =TRUNC(E45+G45+I45,1) -> 194557 | L45: =TRUNC(F45+H45+J45,1) -> 194557 | N45: 5C60033F4B756220488751143F575C | O45: 5D7C43414B556F1341888AB7A65E1 | P45: F | Q45: F | R45: F | S45: 3 | T45: 2 | U45: 1 | AK45: 5C60033F4B756220488751143F575C5D7C43414B556F1341888AB7A65E1
A46: [ 합 계 ] | F46: =TRUNC(SUMIF(N42:N45, N41, F42:F45),0) -> 0 | H46: =TRUNC(SUMIF(N42:N45, N41, H42:H45),0) -> 0 | J46: =TRUNC(SUMIF(N42:N45, N41, J42:J45),0) -> 194557 | L46: =F46+H46+J46 -> 194557 | N46: TOTAL | O46: TOTAL | AM46: -
A48: 콘테이너형 가설건축물 해체 3.0*9.0*2.6m 개소 공통 2-3-2 ( 호표 7 ) | N48: 5C60033F4B756220488751143F56B3
A49: 비계공 | B49: 일반공사 직종 | C49: 인 | D49: 0.39 | E49: 0 | F49: =TRUNC(E49*D49,1) -> 0 | G49: 269039 | H49: =TRUNC(G49*D49,1) -> 104925.2 | I49: 0 | J49: =TRUNC(I49*D49,1) -> 0 | K49: =TRUNC(E49+G49+I49,1) -> 269039 | L49: =TRUNC(F49+H49+J49,1) -> 104925.2 | M49: 금액제외 | O49: 5CBF33614D1B68F169828194565881423DD54A | P49: F | Q49: F | R49: T | V49: 1 | AK49: 5C60033F4B756220488751143F56B35CBF33614D1B68F169828194565881423DD54A | AM49: -
A50: 특별인부 | B50: 일반공사 직종 | C50: 인 | D50: 0.19 | E50: 0 | F50: =TRUNC(E50*D50,1) -> 0 | G50: 192375 | H50: =TRUNC(G50*D50,1) -> 36551.2 | I50: 0 | J50: =TRUNC(I50*D50,1) -> 0 | K50: =TRUNC(E50+G50+I50,1) -> 192375 | L50: =TRUNC(F50+H50+J50,1) -> 36551.2 | M50: 금액제외 | O50: 5CBF33614D1B68F169828194565881423DD54F | P50: F | Q50: F | R50: T | V50: 1 | AK50: 5C60033F4B756220488751143F56B35CBF33614D1B68F169828194565881423DD54F | AM50: -
A51: 크레인(타이어) | B51: 10ton | C51: HR | D51: 1 | E51: 7370 | F51: =TRUNC(E51*D51,1) -> 7370 | G51: 47967 | H51: =TRUNC(G51*D51,1) -> 47967 | I51: 28495 | J51: =TRUNC(I51*D51,1) -> 28495 | K51: =TRUNC(E51+G51+I51,1) -> 83832 | L51: =TRUNC(F51+H51+J51,1) -> 83832 | M51: 금액제외 | O51: 5B78C378434567B5708832C1F05C7F86D5B4A77A | P51: T | Q51: F | R51: F | V51: 1 | AK51: 5C60033F4B756220488751143F56B35B78C378434567B5708832C1F05C7F86D5B4A77A | AM51: -
A52: 경비로 적용 | B52: 합계의 100% | C52: 식 | D52: 1 | E52: 0 | F52: =TRUNC(E52*D52,1) -> 0 | G52: 0 | H52: =TRUNC(G52*D52,1) -> 0 | I52: =TRUNC(SUMIF(V49:V52, RIGHTB(O52, 1), L49:L52)*U52, 2) -> 225308.4 | J52: =TRUNC(I52*D52,1) -> 225308.4 | K52: =TRUNC(E52+G52+I52,1) -> 225308.4 | L52: =TRUNC(F52+H52+J52,1) -> 225308.4 | N52: 5C60033F4B756220488751143F56B3 | O52: 5D7C43414B556F1341888AB7A65E1 | P52: F | Q52: F | R52: F | S52: 3 | T52: 2 | U52: 1 | AK52: 5C60033F4B756220488751143F56B35D7C43414B556F1341888AB7A65E1
A53: [ 합 계 ] | F53: =TRUNC(SUMIF(N49:N52, N48, F49:F52),0) -> 0 | H53: =TRUNC(SUMIF(N49:N52, N48, H49:H52),0) -> 0 | J53: =TRUNC(SUMIF(N49:N52, N48, J49:J52),0) -> 225308 | L53: =F53+H53+J53 -> 225308 | N53: TOTAL | O53: TOTAL | AM53: -
A55: 콘테이너형 가설건축물 설치 3.0*9.0*2.6m 개소 공통 2-3-2 ( 호표 8 ) | N55: 5C60033F4B756220488751143F56B6
A56: 비계공 | B56: 일반공사 직종 | C56: 인 | D56: 0.39 | E56: 0 | F56: =TRUNC(E56*D56,1) -> 0 | G56: 269039 | H56: =TRUNC(G56*D56,1) -> 104925.2 | I56: 0 | J56: =TRUNC(I56*D56,1) -> 0 | K56: =TRUNC(E56+G56+I56,1) -> 269039 | L56: =TRUNC(F56+H56+J56,1) -> 104925.2 | M56: 금액제외 | O56: 5CBF33614D1B68F169828194565881423DD54A | P56: F | Q56: F | R56: T | V56: 1 | AK56: 5C60033F4B756220488751143F56B65CBF33614D1B68F169828194565881423DD54A | AM56: -
A57: 특별인부 | B57: 일반공사 직종 | C57: 인 | D57: 0.19 | E57: 0 | F57: =TRUNC(E57*D57,1) -> 0 | G57: 192375 | H57: =TRUNC(G57*D57,1) -> 36551.2 | I57: 0 | J57: =TRUNC(I57*D57,1) -> 0 | K57: =TRUNC(E57+G57+I57,1) -> 192375 | L57: =TRUNC(F57+H57+J57,1) -> 36551.2 | M57: 금액제외 | O57: 5CBF33614D1B68F169828194565881423DD54F | P57: F | Q57: F | R57: T | V57: 1 | AK57: 5C60033F4B756220488751143F56B65CBF33614D1B68F169828194565881423DD54F | AM57: -
A58: 크레인(타이어) | B58: 10ton | C58: HR | D58: 1 | E58: 7370 | F58: =TRUNC(E58*D58,1) -> 7370 | G58: 47967 | H58: =TRUNC(G58*D58,1) -> 47967 | I58: 28495 | J58: =TRUNC(I58*D58,1) -> 28495 | K58: =TRUNC(E58+G58+I58,1) -> 83832 | L58: =TRUNC(F58+H58+J58,1) -> 83832 | M58: 금액제외 | O58: 5B78C378434567B5708832C1F05C7F86D5B4A77A | P58: T | Q58: F | R58: F | V58: 1 | AK58: 5C60033F4B756220488751143F56B65B78C378434567B5708832C1F05C7F86D5B4A77A | AM58: -
A59: 경비로 적용 | B59: 합계의 100% | C59: 식 | D59: 1 | E59: 0 | F59: =TRUNC(E59*D59,1) -> 0 | G59: 0 | H59: =TRUNC(G59*D59,1) -> 0 | I59: =TRUNC(SUMIF(V56:V59, RIGHTB(O59, 1), L56:L59)*U59, 2) -> 225308.4 | J59: =TRUNC(I59*D59,1) -> 225308.4 | K59: =TRUNC(E59+G59+I59,1) -> 225308.4 | L59: =TRUNC(F59+H59+J59,1) -> 225308.4 | N59: 5C60033F4B756220488751143F56B6 | O59: 5D7C43414B556F1341888AB7A65E1 | P59: F | Q59: F | R59: F | S59: 3 | T59: 2 | U59: 1 | AK59: 5C60033F4B756220488751143F56B65D7C43414B556F1341888AB7A65E1
A60: [ 합 계 ] | F60: =TRUNC(SUMIF(N56:N59, N55, F56:F59),0) -> 0 | H60: =TRUNC(SUMIF(N56:N59, N55, H56:H59),0) -> 0 | J60: =TRUNC(SUMIF(N56:N59, N55, J56:J59),0) -> 225308 | L60: =F60+H60+J60 -> 225308 | N60: TOTAL | O60: TOTAL | AM60: -
A62: 강관 지주 설치 지주높이 3.5m 이하 M 공통 2-4-1 ( 호표 9 ) | N62: 5C60033C4E0266B6AF878F8CD85912
A63: 비계공 | B63: 일반공사 직종 | C63: 인 | D63: 0.03 | E63: 0 | F63: =TRUNC(E63*D63,1) -> 0 | G63: 269039 | H63: =TRUNC(G63*D63,1) -> 8071.1 | I63: 0 | J63: =TRUNC(I63*D63,1) -> 0 | K63: =TRUNC(E63+G63+I63,1) -> 269039 | L63: =TRUNC(F63+H63+J63,1) -> 8071.1 | M63: 금액제외 | O63: 5CBF33614D1B68F169828194565881423DD54A | P63: F | Q63: F | R63: T | V63: 1 | W63: 2 | AK63: 5C60033C4E0266B6AF878F8CD859125CBF33614D1B68F169828194565881423DD54A | AM63: -
A64: 보통인부 | B64: 일반공사 직종 | C64: 인 | D64: 0.011 | E64: 0 | F64: =TRUNC(E64*D64,1) -> 0 | G64: 153671 | H64: =TRUNC(G64*D64,1) -> 1690.3 | I64: 0 | J64: =TRUNC(I64*D64,1) -> 0 | K64: =TRUNC(E64+G64+I64,1) -> 153671 | L64: =TRUNC(F64+H64+J64,1) -> 1690.3 | M64: 금액제외 | O64: 5CBF33614D1B68F169828194565881423DD54E | P64: F | Q64: F | R64: T | V64: 1 | W64: 2 | AK64: 5C60033C4E0266B6AF878F8CD859125CBF33614D1B68F169828194565881423DD54E | AM64: -
A65: 굴삭기(무한궤도) | B65: 0.2㎥ | C65: HR | D65: 0.035 | E65: 8442 | F65: =TRUNC(E65*D65,1) -> 295.4 | G65: 47967 | H65: =TRUNC(G65*D65,1) -> 1678.8 | I65: 12688 | J65: =TRUNC(I65*D65,1) -> 444 | K65: =TRUNC(E65+G65+I65,1) -> 69097 | L65: =TRUNC(F65+H65+J65,1) -> 2418.2 | M65: 금액제외 | O65: 5B78C37843456584A088993D8356C2ABDF0DB4BF | P65: T | Q65: F | R65: F | W65: 2 | AK65: 5C60033C4E0266B6AF878F8CD859125B78C37843456584A088993D8356C2ABDF0DB4BF | AM65: -
A66: 공구손료 | B66: 인력품의 3% | C66: 식 | D66: 1 | E66: 0 | F66: =TRUNC(E66*D66,1) -> 0 | G66: 0 | H66: =TRUNC(G66*D66,1) -> 0 | I66: =TRUNC(SUMIF(V63:V67, RIGHTB(O66, 1), H63:H67)*U66, 2) -> 292.84 | J66: =TRUNC(I66*D66,1) -> 292.8 | K66: =TRUNC(E66+G66+I66,1) -> 292.8 | L66: =TRUNC(F66+H66+J66,1) -> 292.8 | M66: 금액제외 | O66: 5D7C43414B556F1341888AB7A65E1 | P66: F | Q66: F | R66: F | S66: 1 | T66: 2 | U66: 0.03 | W66: 2 | AK66: 5C60033C4E0266B6AF878F8CD859125D7C43414B556F1341888AB7A65E1 | AM66: -
A67: 경비로 적용 | B67: 합계의 100% | C67: 식 | D67: 1 | E67: 0 | F67: =TRUNC(E67*D67,1) -> 0 | G67: 0 | H67: =TRUNC(G67*D67,1) -> 0 | I67: =TRUNC(SUMIF(W63:W67, RIGHTB(O67, 1), L63:L67)*U67, 2) -> 12472.4 | J67: =TRUNC(I67*D67,1) -> 12472.4 | K67: =TRUNC(E67+G67+I67,1) -> 12472.4 | L67: =TRUNC(F67+H67+J67,1) -> 12472.4 | N67: 5C60033C4E0266B6AF878F8CD85912 | O67: 5D7C43414B556F1341888AB7A65D2 | P67: F | Q67: F | R67: F | S67: 3 | T67: 2 | U67: 1 | AK67: 5C60033C4E0266B6AF878F8CD859125D7C43414B556F1341888AB7A65D2
A68: [ 합 계 ] | F68: =TRUNC(SUMIF(N63:N67, N62, F63:F67),0) -> 0 | H68: =TRUNC(SUMIF(N63:N67, N62, H63:H67),0) -> 0 | J68: =TRUNC(SUMIF(N63:N67, N62, J63:J67),0) -> 12472 | L68: =F68+H68+J68 -> 12472 | N68: TOTAL | O68: TOTAL | AM68: -
A70: 강관 지주 해체 지주높이 3.5m 이하 M 공통 2-4-1 ( 호표 10 ) | N70: 5C60033C4E0266B6AF878F8CD8580B
A71: 비계공 | B71: 일반공사 직종 | C71: 인 | D71: 0.012 | E71: 0 | F71: =TRUNC(E71*D71,1) -> 0 | G71: 269039 | H71: =TRUNC(G71*D71,1) -> 3228.4 | I71: 0 | J71: =TRUNC(I71*D71,1) -> 0 | K71: =TRUNC(E71+G71+I71,1) -> 269039 | L71: =TRUNC(F71+H71+J71,1) -> 3228.4 | M71: 금액제외 | O71: 5CBF33614D1B68F169828194565881423DD54A | P71: F | Q71: F | R71: T | V71: 1 | W71: 2 | AK71: 5C60033C4E0266B6AF878F8CD8580B5CBF33614D1B68F169828194565881423DD54A | AM71: -
A72: 보통인부 | B72: 일반공사 직종 | C72: 인 | D72: 0.004 | E72: 0 | F72: =TRUNC(E72*D72,1) -> 0 | G72: 153671 | H72: =TRUNC(G72*D72,1) -> 614.6 | I72: 0 | J72: =TRUNC(I72*D72,1) -> 0 | K72: =TRUNC(E72+G72+I72,1) -> 153671 | L72: =TRUNC(F72+H72+J72,1) -> 614.6 | M72: 금액제외 | O72: 5CBF33614D1B68F169828194565881423DD54E | P72: F | Q72: F | R72: T | V72: 1 | W72: 2 | AK72: 5C60033C4E0266B6AF878F8CD8580B5CBF33614D1B68F169828194565881423DD54E | AM72: -
A73: 굴삭기(무한궤도) | B73: 0.2㎥ | C73: HR | D73: 0.014 | E73: 8442 | F73: =TRUNC(E73*D73,1) -> 118.1 | G73: 47967 | H73: =TRUNC(G73*D73,1) -> 671.5 | I73: 12688 | J73: =TRUNC(I73*D73,1) -> 177.6 | K73: =TRUNC(E73+G73+I73,1) -> 69097 | L73: =TRUNC(F73+H73+J73,1) -> 967.2 | M73: 금액제외 | O73: 5B78C37843456584A088993D8356C2ABDF0DB4BF | P73: T | Q73: F | R73: F | W73: 2 | AK73: 5C60033C4E0266B6AF878F8CD8580B5B78C37843456584A088993D8356C2ABDF0DB4BF | AM73: -
A74: 공구손료 | B74: 인력품의 3% | C74: 식 | D74: 1 | E74: 0 | F74: =TRUNC(E74*D74,1) -> 0 | G74: 0 | H74: =TRUNC(G74*D74,1) -> 0 | I74: =TRUNC(SUMIF(V71:V75, RIGHTB(O74, 1), H71:H75)*U74, 2) -> 115.29 | J74: =TRUNC(I74*D74,1) -> 115.2 | K74: =TRUNC(E74+G74+I74,1) -> 115.2 | L74: =TRUNC(F74+H74+J74,1) -> 115.2 | M74: 금액제외 | O74: 5D7C43414B556F1341888AB7A65E1 | P74: F | Q74: F | R74: F | S74: 1 | T74: 2 | U74: 0.03 | W74: 2 | AK74: 5C60033C4E0266B6AF878F8CD8580B5D7C43414B556F1341888AB7A65E1 | AM74: -
A75: 경비로 적용 | B75: 합계의 100% | C75: 식 | D75: 1 | E75: 0 | F75: =TRUNC(E75*D75,1) -> 0 | G75: 0 | H75: =TRUNC(G75*D75,1) -> 0 | I75: =TRUNC(SUMIF(W71:W75, RIGHTB(O75, 1), L71:L75)*U75, 2) -> 4925.4 | J75: =TRUNC(I75*D75,1) -> 4925.4 | K75: =TRUNC(E75+G75+I75,1) -> 4925.4 | L75: =TRUNC(F75+H75+J75,1) -> 4925.4 | N75: 5C60033C4E0266B6AF878F8CD8580B | O75: 5D7C43414B556F1341888AB7A65D2 | P75: F | Q75: F | R75: F | S75: 3 | T75: 2 | U75: 1 | AK75: 5C60033C4E0266B6AF878F8CD8580B5D7C43414B556F1341888AB7A65D2
A76: [ 합 계 ] | F76: =TRUNC(SUMIF(N71:N75, N70, F71:F75),0) -> 0 | H76: =TRUNC(SUMIF(N71:N75, N70, H71:H75),0) -> 0 | J76: =TRUNC(SUMIF(N71:N75, N70, J71:J75),0) -> 4925 | L76: =F76+H76+J76 -> 4925 | N76: TOTAL | O76: TOTAL | AM76: -
A78: 강관 지주 설치 지주높이 6m 이하 M 공통 2-4-1 ( 호표 11 ) | N78: 5C60033C4E0266B6AF878F8CCE534F
A79: 비계공 | B79: 일반공사 직종 | C79: 인 | D79: 0.046 | E79: 0 | F79: =TRUNC(E79*D79,1) -> 0 | G79: 269039 | H79: =TRUNC(G79*D79,1) -> 12375.7 | I79: 0 | J79: =TRUNC(I79*D79,1) -> 0 | K79: =TRUNC(E79+G79+I79,1) -> 269039 | L79: =TRUNC(F79+H79+J79,1) -> 12375.7 | M79: 금액제외 | O79: 5CBF33614D1B68F169828194565881423DD54A | P79: F | Q79: F | R79: T | V79: 1 | W79: 2 | AK79: 5C60033C4E0266B6AF878F8CCE534F5CBF33614D1B68F169828194565881423DD54A | AM79: -
A80: 보통인부 | B80: 일반공사 직종 | C80: 인 | D80: 0.016 | E80: 0 | F80: =TRUNC(E80*D80,1) -> 0 | G80: 153671 | H80: =TRUNC(G80*D80,1) -> 2458.7 | I80: 0 | J80: =TRUNC(I80*D80,1) -> 0 | K80: =TRUNC(E80+G80+I80,1) -> 153671 | L80: =TRUNC(F80+H80+J80,1) -> 2458.7 | M80: 금액제외 | O80: 5CBF33614D1B68F169828194565881423DD54E | P80: F | Q80: F | R80: T | V80: 1 | W80: 2 | AK80: 5C60033C4E0266B6AF878F8CCE534F5CBF33614D1B68F169828194565881423DD54E | AM80: -
A81: 굴삭기(무한궤도) | B81: 0.2㎥ | C81: HR | D81: 0.035 | E81: 8442 | F81: =TRUNC(E81*D81,1) -> 295.4 | G81: 47967 | H81: =TRUNC(G81*D81,1) -> 1678.8 | I81: 12688 | J81: =TRUNC(I81*D81,1) -> 444 | K81: =TRUNC(E81+G81+I81,1) -> 69097 | L81: =TRUNC(F81+H81+J81,1) -> 2418.2 | M81: 금액제외 | O81: 5B78C37843456584A088993D8356C2ABDF0DB4BF | P81: T | Q81: F | R81: F | W81: 2 | AK81: 5C60033C4E0266B6AF878F8CCE534F5B78C37843456584A088993D8356C2ABDF0DB4BF | AM81: -
A82: 공구손료 | B82: 인력품의 3% | C82: 식 | D82: 1 | E82: 0 | F82: =TRUNC(E82*D82,1) -> 0 | G82: 0 | H82: =TRUNC(G82*D82,1) -> 0 | I82: =TRUNC(SUMIF(V79:V83, RIGHTB(O82, 1), H79:H83)*U82, 2) -> 445.03 | J82: =TRUNC(I82*D82,1) -> 445 | K82: =TRUNC(E82+G82+I82,1) -> 445 | L82: =TRUNC(F82+H82+J82,1) -> 445 | M82: 금액제외 | O82: 5D7C43414B556F1341888AB7A65E1 | P82: F | Q82: F | R82: F | S82: 1 | T82: 2 | U82: 0.03 | W82: 2 | AK82: 5C60033C4E0266B6AF878F8CCE534F5D7C43414B556F1341888AB7A65E1 | AM82: -
A83: 경비로 적용 | B83: 합계의 100% | C83: 식 | D83: 1 | E83: 0 | F83: =TRUNC(E83*D83,1) -> 0 | G83: 0 | H83: =TRUNC(G83*D83,1) -> 0 | I83: =TRUNC(SUMIF(W79:W83, RIGHTB(O83, 1), L79:L83)*U83, 2) -> 17697.6 | J83: =TRUNC(I83*D83,1) -> 17697.6 | K83: =TRUNC(E83+G83+I83,1) -> 17697.6 | L83: =TRUNC(F83+H83+J83,1) -> 17697.6 | N83: 5C60033C4E0266B6AF878F8CCE534F | O83: 5D7C43414B556F1341888AB7A65D2 | P83: F | Q83: F | R83: F | S83: 3 | T83: 2 | U83: 1 | AK83: 5C60033C4E0266B6AF878F8CCE534F5D7C43414B556F1341888AB7A65D2
A84: [ 합 계 ] | F84: =TRUNC(SUMIF(N79:N83, N78, F79:F83),0) -> 0 | H84: =TRUNC(SUMIF(N79:N83, N78, H79:H83),0) -> 0 | J84: =TRUNC(SUMIF(N79:N83, N78, J79:J83),0) -> 17697 | L84: =F84+H84+J84 -> 17697 | N84: TOTAL | O84: TOTAL | AM84: -
A86: 강관 지주 해체 지주높이 6m 이하 M 공통 2-4-1 ( 호표 12 ) | N86: 5C60033C4E0266B6AF878F8CCE52A8
A87: 비계공 | B87: 일반공사 직종 | C87: 인 | D87: 0.018 | E87: 0 | F87: =TRUNC(E87*D87,1) -> 0 | G87: 269039 | H87: =TRUNC(G87*D87,1) -> 4842.7 | I87: 0 | J87: =TRUNC(I87*D87,1) -> 0 | K87: =TRUNC(E87+G87+I87,1) -> 269039 | L87: =TRUNC(F87+H87+J87,1) -> 4842.7 | M87: 금액제외 | O87: 5CBF33614D1B68F169828194565881423DD54A | P87: F | Q87: F | R87: T | V87: 1 | W87: 2 | AK87: 5C60033C4E0266B6AF878F8CCE52A85CBF33614D1B68F169828194565881423DD54A | AM87: -
A88: 보통인부 | B88: 일반공사 직종 | C88: 인 | D88: 0.006 | E88: 0 | F88: =TRUNC(E88*D88,1) -> 0 | G88: 153671 | H88: =TRUNC(G88*D88,1) -> 922 | I88: 0 | J88: =TRUNC(I88*D88,1) -> 0 | K88: =TRUNC(E88+G88+I88,1) -> 153671 | L88: =TRUNC(F88+H88+J88,1) -> 922 | M88: 금액제외 | O88: 5CBF33614D1B68F169828194565881423DD54E | P88: F | Q88: F | R88: T | V88: 1 | W88: 2 | AK88: 5C60033C4E0266B6AF878F8CCE52A85CBF33614D1B68F169828194565881423DD54E | AM88: -
A89: 굴삭기(무한궤도) | B89: 0.2㎥ | C89: HR | D89: 0.014 | E89: 8442 | F89: =TRUNC(E89*D89,1) -> 118.1 | G89: 47967 | H89: =TRUNC(G89*D89,1) -> 671.5 | I89: 12688 | J89: =TRUNC(I89*D89,1) -> 177.6 | K89: =TRUNC(E89+G89+I89,1) -> 69097 | L89: =TRUNC(F89+H89+J89,1) -> 967.2 | M89: 금액제외 | O89: 5B78C37843456584A088993D8356C2ABDF0DB4BF | P89: T | Q89: F | R89: F | W89: 2 | AK89: 5C60033C4E0266B6AF878F8CCE52A85B78C37843456584A088993D8356C2ABDF0DB4BF | AM89: -
A90: 공구손료 | B90: 인력품의 3% | C90: 식 | D90: 1 | E90: 0 | F90: =TRUNC(E90*D90,1) -> 0 | G90: 0 | H90: =TRUNC(G90*D90,1) -> 0 | I90: =TRUNC(SUMIF(V87:V91, RIGHTB(O90, 1), H87:H91)*U90, 2) -> 172.94 | J90: =TRUNC(I90*D90,1) -> 172.9 | K90: =TRUNC(E90+G90+I90,1) -> 172.9 | L90: =TRUNC(F90+H90+J90,1) -> 172.9 | M90: 금액제외 | O90: 5D7C43414B556F1341888AB7A65E1 | P90: F | Q90: F | R90: F | S90: 1 | T90: 2 | U90: 0.03 | W90: 2 | AK90: 5C60033C4E0266B6AF878F8CCE52A85D7C43414B556F1341888AB7A65E1 | AM90: -
A91: 경비로 적용 | B91: 합계의 100% | C91: 식 | D91: 1 | E91: 0 | F91: =TRUNC(E91*D91,1) -> 0 | G91: 0 | H91: =TRUNC(G91*D91,1) -> 0 | I91: =TRUNC(SUMIF(W87:W91, RIGHTB(O91, 1), L87:L91)*U91, 2) -> 6904.8 | J91: =TRUNC(I91*D91,1) -> 6904.8 | K91: =TRUNC(E91+G91+I91,1) -> 6904.8 | L91: =TRUNC(F91+H91+J91,1) -> 6904.8 | N91: 5C60033C4E0266B6AF878F8CCE52A8 | O91: 5D7C43414B556F1341888AB7A65D2 | P91: F | Q91: F | R91: F | S91: 3 | T91: 2 | U91: 1 | AK91: 5C60033C4E0266B6AF878F8CCE52A85D7C43414B556F1341888AB7A65D2
A92: [ 합 계 ] | F92: =TRUNC(SUMIF(N87:N91, N86, F87:F91),0) -> 0 | H92: =TRUNC(SUMIF(N87:N91, N86, H87:H91),0) -> 0 | J92: =TRUNC(SUMIF(N87:N91, N86, J87:J91),0) -> 6904 | L92: =F92+H92+J92 -> 6904 | N92: TOTAL | O92: TOTAL | AM92: -
A94: H형강 지주 설치 지주높이 4m 이하 M 공통 2-4-2 ( 호표 13 ) | N94: 5C60033C4E0266B6AF878FAFB855B3
A95: 비계공 | B95: 일반공사 직종 | C95: 인 | D95: 0.049 | E95: 0 | F95: =TRUNC(E95*D95,1) -> 0 | G95: 269039 | H95: =TRUNC(G95*D95,1) -> 13182.9 | I95: 0 | J95: =TRUNC(I95*D95,1) -> 0 | K95: =TRUNC(E95+G95+I95,1) -> 269039 | L95: =TRUNC(F95+H95+J95,1) -> 13182.9 | M95: 금액제외 | O95: 5CBF33614D1B68F169828194565881423DD54A | P95: F | Q95: F | R95: T | V95: 1 | W95: 2 | AK95: 5C60033C4E0266B6AF878FAFB855B35CBF33614D1B68F169828194565881423DD54A | AM95: -
A96: 보통인부 | B96: 일반공사 직종 | C96: 인 | D96: 0.018 | E96: 0 | F96: =TRUNC(E96*D96,1) -> 0 | G96: 153671 | H96: =TRUNC(G96*D96,1) -> 2766 | I96: 0 | J96: =TRUNC(I96*D96,1) -> 0 | K96: =TRUNC(E96+G96+I96,1) -> 153671 | L96: =TRUNC(F96+H96+J96,1) -> 2766 | M96: 금액제외 | O96: 5CBF33614D1B68F169828194565881423DD54E | P96: F | Q96: F | R96: T | V96: 1 | W96: 2 | AK96: 5C60033C4E0266B6AF878FAFB855B35CBF33614D1B68F169828194565881423DD54E | AM96: -
A97: 굴삭기(무한궤도) | B97: 0.2㎥ | C97: HR | D97: 0.063 | E97: 8442 | F97: =TRUNC(E97*D97,1) -> 531.8 | G97: 47967 | H97: =TRUNC(G97*D97,1) -> 3021.9 | I97: 12688 | J97: =TRUNC(I97*D97,1) -> 799.3 | K97: =TRUNC(E97+G97+I97,1) -> 69097 | L97: =TRUNC(F97+H97+J97,1) -> 4353 | M97: 금액제외 | O97: 5B78C37843456584A088993D8356C2ABDF0DB4BF | P97: T | Q97: F | R97: F | W97: 2 | AK97: 5C60033C4E0266B6AF878FAFB855B35B78C37843456584A088993D8356C2ABDF0DB4BF | AM97: -
A98: 트럭탑재형 크레인 | B98: 5ton | C98: HR | D98: 0.073 | E98: 8540 | F98: =TRUNC(E98*D98,1) -> 623.4 | G98: 40000 | H98: =TRUNC(G98*D98,1) -> 2920 | I98: 9596 | J98: =TRUNC(I98*D98,1) -> 700.5 | K98: =TRUNC(E98+G98+I98,1) -> 58136 | L98: =TRUNC(F98+H98+J98,1) -> 4243.9 | M98: 금액제외 | O98: 5B78C378434567B570882061C9552805C105ED77 | P98: T | Q98: F | R98: F | W98: 2 | AK98: 5C60033C4E0266B6AF878FAFB855B35B78C378434567B570882061C9552805C105ED77 | AM98: -
A99: 공구손료 | B99: 인력품의 2% | C99: 식 | D99: 1 | E99: 0 | F99: =TRUNC(E99*D99,1) -> 0 | G99: 0 | H99: =TRUNC(G99*D99,1) -> 0 | I99: =TRUNC(SUMIF(V95:V100, RIGHTB(O99, 1), H95:H100)*U99, 2) -> 318.97 | J99: =TRUNC(I99*D99,1) -> 318.9 | K99: =TRUNC(E99+G99+I99,1) -> 318.9 | L99: =TRUNC(F99+H99+J99,1) -> 318.9 | M99: 금액제외 | O99: 5D7C43414B556F1341888AB7A65E1 | P99: F | Q99: F | R99: F | S99: 1 | T99: 2 | U99: 0.02 | W99: 2 | AK99: 5C60033C4E0266B6AF878FAFB855B35D7C43414B556F1341888AB7A65E1 | AM99: -
A100: 경비로 적용 | B100: 합계의 100% | C100: 식 | D100: 1 | E100: 0 | F100: =TRUNC(E100*D100,1) -> 0 | G100: 0 | H100: =TRUNC(G100*D100,1) -> 0 | I100: =TRUNC(SUMIF(W95:W100, RIGHTB(O100, 1), L95:L100)*U100, 2) -> 24864.7 | J100: =TRUNC(I100*D100,1) -> 24864.7 | K100: =TRUNC(E100+G100+I100,1) -> 24864.7 | L100: =TRUNC(F100+H100+J100,1) -> 24864.7 | N100: 5C60033C4E0266B6AF878FAFB855B3 | O100: 5D7C43414B556F1341888AB7A65D2 | P100: F | Q100: F | R100: F | S100: 3 | T100: 2 | U100: 1 | AK100: 5C60033C4E0266B6AF878FAFB855B35D7C43414B556F1341888AB7A65D2
A101: [ 합 계 ] | F101: =TRUNC(SUMIF(N95:N100, N94, F95:F100),0) -> 0 | H101: =TRUNC(SUMIF(N95:N100, N94, H95:H100),0) -> 0 | J101: =TRUNC(SUMIF(N95:N100, N94, J95:J100),0) -> 24864 | L101: =F101+H101+J101 -> 24864 | N101: TOTAL | O101: TOTAL | AM101: -
A103: H형강 지주 해체 지주높이 4m 이하 M 공통 2-4-2 ( 호표 14 ) | N103: 5C60033C4E0266B6AF878FAFB854AC
A104: 비계공 | B104: 일반공사 직종 | C104: 인 | D104: 0.02 | E104: 0 | F104: =TRUNC(E104*D104,1) -> 0 | G104: 269039 | H104: =TRUNC(G104*D104,1) -> 5380.7 | I104: 0 | J104: =TRUNC(I104*D104,1) -> 0 | K104: =TRUNC(E104+G104+I104,1) -> 269039 | L104: =TRUNC(F104+H104+J104,1) -> 5380.7 | M104: 금액제외 | O104: 5CBF33614D1B68F169828194565881423DD54A | P104: F | Q104: F | R104: T | V104: 1 | W104: 2 | AK104: 5C60033C4E0266B6AF878FAFB854AC5CBF33614D1B68F169828194565881423DD54A | AM104: -
A105: 보통인부 | B105: 일반공사 직종 | C105: 인 | D105: 0.007 | E105: 0 | F105: =TRUNC(E105*D105,1) -> 0 | G105: 153671 | H105: =TRUNC(G105*D105,1) -> 1075.6 | I105: 0 | J105: =TRUNC(I105*D105,1) -> 0 | K105: =TRUNC(E105+G105+I105,1) -> 153671 | L105: =TRUNC(F105+H105+J105,1) -> 1075.6 | M105: 금액제외 | O105: 5CBF33614D1B68F169828194565881423DD54E | P105: F | Q105: F | R105: T | V105: 1 | W105: 2 | AK105: 5C60033C4E0266B6AF878FAFB854AC5CBF33614D1B68F169828194565881423DD54E | AM105: -
A106: 굴삭기(무한궤도) | B106: 0.2㎥ | C106: HR | D106: 0.025 | E106: 8442 | F106: =TRUNC(E106*D106,1) -> 211 | G106: 47967 | H106: =TRUNC(G106*D106,1) -> 1199.1 | I106: 12688 | J106: =TRUNC(I106*D106,1) -> 317.2 | K106: =TRUNC(E106+G106+I106,1) -> 69097 | L106: =TRUNC(F106+H106+J106,1) -> 1727.3 | M106: 금액제외 | O106: 5B78C37843456584A088993D8356C2ABDF0DB4BF | P106: T | Q106: F | R106: F | W106: 2 | AK106: 5C60033C4E0266B6AF878FAFB854AC5B78C37843456584A088993D8356C2ABDF0DB4BF | AM106: -
A107: 트럭탑재형 크레인 | B107: 5ton | C107: HR | D107: 0.029 | E107: 8540 | F107: =TRUNC(E107*D107,1) -> 247.6 | G107: 40000 | H107: =TRUNC(G107*D107,1) -> 1160 | I107: 9596 | J107: =TRUNC(I107*D107,1) -> 278.2 | K107: =TRUNC(E107+G107+I107,1) -> 58136 | L107: =TRUNC(F107+H107+J107,1) -> 1685.8 | M107: 금액제외 | O107: 5B78C378434567B570882061C9552805C105ED77 | P107: T | Q107: F | R107: F | W107: 2 | AK107: 5C60033C4E0266B6AF878FAFB854AC5B78C378434567B570882061C9552805C105ED77 | AM107: -
A108: 공구손료 | B108: 인력품의 2% | C108: 식 | D108: 1 | E108: 0 | F108: =TRUNC(E108*D108,1) -> 0 | G108: 0 | H108: =TRUNC(G108*D108,1) -> 0 | I108: =TRUNC(SUMIF(V104:V109, RIGHTB(O108, 1), H104:H109)*U108, 2) -> 129.12 | J108: =TRUNC(I108*D108,1) -> 129.1 | K108: =TRUNC(E108+G108+I108,1) -> 129.1 | L108: =TRUNC(F108+H108+J108,1) -> 129.1 | M108: 금액제외 | O108: 5D7C43414B556F1341888AB7A65E1 | P108: F | Q108: F | R108: F | S108: 1 | T108: 2 | U108: 0.02 | W108: 2 | AK108: 5C60033C4E0266B6AF878FAFB854AC5D7C43414B556F1341888AB7A65E1 | AM108: -
A109: 경비로 적용 | B109: 합계의 100% | C109: 식 | D109: 1 | E109: 0 | F109: =TRUNC(E109*D109,1) -> 0 | G109: 0 | H109: =TRUNC(G109*D109,1) -> 0 | I109: =TRUNC(SUMIF(W104:W109, RIGHTB(O109, 1), L104:L109)*U109, 2) -> 9998.5 | J109: =TRUNC(I109*D109,1) -> 9998.5 | K109: =TRUNC(E109+G109+I109,1) -> 9998.5 | L109: =TRUNC(F109+H109+J109,1) -> 9998.5 | N109: 5C60033C4E0266B6AF878FAFB854AC | O109: 5D7C43414B556F1341888AB7A65D2 | P109: F | Q109: F | R109: F | S109: 3 | T109: 2 | U109: 1 | AK109: 5C60033C4E0266B6AF878FAFB854AC5D7C43414B556F1341888AB7A65D2
A110: [ 합 계 ] | F110: =TRUNC(SUMIF(N104:N109, N103, F104:F109),0) -> 0 | H110: =TRUNC(SUMIF(N104:N109, N103, H104:H109),0) -> 0 | J110: =TRUNC(SUMIF(N104:N109, N103, J104:J109),0) -> 9998 | L110: =F110+H110+J110 -> 9998 | N110: TOTAL | O110: TOTAL | AM110: -
A112: H형강 지주 설치 지주높이 7m 이하 M 공통 2-4-2 ( 호표 15 ) | N112: 5C60033C4E0266B6AF878FAFAF5EE1
A113: 비계공 | B113: 일반공사 직종 | C113: 인 | D113: 0.099 | E113: 0 | F113: =TRUNC(E113*D113,1) -> 0 | G113: 269039 | H113: =TRUNC(G113*D113,1) -> 26634.8 | I113: 0 | J113: =TRUNC(I113*D113,1) -> 0 | K113: =TRUNC(E113+G113+I113,1) -> 269039 | L113: =TRUNC(F113+H113+J113,1) -> 26634.8 | M113: 금액제외 | O113: 5CBF33614D1B68F169828194565881423DD54A | P113: F | Q113: F | R113: T | V113: 1 | W113: 2 | AK113: 5C60033C4E0266B6AF878FAFAF5EE15CBF33614D1B68F169828194565881423DD54A | AM113: -
A114: 보통인부 | B114: 일반공사 직종 | C114: 인 | D114: 0.035 | E114: 0 | F114: =TRUNC(E114*D114,1) -> 0 | G114: 153671 | H114: =TRUNC(G114*D114,1) -> 5378.4 | I114: 0 | J114: =TRUNC(I114*D114,1) -> 0 | K114: =TRUNC(E114+G114+I114,1) -> 153671 | L114: =TRUNC(F114+H114+J114,1) -> 5378.4 | M114: 금액제외 | O114: 5CBF33614D1B68F169828194565881423DD54E | P114: F | Q114: F | R114: T | V114: 1 | W114: 2 | AK114: 5C60033C4E0266B6AF878FAFAF5EE15CBF33614D1B68F169828194565881423DD54E | AM114: -
...

Sheet  공사설정 
A1: 이 Sheet는 수정하지 마십시요
A2: 공사구분 | B2: A
A3: 확정내역 | B3: 원내역
A4: 자재단가적용 | B4: 5
A5: 경비단가적용 | B5: 5
A6: 품목코드형식 | B6: XXXX-XXXX-XXXXXXXXX
A7: 내역금액소수점처리 | B7: C | C7: T
A8: 일위대가내역소수점처리 | B8: C | C8: 2
A9: 단가명 | B9: 조달청가격 | C9: 거래가격 | D9: 유통물가 | E9: 물가자료 | F9: 조사가격 | G9: TTTTT
A10: 환율 | B10: 1185 | C10: 0 | D10: 0
A11: 시간당작업량 | B11: R | C11: 4
A12: 1회 사이클시간 | B12: R | C12: 4
A13: 시간당 작업사이클 | B13: R | C13: 3
A14: 일반변수 | B14: R | C14: 5
A15: 시간당 노임산출 계수 | B15: A | C15: 1/8*16/12*25/20 | D15: 1/8*16/12*25/20 | E15: 1/8*16/12*25/20 | F15: 1
A16: 재료비 할증 계수 | B16: 1.11 | C16: 1.12
A17: 노무비 할증 계수 | B17: 1 | C17: 1.5 | D17: 1.16 | E17: 1.6 | F17: 1.6 | G17: 1.6 | H17: 1.94 | I17: 1.94 | J17: 1.94 | K17: 1 | L17: 1 | M17: 1
A18: 경비 할증 계수 | B18: 1.25 | C18: 1.071
A19: 내역,일위대가 품명,규격,단위 따로적용
A21: 코드 | B21: 공종구분명 | C21: 원가비목코드
A22: 1 | B22: 작 업 부 산 물 | C22: A3
A23: 2 | B23: 운 반 비 | C23: C1
A24: 3 | B24: 관 급 자 재 비 | C24: DJ
A25: 4 | B25: 사 급 자 재 비 | C25: D3
A26: 5 | B26: 외 자 재
A27: 6 | B27: ...
A28: 7 | B28: ...
A29: 8 | B29: ...
A30: 9 | B30: ...
