Workbook

Sheet 내역서
A1: 내 역 서
A2: [ 경상남도교육청 일위대가(2022년 하반기) ]
A3: 품 명 | B3: 규 격 | C3: 단위 | D3: 수량 | E3: 재 료 비 | G3: 노 무 비 | I3: 경 비 | K3: 합 계 | M3: 비 고 | N3: 품목코드 | O3: 변수 | P3: 설정 | Q3: 공종코드 | R3: 상위공종 | S3: 일위 | T3: 단산 | U3: 자재 | V3: 손료적용 | W3: 손료저장 | X3: 적용율 | Y3: JUK1 | Z3: JUK2 | AA3: JUK3 | AB3: JUK4 | AC3: JUK5 | AD3: JUK6 | AE3: JUK7 | AF3: JUK8 | AG3: JUK9 | AH3: JUK10 | AI3: JUK11 | AJ3: JUK12 | AK3: JUK13 | AL3: JUK14 | AM3: JUK15 | AN3: JUK16 | AO3: JUK17 | AP3: JUK18 | AQ3: JUK19 | AR3: JUK20 | AS3: 자재구분 | AT3: 공종레벨 | AU3: 공종구분 | AV3: 공종소계 | AW3: 공종+자재 | AX3: 고유번호 | AY3: 원가계산서 연결금액
E4: 단 가 | F4: 금 액 | G4: 단 가 | H4: 금 액 | I4: 단 가 | J4: 금 액 | K4: 단 가 | L4: 금 액
A5: 경상남도교육청 일위대가(2022년 하반기) | D5: 1 | E5: =SUMIF(R6:R1699, Q5, F6:F1699) -> 0 | F5: =TRUNC(E5*D5, 0) -> 0 | G5: =SUMIF(R6:R1699, Q5, H6:H1699) -> 0 | H5: =TRUNC(G5*D5, 0) -> 0 | I5: =SUMIF(R6:R1699, Q5, J6:J1699) -> 0 | J5: =TRUNC(I5*D5, 0) -> 0 | K5: =SUMIF(R6:R1699, Q5, L6:L1699) -> 0 | L5: =TRUNC(F5+H5+J5, 0) -> 0 | Q5: 01 | S5: F | T5: F | U5: F | AT5: 1 | AW5: 01 | AX5: 1
A6: 공통공사 | D6: 1 | E6: =SUMIF(R7:R1699, Q6, F7:F1699) -> 0 | F6: =TRUNC(E6*D6, 0) -> 0 | G6: =SUMIF(R7:R1699, Q6, H7:H1699) -> 0 | H6: =TRUNC(G6*D6, 0) -> 0 | I6: =SUMIF(R7:R1699, Q6, J7:J1699) -> 0 | J6: =TRUNC(I6*D6, 0) -> 0 | K6: =SUMIF(R7:R1699, Q6, L7:L1699) -> 0 | L6: =TRUNC(F6+H6+J6, 0) -> 0 | Q6: 0101 | R6: 01 | S6: F | T6: F | U6: F | AT6: 2 | AW6: 0101 | AX6: 2
A7: 가설공사 | D7: 1 | E7: =SUMIF(R8:R1699, Q7, F8:F1699) -> 0 | F7: =TRUNC(E7*D7, 0) -> 0 | G7: =SUMIF(R8:R1699, Q7, H8:H1699) -> 0 | H7: =TRUNC(G7*D7, 0) -> 0 | I7: =SUMIF(R8:R1699, Q7, J8:J1699) -> 0 | J7: =TRUNC(I7*D7, 0) -> 0 | K7: =SUMIF(R8:R1699, Q7, L8:L1699) -> 0 | L7: =TRUNC(F7+H7+J7, 0) -> 0 | Q7: 010101 | R7: 0101 | S7: F | T7: F | U7: F | AT7: 3 | AW7: 010101 | AX7: 3
A8: 가설건축물 | D8: 1 | E8: =SUMIF(R9:R1699, Q8, F9:F1699) -> 0 | F8: =TRUNC(E8*D8, 0) -> 0 | G8: =SUMIF(R9:R1699, Q8, H9:H1699) -> 0 | H8: =TRUNC(G8*D8, 0) -> 0 | I8: =SUMIF(R9:R1699, Q8, J9:J1699) -> 0 | J8: =TRUNC(I8*D8, 0) -> 0 | K8: =SUMIF(R9:R1699, Q8, L9:L1699) -> 0 | L8: =TRUNC(F8+H8+J8, 0) -> 0 | Q8: 01010101 | R8: 010101 | S8: F | T8: F | U8: F | AT8: 4 | AW8: 01010101 | AX8: 75
A9: (☞ 철재조립식 가설건축물 설치 및 해체)-------- | D9: 1 | E9: =SUM(F10:F11) -> 0 | F9: =TRUNC(E9*D9, 0) -> 0 | G9: =SUM(H10:H11) -> 0 | H9: =TRUNC(G9*D9, 0) -> 0 | I9: =SUM(J10:J11) -> 0 | J9: =TRUNC(I9*D9, 0) -> 0 | K9: =SUM(L10:L11) -> 0 | L9: =TRUNC(F9+H9+J9, 0) -> 0 | Q9: 0101010101 | R9: 01010101 | S9: F | T9: F | U9: F | AT9: 5 | AW9: 0101010101 | AX9: 58
A10: 철재조립식 가설건축물 설치 및 해체 | B10: 사무실 | C10: M2 | E10: =TRUNC(일위대가목록!E4,0) -> 0 | F10: =TRUNC(E10*D10, 0) -> 0 | G10: =TRUNC(일위대가목록!F4,0) -> 0 | H10: =TRUNC(G10*D10, 0) -> 0 | I10: =TRUNC(일위대가목록!G4,0) -> 94995 | J10: =TRUNC(I10*D10, 0) -> 0 | K10: =TRUNC(E10+G10+I10, 0) -> 94995 | L10: =TRUNC(F10+H10+J10, 0) -> 0 | N10: 5C60033F4B7563CC0C8D2CDFF15322 | Q10: 0101010101 | S10: T | T10: F | U10: F | AW10: 01010101015C60033F4B7563CC0C8D2CDFF15322 | AX10: 22
A11: 철재조립식 가설건축물 설치 및 해체 | B11: 창고 | C11: M2 | E11: =TRUNC(일위대가목록!E5,0) -> 0 | F11: =TRUNC(E11*D11, 0) -> 0 | G11: =TRUNC(일위대가목록!F5,0) -> 0 | H11: =TRUNC(G11*D11, 0) -> 0 | I11: =TRUNC(일위대가목록!G5,0) -> 74189 | J11: =TRUNC(I11*D11, 0) -> 0 | K11: =TRUNC(E11+G11+I11, 0) -> 74189 | L11: =TRUNC(F11+H11+J11, 0) -> 0 | N11: 5C60033F4B7563CC0C8D2CDFF1521B | Q11: 0101010101 | S11: T | T11: F | U11: F | AW11: 01010101015C60033F4B7563CC0C8D2CDFF1521B | AX11: 23
A12: (☞ 콘테이너형 가설건축물 설치 및 해체)------ | D12: 1 | E12: =SUM(F13:F18) -> 0 | F12: =TRUNC(E12*D12, 0) -> 0 | G12: =SUM(H13:H18) -> 0 | H12: =TRUNC(G12*D12, 0) -> 0 | I12: =SUM(J13:J18) -> 0 | J12: =TRUNC(I12*D12, 0) -> 0 | K12: =SUM(L13:L18) -> 0 | L12: =TRUNC(F12+H12+J12, 0) -> 0 | Q12: 0101010102 | R12: 01010101 | S12: F | T12: F | U12: F | AT12: 5 | AW12: 0101010102 | AX12: 59
A13: 콘테이너형 가설건축물 설치 | B13: 3.0*3.0*2.6m | C13: 개소 | E13: =TRUNC(일위대가목록!E6,0) -> 0 | F13: =TRUNC(E13*D13, 0) -> 0 | G13: =TRUNC(일위대가목록!F6,0) -> 0 | H13: =TRUNC(G13*D13, 0) -> 0 | I13: =TRUNC(일위대가목록!G6,0) -> 154953 | J13: =TRUNC(I13*D13, 0) -> 0 | K13: =TRUNC(E13+G13+I13, 0) -> 154953 | L13: =TRUNC(F13+H13+J13, 0) -> 0 | N13: 5C60033F4B756220488751143F5488 | Q13: 0101010102 | S13: T | T13: F | U13: F | AW13: 01010101025C60033F4B756220488751143F5488 | AX13: 25
A14: 콘테이너형 가설건축물 해체 | B14: 3.0*3.0*2.6m | C14: 개소 | E14: =TRUNC(일위대가목록!E7,0) -> 0 | F14: =TRUNC(E14*D14, 0) -> 0 | G14: =TRUNC(일위대가목록!F7,0) -> 0 | H14: =TRUNC(G14*D14, 0) -> 0 | I14: =TRUNC(일위대가목록!G7,0) -> 154953 | J14: =TRUNC(I14*D14, 0) -> 0 | K14: =TRUNC(E14+G14+I14, 0) -> 154953 | L14: =TRUNC(F14+H14+J14, 0) -> 0 | N14: 5C60033F4B756220488751143F548D | Q14: 0101010102 | S14: T | T14: F | U14: F | AW14: 01010101025C60033F4B756220488751143F548D | AX14: 29
A15: 콘테이너형 가설건축물 해체 | B15: 3.0*6.0*2.6m | C15: 개소 | E15: =TRUNC(일위대가목록!E8,0) -> 0 | F15: =TRUNC(E15*D15, 0) -> 0 | G15: =TRUNC(일위대가목록!F8,0) -> 0 | H15: =TRUNC(G15*D15, 0) -> 0 | I15: =TRUNC(일위대가목록!G8,0) -> 194557 | J15: =TRUNC(I15*D15, 0) -> 0 | K15: =TRUNC(E15+G15+I15, 0) -> 194557 | L15: =TRUNC(F15+H15+J15, 0) -> 0 | N15: 5C60033F4B756220488751143F5759 | Q15: 0101010102 | S15: T | T15: F | U15: F | AW15: 01010101025C60033F4B756220488751143F5759 | AX15: 26
A16: 콘테이너형 가설건축물 설치 | B16: 3.0*6.0*2.6m | C16: 개소 | E16: =TRUNC(일위대가목록!E9,0) -> 0 | F16: =TRUNC(E16*D16, 0) -> 0 | G16: =TRUNC(일위대가목록!F9,0) -> 0 | H16: =TRUNC(G16*D16, 0) -> 0 | I16: =TRUNC(일위대가목록!G9,0) -> 194557 | J16: =TRUNC(I16*D16, 0) -> 0 | K16: =TRUNC(E16+G16+I16, 0) -> 194557 | L16: =TRUNC(F16+H16+J16, 0) -> 0 | N16: 5C60033F4B756220488751143F575C | Q16: 0101010102 | S16: T | T16: F | U16: F | AW16: 01010101025C60033F4B756220488751143F575C | AX16: 30
A17: 콘테이너형 가설건축물 해체 | B17: 3.0*9.0*2.6m | C17: 개소 | E17: =TRUNC(일위대가목록!E10,0) -> 0 | F17: =TRUNC(E17*D17, 0) -> 0 | G17: =TRUNC(일위대가목록!F10,0) -> 0 | H17: =TRUNC(G17*D17, 0) -> 0 | I17: =TRUNC(일위대가목록!G10,0) -> 225308 | J17: =TRUNC(I17*D17, 0) -> 0 | K17: =TRUNC(E17+G17+I17, 0) -> 225308 | L17: =TRUNC(F17+H17+J17, 0) -> 0 | N17: 5C60033F4B756220488751143F56B3 | Q17: 0101010102 | S17: T | T17: F | U17: F | AW17: 01010101025C60033F4B756220488751143F56B3 | AX17: 27
A18: 콘테이너형 가설건축물 설치 | B18: 3.0*9.0*2.6m | C18: 개소 | E18: =TRUNC(일위대가목록!E11,0) -> 0 | F18: =TRUNC(E18*D18, 0) -> 0 | G18: =TRUNC(일위대가목록!F11,0) -> 0 | H18: =TRUNC(G18*D18, 0) -> 0 | I18: =TRUNC(일위대가목록!G11,0) -> 225308 | J18: =TRUNC(I18*D18, 0) -> 0 | K18: =TRUNC(E18+G18+I18, 0) -> 225308 | L18: =TRUNC(F18+H18+J18, 0) -> 0 | N18: 5C60033F4B756220488751143F56B6 | Q18: 0101010102 | S18: T | T18: F | U18: F | AW18: 01010101025C60033F4B756220488751143F56B6 | AX18: 28
A19: 가설 울타리 및 가설 방음벽 | D19: 1 | E19: =SUMIF(R20:R1699, Q19, F20:F1699) -> 0 | F19: =TRUNC(E19*D19, 0) -> 0 | G19: =SUMIF(R20:R1699, Q19, H20:H1699) -> 0 | H19: =TRUNC(G19*D19, 0) -> 0 | I19: =SUMIF(R20:R1699, Q19, J20:J1699) -> 0 | J19: =TRUNC(I19*D19, 0) -> 0 | K19: =SUMIF(R20:R1699, Q19, L20:L1699) -> 0 | L19: =TRUNC(F19+H19+J19, 0) -> 0 | Q19: 01010102 | R19: 010101 | S19: F | T19: F | U19: F | AT19: 4 | AW19: 01010102 | AX19: 76
A20: (☞ 강관 지주 설치 및 해체)----- | D20: 1 | E20: =SUM(F21:F24) -> 0 | F20: =TRUNC(E20*D20, 0) -> 0 | G20: =SUM(H21:H24) -> 0 | H20: =TRUNC(G20*D20, 0) -> 0 | I20: =SUM(J21:J24) -> 0 | J20: =TRUNC(I20*D20, 0) -> 0 | K20: =SUM(L21:L24) -> 0 | L20: =TRUNC(F20+H20+J20, 0) -> 0 | Q20: 0101010201 | R20: 01010102 | S20: F | T20: F | U20: F | AT20: 5 | AW20: 0101010201 | AX20: 60
A21: 강관 지주 설치 | B21: 지주높이 3.5m 이하 | C21: M | E21: =TRUNC(일위대가목록!E12,0) -> 0 | F21: =TRUNC(E21*D21, 0) -> 0 | G21: =TRUNC(일위대가목록!F12,0) -> 0 | H21: =TRUNC(G21*D21, 0) -> 0 | I21: =TRUNC(일위대가목록!G12,0) -> 12472 | J21: =TRUNC(I21*D21, 0) -> 0 | K21: =TRUNC(E21+G21+I21, 0) -> 12472 | L21: =TRUNC(F21+H21+J21, 0) -> 0 | N21: 5C60033C4E0266B6AF878F8CD85912 | Q21: 0101010201 | S21: T | T21: F | U21: F | AW21: 01010102015C60033C4E0266B6AF878F8CD85912 | AX21: 31
A22: 강관 지주 해체 | B22: 지주높이 3.5m 이하 | C22: M | E22: =TRUNC(일위대가목록!E13,0) -> 0 | F22: =TRUNC(E22*D22, 0) -> 0 | G22: =TRUNC(일위대가목록!F13,0) -> 0 | H22: =TRUNC(G22*D22, 0) -> 0 | I22: =TRUNC(일위대가목록!G13,0) -> 4925 | J22: =TRUNC(I22*D22, 0) -> 0 | K22: =TRUNC(E22+G22+I22, 0) -> 4925 | L22: =TRUNC(F22+H22+J22, 0) -> 0 | N22: 5C60033C4E0266B6AF878F8CD8580B | Q22: 0101010201 | S22: T | T22: F | U22: F | AW22: 01010102015C60033C4E0266B6AF878F8CD8580B | AX22: 32
A23: 강관 지주 설치 | B23: 지주높이 6m 이하 | C23: M | E23: =TRUNC(일위대가목록!E14,0) -> 0 | F23: =TRUNC(E23*D23, 0) -> 0 | G23: =TRUNC(일위대가목록!F14,0) -> 0 | H23: =TRUNC(G23*D23, 0) -> 0 | I23: =TRUNC(일위대가목록!G14,0) -> 17697 | J23: =TRUNC(I23*D23, 0) -> 0 | K23: =TRUNC(E23+G23+I23, 0) -> 17697 | L23: =TRUNC(F23+H23+J23, 0) -> 0 | N23: 5C60033C4E0266B6AF878F8CCE534F | Q23: 0101010201 | S23: T | T23: F | U23: F | AW23: 01010102015C60033C4E0266B6AF878F8CCE534F | AX23: 33
A24: 강관 지주 해체 | B24: 지주높이 6m 이하 | C24: M | E24: =TRUNC(일위대가목록!E15,0) -> 0 | F24: =TRUNC(E24*D24, 0) -> 0 | G24: =TRUNC(일위대가목록!F15,0) -> 0 | H24: =TRUNC(G24*D24, 0) -> 0 | I24: =TRUNC(일위대가목록!G15,0) -> 6904 | J24: =TRUNC(I24*D24, 0) -> 0 | K24: =TRUNC(E24+G24+I24, 0) -> 6904 | L24: =TRUNC(F24+H24+J24, 0) -> 0 | N24: 5C60033C4E0266B6AF878F8CCE52A8 | Q24: 0101010201 | S24: T | T24: F | U24: F | AW24: 01010102015C60033C4E0266B6AF878F8CCE52A8 | AX24: 34
A25: (☞ H형강 지주 설치 및 해체)----- | D25: 1 | E25: =SUM(F26:F29) -> 0 | F25: =TRUNC(E25*D25, 0) -> 0 | G25: =SUM(H26:H29) -> 0 | H25: =TRUNC(G25*D25, 0) -> 0 | I25: =SUM(J26:J29) -> 0 | J25: =TRUNC(I25*D25, 0) -> 0 | K25: =SUM(L26:L29) -> 0 | L25: =TRUNC(F25+H25+J25, 0) -> 0 | Q25: 0101010202 | R25: 01010102 | S25: F | T25: F | U25: F | AT25: 5 | AW25: 0101010202 | AX25: 61
A26: H형강 지주 설치 | B26: 지주높이 4m 이하 | C26: M | E26: =TRUNC(일위대가목록!E16,0) -> 0 | F26: =TRUNC(E26*D26, 0) -> 0 | G26: =TRUNC(일위대가목록!F16,0) -> 0 | H26: =TRUNC(G26*D26, 0) -> 0 | I26: =TRUNC(일위대가목록!G16,0) -> 24864 | J26: =TRUNC(I26*D26, 0) -> 0 | K26: =TRUNC(E26+G26+I26, 0) -> 24864 | L26: =TRUNC(F26+H26+J26, 0) -> 0 | N26: 5C60033C4E0266B6AF878FAFB855B3 | Q26: 0101010202 | S26: T | T26: F | U26: F | AW26: 01010102025C60033C4E0266B6AF878FAFB855B3 | AX26: 37
A27: H형강 지주 해체 | B27: 지주높이 4m 이하 | C27: M | E27: =TRUNC(일위대가목록!E17,0) -> 0 | F27: =TRUNC(E27*D27, 0) -> 0 | G27: =TRUNC(일위대가목록!F17,0) -> 0 | H27: =TRUNC(G27*D27, 0) -> 0 | I27: =TRUNC(일위대가목록!G17,0) -> 9998 | J27: =TRUNC(I27*D27, 0) -> 0 | K27: =TRUNC(E27+G27+I27, 0) -> 9998 | L27: =TRUNC(F27+H27+J27, 0) -> 0 | N27: 5C60033C4E0266B6AF878FAFB854AC | Q27: 0101010202 | S27: T | T27: F | U27: F | AW27: 01010102025C60033C4E0266B6AF878FAFB854AC | AX27: 38
A28: H형강 지주 설치 | B28: 지주높이 7m 이하 | C28: M | E28: =TRUNC(일위대가목록!E18,0) -> 0 | F28: =TRUNC(E28*D28, 0) -> 0 | G28: =TRUNC(일위대가목록!F18,0) -> 0 | H28: =TRUNC(G28*D28, 0) -> 0 | I28: =TRUNC(일위대가목록!G18,0) -> 43343 | J28: =TRUNC(I28*D28, 0) -> 0 | K28: =TRUNC(E28+G28+I28, 0) -> 43343 | L28: =TRUNC(F28+H28+J28, 0) -> 0 | N28: 5C60033C4E0266B6AF878FAFAF5EE1 | Q28: 0101010202 | S28: T | T28: F | U28: F | AW28: 01010102025C60033C4E0266B6AF878FAFAF5EE1 | AX28: 39
A29: H형강 지주 해체 | B29: 지주높이 7m 이하 | C29: M | E29: =TRUNC(일위대가목록!E19,0) -> 0 | F29: =TRUNC(E29*D29, 0) -> 0 | G29: =TRUNC(일위대가목록!F19,0) -> 0 | H29: =TRUNC(G29*D29, 0) -> 0 | I29: =TRUNC(일위대가목록!G19,0) -> 17456 | J29: =TRUNC(I29*D29, 0) -> 0 | K29: =TRUNC(E29+G29+I29, 0) -> 17456 | L29: =TRUNC(F29+H29+J29, 0) -> 0 | N29: 5C60033C4E0266B6AF878FAFAF5F87 | Q29: 0101010202 | S29: T | T29: F | U29: F | AW29: 01010102025C60033C4E0266B6AF878FAFAF5F87 | AX29: 40
A30: (☞ 가설울타리판 설치 및 해체)----- | D30: 1 | E30: =SUM(F31:F34) -> 0 | F30: =TRUNC(E30*D30, 0) -> 0 | G30: =SUM(H31:H34) -> 0 | H30: =TRUNC(G30*D30, 0) -> 0 | I30: =SUM(J31:J34) -> 0 | J30: =TRUNC(I30*D30, 0) -> 0 | K30: =SUM(L31:L34) -> 0 | L30: =TRUNC(F30+H30+J30, 0) -> 0 | Q30: 0101010203 | R30: 01010102 | S30: F | T30: F | U30: F | AT30: 5 | AW30: 0101010203 | AX30: 62
A31: 가설울타리판 설치 | B31: 설치높이 3m 이하 | C31: M | E31: =TRUNC(일위대가목록!E20,0) -> 0 | F31: =TRUNC(E31*D31, 0) -> 0 | G31: =TRUNC(일위대가목록!F20,0) -> 0 | H31: =TRUNC(G31*D31, 0) -> 0 | I31: =TRUNC(일위대가목록!G20,0) -> 8629 | J31: =TRUNC(I31*D31, 0) -> 0 | K31: =TRUNC(E31+G31+I31, 0) -> 8629 | L31: =TRUNC(F31+H31+J31, 0) -> 0 | N31: 5C60033C4E0266B4F88B8D694C5D2E | Q31: 0101010203 | S31: T | T31: F | U31: F | AW31: 01010102035C60033C4E0266B4F88B8D694C5D2E | AX31: 42
A32: 가설울타리판 해체 | B32: 설치높이 3m 이하 | C32: M | E32: =TRUNC(일위대가목록!E21,0) -> 0 | F32: =TRUNC(E32*D32, 0) -> 0 | G32: =TRUNC(일위대가목록!F21,0) -> 0 | H32: =TRUNC(G32*D32, 0) -> 0 | I32: =TRUNC(일위대가목록!G21,0) -> 3404 | J32: =TRUNC(I32*D32, 0) -> 0 | K32: =TRUNC(E32+G32+I32, 0) -> 3404 | L32: =TRUNC(F32+H32+J32, 0) -> 0 | N32: 5C60033C4E0266B4F88B8D694C5C08 | Q32: 0101010203 | S32: T | T32: F | U32: F | AW32: 01010102035C60033C4E0266B4F88B8D694C5C08 | AX32: 43
A33: 가설울타리판 설치 | B33: 설치높이 6m 이하 | C33: M | E33: =TRUNC(일위대가목록!E22,0) -> 0 | F33: =TRUNC(E33*D33, 0) -> 0 | G33: =TRUNC(일위대가목록!F22,0) -> 0 | H33: =TRUNC(G33*D33, 0) -> 0 | I33: =TRUNC(일위대가목록!G22,0) -> 10054 | J33: =TRUNC(I33*D33, 0) -> 0 | K33: =TRUNC(E33+G33+I33, 0) -> 10054 | L33: =TRUNC(F33+H33+J33, 0) -> 0 | N33: 5C60033C4E0266B4F88B8D695D5400 | Q33: 0101010203 | S33: T | T33: F | U33: F | AW33: 01010102035C60033C4E0266B4F88B8D695D5400 | AX33: 44
A34: 가설울타리판 해체 | B34: 설치높이 6m 이하 | C34: M | E34: =TRUNC(일위대가목록!E23,0) -> 0 | F34: =TRUNC(E34*D34, 0) -> 0 | G34: =TRUNC(일위대가목록!F23,0) -> 0 | H34: =TRUNC(G34*D34, 0) -> 0 | I34: =TRUNC(일위대가목록!G23,0) -> 4116 | J34: =TRUNC(I34*D34, 0) -> 0 | K34: =TRUNC(E34+G34+I34, 0) -> 4116 | L34: =TRUNC(F34+H34+J34, 0) -> 0 | N34: 5C60033C4E0266B4F88B8D695D5527 | Q34: 0101010203 | S34: T | T34: F | U34: F | AW34: 01010102035C60033C4E0266B4F88B8D695D5527 | AX34: 45
A35: (☞ 세로형 가설방음판 설치 및 해체)----- | D35: 1 | E35: =SUM(F36:F39) -> 0 | F35: =TRUNC(E35*D35, 0) -> 0 | G35: =SUM(H36:H39) -> 0 | H35: =TRUNC(G35*D35, 0) -> 0 | I35: =SUM(J36:J39) -> 0 | J35: =TRUNC(I35*D35, 0) -> 0 | K35: =SUM(L36:L39) -> 0 | L35: =TRUNC(F35+H35+J35, 0) -> 0 | Q35: 0101010204 | R35: 01010102 | S35: F | T35: F | U35: F | AT35: 5 | AW35: 0101010204 | AX35: 63
A36: 세로형 가설방음판 설치 | B36: 설치높이 3m 이하 | C36: M | E36: =TRUNC(일위대가목록!E24,0) -> 0 | F36: =TRUNC(E36*D36, 0) -> 0 | G36: =TRUNC(일위대가목록!F24,0) -> 0 | H36: =TRUNC(G36*D36, 0) -> 0 | I36: =TRUNC(일위대가목록!G24,0) -> 8075 | J36: =TRUNC(I36*D36, 0) -> 0 | K36: =TRUNC(E36+G36+I36, 0) -> 8075 | L36: =TRUNC(F36+H36+J36, 0) -> 0 | N36: 5C60033C4E0266B4F88B8D4E7758B8 | Q36: 0101010204 | S36: T | T36: F | U36: F | AW36: 01010102045C60033C4E0266B4F88B8D4E7758B8 | AX36: 47
A37: 세로형 가설방음판 해체 | B37: 설치높이 3m 이하 | C37: M | E37: =TRUNC(일위대가목록!E25,0) -> 0 | F37: =TRUNC(E37*D37, 0) -> 0 | G37: =TRUNC(일위대가목록!F25,0) -> 0 | H37: =TRUNC(G37*D37, 0) -> 0 | I37: =TRUNC(일위대가목록!G25,0) -> 3245 | J37: =TRUNC(I37*D37, 0) -> 0 | K37: =TRUNC(E37+G37+I37, 0) -> 3245 | L37: =TRUNC(F37+H37+J37, 0) -> 0 | N37: 5C60033C4E0266B4F88B8D4E77595F | Q37: 0101010204 | S37: T | T37: F | U37: F | AW37: 01010102045C60033C4E0266B4F88B8D4E77595F | AX37: 48
A38: 세로형 가설방음판 설치 | B38: 설치높이 6m 이하 | C38: M | E38: =TRUNC(일위대가목록!E26,0) -> 0 | F38: =TRUNC(E38*D38, 0) -> 0 | G38: =TRUNC(일위대가목록!F26,0) -> 0 | H38: =TRUNC(G38*D38, 0) -> 0 | I38: =TRUNC(일위대가목록!G26,0) -> 9341 | J38: =TRUNC(I38*D38, 0) -> 0 | K38: =TRUNC(E38+G38+I38, 0) -> 9341 | L38: =TRUNC(F38+H38+J38, 0) -> 0 | N38: 5C60033C4E0266B4F88B8D4E6551AF | Q38: 0101010204 | S38: T | T38: F | U38: F | AW38: 01010102045C60033C4E0266B4F88B8D4E6551AF | AX38: 49
A39: 세로형 가설방음판 해체 | B39: 설치높이 6m 이하 | C39: M | E39: =TRUNC(일위대가목록!E27,0) -> 0 | F39: =TRUNC(E39*D39, 0) -> 0 | G39: =TRUNC(일위대가목록!F27,0) -> 0 | H39: =TRUNC(G39*D39, 0) -> 0 | I39: =TRUNC(일위대가목록!G27,0) -> 3681 | J39: =TRUNC(I39*D39, 0) -> 0 | K39: =TRUNC(E39+G39+I39, 0) -> 3681 | L39: =TRUNC(F39+H39+J39, 0) -> 0 | N39: 5C60033C4E0266B4F88B8D4E655088 | Q39: 0101010204 | S39: T | T39: F | U39: F | AW39: 01010102045C60033C4E0266B4F88B8D4E655088 | AX39: 50
A40: (☞ 가로형 가설방음판 설치 및 해체)----- | D40: 1 | E40: =SUM(F41:F44) -> 0 | F40: =TRUNC(E40*D40, 0) -> 0 | G40: =SUM(H41:H44) -> 0 | H40: =TRUNC(G40*D40, 0) -> 0 | I40: =SUM(J41:J44) -> 0 | J40: =TRUNC(I40*D40, 0) -> 0 | K40: =SUM(L41:L44) -> 0 | L40: =TRUNC(F40+H40+J40, 0) -> 0 | Q40: 0101010205 | R40: 01010102 | S40: F | T40: F | U40: F | AT40: 5 | AW40: 0101010205 | AX40: 64
...

Sheet 일위대가목록
A1: 일 위 대 가 목 록
A2: [ 경상남도교육청 일위대가(2022년 하반기) ]
A3: 코 드 | B3: 품 명 | C3: 규 격 | D3: 단위 | E3: 재 료 비 | F3: 노 무 비 | G3: 경 비 | H3: 합 계 | I3: 번 호 | J3: 비 고 | K3: 노임계수 | L3: 할증 | M3: 품셈개요 | N3: 장비일위
A4: 5C60033F4B7563CC0C8D2CDFF15322 | B4: 철재조립식 가설건축물 설치 및 해체 | C4: 사무실 | D4: M2 | E4: =일위대가!F10 -> 0 | F4: =일위대가!H10 -> 0 | G4: =일위대가!J10 -> 94995 | H4: =E4+F4+G4 -> 94995 | I4: 호표 1 | M4: 공통 2-3-1
A5: 5C60033F4B7563CC0C8D2CDFF1521B | B5: 철재조립식 가설건축물 설치 및 해체 | C5: 창고 | D5: M2 | E5: =일위대가!F18 -> 0 | F5: =일위대가!H18 -> 0 | G5: =일위대가!J18 -> 74189 | H5: =E5+F5+G5 -> 74189 | I5: 호표 2 | M5: 공통 2-3-1
A6: 5C60033F4B756220488751143F5488 | B6: 콘테이너형 가설건축물 설치 | C6: 3.0*3.0*2.6m | D6: 개소 | E6: =일위대가!F25 -> 0 | F6: =일위대가!H25 -> 0 | G6: =일위대가!J25 -> 154953 | H6: =E6+F6+G6 -> 154953 | I6: 호표 3 | M6: 공통 2-3-2
A7: 5C60033F4B756220488751143F548D | B7: 콘테이너형 가설건축물 해체 | C7: 3.0*3.0*2.6m | D7: 개소 | E7: =일위대가!F32 -> 0 | F7: =일위대가!H32 -> 0 | G7: =일위대가!J32 -> 154953 | H7: =E7+F7+G7 -> 154953 | I7: 호표 4 | M7: 공통 2-3-2
A8: 5C60033F4B756220488751143F5759 | B8: 콘테이너형 가설건축물 해체 | C8: 3.0*6.0*2.6m | D8: 개소 | E8: =일위대가!F39 -> 0 | F8: =일위대가!H39 -> 0 | G8: =일위대가!J39 -> 194557 | H8: =E8+F8+G8 -> 194557 | I8: 호표 5 | M8: 공통 2-3-2
A9: 5C60033F4B756220488751143F575C | B9: 콘테이너형 가설건축물 설치 | C9: 3.0*6.0*2.6m | D9: 개소 | E9: =일위대가!F46 -> 0 | F9: =일위대가!H46 -> 0 | G9: =일위대가!J46 -> 194557 | H9: =E9+F9+G9 -> 194557 | I9: 호표 6 | M9: 공통 2-3-2
A10: 5C60033F4B756220488751143F56B3 | B10: 콘테이너형 가설건축물 해체 | C10: 3.0*9.0*2.6m | D10: 개소 | E10: =일위대가!F53 -> 0 | F10: =일위대가!H53 -> 0 | G10: =일위대가!J53 -> 225308 | H10: =E10+F10+G10 -> 225308 | I10: 호표 7 | M10: 공통 2-3-2
A11: 5C60033F4B756220488751143F56B6 | B11: 콘테이너형 가설건축물 설치 | C11: 3.0*9.0*2.6m | D11: 개소 | E11: =일위대가!F60 -> 0 | F11: =일위대가!H60 -> 0 | G11: =일위대가!J60 -> 225308 | H11: =E11+F11+G11 -> 225308 | I11: 호표 8 | M11: 공통 2-3-2
A12: 5C60033C4E0266B6AF878F8CD85912 | B12: 강관 지주 설치 | C12: 지주높이 3.5m 이하 | D12: M | E12: =일위대가!F68 -> 0 | F12: =일위대가!H68 -> 0 | G12: =일위대가!J68 -> 12472 | H12: =E12+F12+G12 -> 12472 | I12: 호표 9 | M12: 공통 2-4-1
A13: 5C60033C4E0266B6AF878F8CD8580B | B13: 강관 지주 해체 | C13: 지주높이 3.5m 이하 | D13: M | E13: =일위대가!F76 -> 0 | F13: =일위대가!H76 -> 0 | G13: =일위대가!J76 -> 4925 | H13: =E13+F13+G13 -> 4925 | I13: 호표 10 | M13: 공통 2-4-1
A14: 5C60033C4E0266B6AF878F8CCE534F | B14: 강관 지주 설치 | C14: 지주높이 6m 이하 | D14: M | E14: =일위대가!F84 -> 0 | F14: =일위대가!H84 -> 0 | G14: =일위대가!J84 -> 17697 | H14: =E14+F14+G14 -> 17697 | I14: 호표 11 | M14: 공통 2-4-1
A15: 5C60033C4E0266B6AF878F8CCE52A8 | B15: 강관 지주 해체 | C15: 지주높이 6m 이하 | D15: M | E15: =일위대가!F92 -> 0 | F15: =일위대가!H92 -> 0 | G15: =일위대가!J92 -> 6904 | H15: =E15+F15+G15 -> 6904 | I15: 호표 12 | M15: 공통 2-4-1
A16: 5C60033C4E0266B6AF878FAFB855B3 | B16: H형강 지주 설치 | C16: 지주높이 4m 이하 | D16: M | E16: =일위대가!F101 -> 0 | F16: =일위대가!H101 -> 0 | G16: =일위대가!J101 -> 24864 | H16: =E16+F16+G16 -> 24864 | I16: 호표 13 | M16: 공통 2-4-2
A17: 5C60033C4E0266B6AF878FAFB854AC | B17: H형강 지주 해체 | C17: 지주높이 4m 이하 | D17: M | E17: =일위대가!F110 -> 0 | F17: =일위대가!H110 -> 0 | G17: =일위대가!J110 -> 9998 | H17: =E17+F17+G17 -> 9998 | I17: 호표 14 | M17: 공통 2-4-2
A18: 5C60033C4E0266B6AF878FAFAF5EE1 | B18: H형강 지주 설치 | C18: 지주높이 7m 이하 | D18: M | E18: =일위대가!F119 -> 0 | F18: =일위대가!H119 -> 0 | G18: =일위대가!J119 -> 43343 | H18: =E18+F18+G18 -> 43343 | I18: 호표 15 | M18: 공통 2-4-2
A19: 5C60033C4E0266B6AF878FAFAF5F87 | B19: H형강 지주 해체 | C19: 지주높이 7m 이하 | D19: M | E19: =일위대가!F128 -> 0 | F19: =일위대가!H128 -> 0 | G19: =일위대가!J128 -> 17456 | H19: =E19+F19+G19 -> 17456 | I19: 호표 16 | M19: 공통 2-4-2
A20: 5C60033C4E0266B4F88B8D694C5D2E | B20: 가설울타리판 설치 | C20: 설치높이 3m 이하 | D20: M | E20: =일위대가!F135 -> 0 | F20: =일위대가!H135 -> 0 | G20: =일위대가!J135 -> 8629 | H20: =E20+F20+G20 -> 8629 | I20: 호표 17 | M20: 공통 2-4-3
A21: 5C60033C4E0266B4F88B8D694C5C08 | B21: 가설울타리판 해체 | C21: 설치높이 3m 이하 | D21: M | E21: =일위대가!F142 -> 0 | F21: =일위대가!H142 -> 0 | G21: =일위대가!J142 -> 3404 | H21: =E21+F21+G21 -> 3404 | I21: 호표 18 | M21: 공통 2-4-3
A22: 5C60033C4E0266B4F88B8D695D5400 | B22: 가설울타리판 설치 | C22: 설치높이 6m 이하 | D22: M | E22: =일위대가!F149 -> 0 | F22: =일위대가!H149 -> 0 | G22: =일위대가!J149 -> 10054 | H22: =E22+F22+G22 -> 10054 | I22: 호표 19 | M22: 공통 2-4-3
A23: 5C60033C4E0266B4F88B8D695D5527 | B23: 가설울타리판 해체 | C23: 설치높이 6m 이하 | D23: M | E23: =일위대가!F156 -> 0 | F23: =일위대가!H156 -> 0 | G23: =일위대가!J156 -> 4116 | H23: =E23+F23+G23 -> 4116 | I23: 호표 20 | M23: 공통 2-4-3
A24: 5C60033C4E0266B4F88B8D4E7758B8 | B24: 세로형 가설방음판 설치 | C24: 설치높이 3m 이하 | D24: M | E24: =일위대가!F163 -> 0 | F24: =일위대가!H163 -> 0 | G24: =일위대가!J163 -> 8075 | H24: =E24+F24+G24 -> 8075 | I24: 호표 21 | M24: 공통 2-4-4
A25: 5C60033C4E0266B4F88B8D4E77595F | B25: 세로형 가설방음판 해체 | C25: 설치높이 3m 이하 | D25: M | E25: =일위대가!F170 -> 0 | F25: =일위대가!H170 -> 0 | G25: =일위대가!J170 -> 3245 | H25: =E25+F25+G25 -> 3245 | I25: 호표 22 | M25: 공통 2-4-4
A26: 5C60033C4E0266B4F88B8D4E6551AF | B26: 세로형 가설방음판 설치 | C26: 설치높이 6m 이하 | D26: M | E26: =일위대가!F177 -> 0 | F26: =일위대가!H177 -> 0 | G26: =일위대가!J177 -> 9341 | H26: =E26+F26+G26 -> 9341 | I26: 호표 23 | M26: 공통 2-4-4
A27: 5C60033C4E0266B4F88B8D4E655088 | B27: 세로형 가설방음판 해체 | C27: 설치높이 6m 이하 | D27: M | E27: =일위대가!F184 -> 0 | F27: =일위대가!H184 -> 0 | G27: =일위대가!J184 -> 3681 | H27: =E27+F27+G27 -> 3681 | I27: 호표 24 | M27: 공통 2-4-4
A28: 5C60033C4E0266B4F88B8D239D5D66 | B28: 가로형 가설방음판 설치 | C28: 설치높이 3m 이하 | D28: M | E28: =일위대가!F192 -> 0 | F28: =일위대가!H192 -> 0 | G28: =일위대가!J192 -> 29356 | H28: =E28+F28+G28 -> 29356 | I28: 호표 25 | M28: 공통 2-4-5
A29: 5C60033C4E0266B4F88B8D239D5C5F | B29: 가로형 가설방음판 해체 | C29: 설치높이 3m 이하 | D29: M | E29: =일위대가!F200 -> 0 | F29: =일위대가!H200 -> 0 | G29: =일위대가!J200 -> 11734 | H29: =E29+F29+G29 -> 11734 | I29: 호표 26 | M29: 공통 2-4-5
A30: 5C60033C4E0266B4F88B8D238357C3 | B30: 가로형 가설방음판 설치 | C30: 설치높이 6m 이하 | D30: M | E30: =일위대가!F208 -> 0 | F30: =일위대가!H208 -> 0 | G30: =일위대가!J208 -> 34206 | H30: =E30+F30+G30 -> 34206 | I30: 호표 27 | M30: 공통 2-4-5
A31: 5C60033C4E0266B4F88B8D2383563C | B31: 가로형 가설방음판 해체 | C31: 설치높이 6m 이하 | D31: M | E31: =일위대가!F216 -> 0 | F31: =일위대가!H216 -> 0 | G31: =일위대가!J216 -> 13769 | H31: =E31+F31+G31 -> 13769 | I31: 호표 28 | M31: 공통 2-4-5
A32: 5C60033C4E2E6CB2428FA0658C52D7 | B32: 토공의 비탈 규준틀 | C32: 재료 별도 | D32: 개소 | E32: =일위대가!F221 -> 0 | F32: =일위대가!H221 -> 60334 | G32: =일위대가!J221 -> 0 | H32: =E32+F32+G32 -> 60334 | I32: 호표 29 | M32: 공통 2-5-1
A33: 5C4353FA47DB63A2C386A221195723 | B33: 목재 규준틀 | C33: - 재료비 별도 - | D33: 개소 | E33: =일위대가!F226 -> 0 | F33: =일위대가!H226 -> 80149 | G33: =일위대가!J226 -> 0 | H33: =E33+F33+G33 -> 80149 | I33: 호표 30 | M33: 공통 2-5-2
A34: 5C4353FA47DB63A2C386A2212B5ECD | B34: 철재 규준틀 | C34: 5m이하(재료비 별도) | D34: 개소 | E34: =일위대가!F231 -> 0 | F34: =일위대가!H231 -> 52408 | G34: =일위대가!J231 -> 0 | H34: =E34+F34+G34 -> 52408 | I34: 호표 31 | M34: 공통 2-5-3
A35: 5C4353FA47DB63A2C386A22134559F | B35: 철재 규준틀 | C35: 10m이하(재료비 별도) | D35: 개소 | E35: =일위대가!F236 -> 0 | F35: =일위대가!H236 -> 62761 | G35: =일위대가!J236 -> 0 | H35: =E35+F35+G35 -> 62761 | I35: 호표 32 | M35: 공통 2-5-3
A36: 5C60033C4E2E6CB2428FA077FE5C58 | B36: 수평 규준틀 | C36: 평 | D36: 개소 | E36: =일위대가!F242 -> 4973 | F36: =일위대가!H242 -> 82495 | G36: =일위대가!J242 -> 0 | H36: =E36+F36+G36 -> 87468 | I36: 호표 33 | M36: 공통 2-5-4
A37: 5C60033C4E2E6CB2428FA04AB05DF9 | B37: 수평 규준틀 | C37: 귀 | D37: 개소 | E37: =일위대가!F248 -> 8137 | F37: =일위대가!H248 -> 141941 | G37: =일위대가!J248 -> 0 | H37: =E37+F37+G37 -> 150078 | I37: 호표 34 | M37: 공통 2-5-4
A38: 5C4353FF4E37619A2D8EE717045735 | B38: 강관동바리설치간격 0.6m 이하 | C38: H=0∼2.5이하(재료비별도) | D38: 공M3 | E38: =일위대가!F254 -> 0 | F38: =일위대가!H254 -> 19837 | G38: =일위대가!J254 -> 0 | H38: =E38+F38+G38 -> 19837 | I38: 호표 35 | M38: 공통 2-6-1
A39: 5C4353FF4E37619A2D8EE7219F5FF9 | B39: 강관동바리설치간격 0.6초과, 0.8m 이하 | C39: H=0∼2.5이하(재료비별도) | D39: 공M3 | E39: =일위대가!F259 -> 0 | F39: =일위대가!H259 -> 16531 | G39: =일위대가!J259 -> 0 | H39: =E39+F39+G39 -> 16531 | I39: 호표 36 | M39: 공통 2-6-1
A40: 5C4353FF4E37619A2D8EE733ED5B47 | B40: 강관동바리설치간격 0.8m 초과 | C40: H=0∼2.5이하(재료비별도) | D40: 공M3 | E40: =일위대가!F265 -> 0 | F40: =일위대가!H265 -> 14878 | G40: =일위대가!J265 -> 0 | H40: =E40+F40+G40 -> 14878 | I40: 호표 37 | M40: 공통 2-6-1
...

Sheet 일위대가
A1: [ 경상남도교육청 일위대가(2022년 하반기) ]
A2: 품 명 | B2: 규 격 | C2: 단위 | D2: 수량 | E2: 재 료 비 | G2: 노 무 비 | I2: 경 비 | K2: 합 계 | M2: 비 고 | N2: 일위대가 | O2: 품목코드 | P2: 일위 | Q2: 단산 | R2: 자재 | S2: 손료적용 | T2: 손료저장 | U2: 적용율 | V2: JUK1 | W2: JUK2 | X2: JUK3 | Y2: JUK4 | Z2: JUK5 | AA2: JUK6 | AB2: JUK7 | AC2: JUK8 | AD2: 할증적용 | AE2: 할증저장 | AF2: 할증율 | AG2: HAL1 | AH2: HAL2 | AI2: HAL3 | AJ2: 자재구분 | AK2: 일위대가+자재 | AL2: 장비일위 | AM2: 설정
E3: 단 가 | F3: 금 액 | G3: 단 가 | H3: 금 액 | I3: 단 가 | J3: 금 액 | K3: 단 가 | L3: 금 액
A4: 철재조립식 가설건축물 설치 및 해체 사무실 M2 공통 2-3-1 ( 호표 1 ) | N4: 5C60033F4B7563CC0C8D2CDFF15322
A5: 건축목공 | B5: 일반공사 직종 | C5: 인 | D5: 0.26 | E5: 0 | F5: =TRUNC(E5*D5,1) -> 0 | G5: 242631 | H5: =TRUNC(G5*D5,1) -> 63084 | I5: 0 | J5: =TRUNC(I5*D5,1) -> 0 | K5: =TRUNC(E5+G5+I5,1) -> 242631 | L5: =TRUNC(F5+H5+J5,1) -> 63084 | M5: 금액제외 | O5: 5CBF33614D1B68F169828194565881423DD779 | P5: F | Q5: F | R5: T | V5: 1 | W5: 2 | AK5: 5C60033F4B7563CC0C8D2CDFF153225CBF33614D1B68F169828194565881423DD779 | AM5: -
A6: 보통인부 | B6: 일반공사 직종 | C6: 인 | D6: 0.11 | E6: 0 | F6: =TRUNC(E6*D6,1) -> 0 | G6: 153671 | H6: =TRUNC(G6*D6,1) -> 16903.8 | I6: 0 | J6: =TRUNC(I6*D6,1) -> 0 | K6: =TRUNC(E6+G6+I6,1) -> 153671 | L6: =TRUNC(F6+H6+J6,1) -> 16903.8 | M6: 금액제외 | O6: 5CBF33614D1B68F169828194565881423DD54E | P6: F | Q6: F | R6: T | V6: 1 | W6: 2 | AK6: 5C60033F4B7563CC0C8D2CDFF153225CBF33614D1B68F169828194565881423DD54E | AM6: -
A7: 크레인(무한궤도) | B7: 10ton(0.29㎥) | C7: HR | D7: 0.19 | E7: 9712 | F7: =TRUNC(E7*D7,1) -> 1845.2 | G7: 47967 | H7: =TRUNC(G7*D7,1) -> 9113.7 | I7: 12892 | J7: =TRUNC(I7*D7,1) -> 2449.4 | K7: =TRUNC(E7+G7+I7,1) -> 70571 | L7: =TRUNC(F7+H7+J7,1) -> 13408.3 | M7: 금액제외 | O7: 5B78C378434567B570886E1ACD57890B025538DC | P7: T | Q7: F | R7: F | W7: 2 | AK7: 5C60033F4B7563CC0C8D2CDFF153225B78C378434567B570886E1ACD57890B025538DC | AM7: -
A8: 공구손료 | B8: 인력품의 2% | C8: 식 | D8: 1 | E8: 0 | F8: =TRUNC(E8*D8,1) -> 0 | G8: 0 | H8: =TRUNC(G8*D8,1) -> 0 | I8: =TRUNC(SUMIF(V5:V9, RIGHTB(O8, 1), H5:H9)*U8, 2) -> 1599.75 | J8: =TRUNC(I8*D8,1) -> 1599.7 | K8: =TRUNC(E8+G8+I8,1) -> 1599.7 | L8: =TRUNC(F8+H8+J8,1) -> 1599.7 | M8: 금액제외 | O8: 5D7C43414B556F1341888AB7A65E1 | P8: F | Q8: F | R8: F | S8: 1 | T8: 2 | U8: 0.02 | W8: 2 | AK8: 5C60033F4B7563CC0C8D2CDFF153225D7C43414B556F1341888AB7A65E1 | AM8: -
A9: 경비로 적용 | B9: 합계의 100% | C9: 식 | D9: 1 | E9: 0 | F9: =TRUNC(E9*D9,1) -> 0 | G9: 0 | H9: =TRUNC(G9*D9,1) -> 0 | I9: =TRUNC(SUMIF(W5:W9, RIGHTB(O9, 1), L5:L9)*U9, 2) -> 94995.8 | J9: =TRUNC(I9*D9,1) -> 94995.8 | K9: =TRUNC(E9+G9+I9,1) -> 94995.8 | L9: =TRUNC(F9+H9+J9,1) -> 94995.8 | N9: 5C60033F4B7563CC0C8D2CDFF15322 | O9: 5D7C43414B556F1341888AB7A65D2 | P9: F | Q9: F | R9: F | S9: 3 | T9: 2 | U9: 1 | AK9: 5C60033F4B7563CC0C8D2CDFF153225D7C43414B556F1341888AB7A65D2
A10: [ 합 계 ] | F10: =TRUNC(SUMIF(N5:N9, N4, F5:F9),0) -> 0 | H10: =TRUNC(SUMIF(N5:N9, N4, H5:H9),0) -> 0 | J10: =TRUNC(SUMIF(N5:N9, N4, J5:J9),0) -> 94995 | L10: =F10+H10+J10 -> 94995 | N10: TOTAL | O10: TOTAL | AM10: -
A12: 철재조립식 가설건축물 설치 및 해체 창고 M2 공통 2-3-1 ( 호표 2 ) | N12: 5C60033F4B7563CC0C8D2CDFF1521B
A13: 건축목공 | B13: 일반공사 직종 | C13: 인 | D13: 0.2 | E13: 0 | F13: =TRUNC(E13*D13,1) -> 0 | G13: 242631 | H13: =TRUNC(G13*D13,1) -> 48526.2 | I13: 0 | J13: =TRUNC(I13*D13,1) -> 0 | K13: =TRUNC(E13+G13+I13,1) -> 242631 | L13: =TRUNC(F13+H13+J13,1) -> 48526.2 | M13: 금액제외 | O13: 5CBF33614D1B68F169828194565881423DD779 | P13: F | Q13: F | R13: T | V13: 1 | W13: 2 | AK13: 5C60033F4B7563CC0C8D2CDFF1521B5CBF33614D1B68F169828194565881423DD779 | AM13: -
A14: 보통인부 | B14: 일반공사 직종 | C14: 인 | D14: 0.09 | E14: 0 | F14: =TRUNC(E14*D14,1) -> 0 | G14: 153671 | H14: =TRUNC(G14*D14,1) -> 13830.3 | I14: 0 | J14: =TRUNC(I14*D14,1) -> 0 | K14: =TRUNC(E14+G14+I14,1) -> 153671 | L14: =TRUNC(F14+H14+J14,1) -> 13830.3 | M14: 금액제외 | O14: 5CBF33614D1B68F169828194565881423DD54E | P14: F | Q14: F | R14: T | V14: 1 | W14: 2 | AK14: 5C60033F4B7563CC0C8D2CDFF1521B5CBF33614D1B68F169828194565881423DD54E | AM14: -
A15: 크레인(무한궤도) | B15: 10ton(0.29㎥) | C15: HR | D15: 0.15 | E15: 9712 | F15: =TRUNC(E15*D15,1) -> 1456.8 | G15: 47967 | H15: =TRUNC(G15*D15,1) -> 7195 | I15: 12892 | J15: =TRUNC(I15*D15,1) -> 1933.8 | K15: =TRUNC(E15+G15+I15,1) -> 70571 | L15: =TRUNC(F15+H15+J15,1) -> 10585.6 | M15: 금액제외 | O15: 5B78C378434567B570886E1ACD57890B025538DC | P15: T | Q15: F | R15: F | W15: 2 | AK15: 5C60033F4B7563CC0C8D2CDFF1521B5B78C378434567B570886E1ACD57890B025538DC | AM15: -
A16: 공구손료 | B16: 인력품의 2% | C16: 식 | D16: 1 | E16: 0 | F16: =TRUNC(E16*D16,1) -> 0 | G16: 0 | H16: =TRUNC(G16*D16,1) -> 0 | I16: =TRUNC(SUMIF(V13:V17, RIGHTB(O16, 1), H13:H17)*U16, 2) -> 1247.13 | J16: =TRUNC(I16*D16,1) -> 1247.1 | K16: =TRUNC(E16+G16+I16,1) -> 1247.1 | L16: =TRUNC(F16+H16+J16,1) -> 1247.1 | M16: 금액제외 | O16: 5D7C43414B556F1341888AB7A65E1 | P16: F | Q16: F | R16: F | S16: 1 | T16: 2 | U16: 0.02 | W16: 2 | AK16: 5C60033F4B7563CC0C8D2CDFF1521B5D7C43414B556F1341888AB7A65E1 | AM16: -
A17: 경비로 적용 | B17: 합계의 100% | C17: 식 | D17: 1 | E17: 0 | F17: =TRUNC(E17*D17,1) -> 0 | G17: 0 | H17: =TRUNC(G17*D17,1) -> 0 | I17: =TRUNC(SUMIF(W13:W17, RIGHTB(O17, 1), L13:L17)*U17, 2) -> 74189.2 | J17: =TRUNC(I17*D17,1) -> 74189.2 | K17: =TRUNC(E17+G17+I17,1) -> 74189.2 | L17: =TRUNC(F17+H17+J17,1) -> 74189.2 | N17: 5C60033F4B7563CC0C8D2CDFF1521B | O17: 5D7C43414B556F1341888AB7A65D2 | P17: F | Q17: F | R17: F | S17: 3 | T17: 2 | U17: 1 | AK17: 5C60033F4B7563CC0C8D2CDFF1521B5D7C43414B556F1341888AB7A65D2
A18: [ 합 계 ] | F18: =TRUNC(SUMIF(N13:N17, N12, F13:F17),0) -> 0 | H18: =TRUNC(SUMIF(N13:N17, N12, H13:H17),0) -> 0 | J18: =TRUNC(SUMIF(N13:N17, N12, J13:J17),0) -> 74189 | L18: =F18+H18+J18 -> 74189 | N18: TOTAL | O18: TOTAL | AM18: -
A20: 콘테이너형 가설건축물 설치 3.0*3.0*2.6m 개소 공통 2-3-2 ( 호표 3 ) | N20: 5C60033F4B756220488751143F5488
A21: 비계공 | B21: 일반공사 직종 | C21: 인 | D21: 0.2 | E21: 0 | F21: =TRUNC(E21*D21,1) -> 0 | G21: 269039 | H21: =TRUNC(G21*D21,1) -> 53807.8 | I21: 0 | J21: =TRUNC(I21*D21,1) -> 0 | K21: =TRUNC(E21+G21+I21,1) -> 269039 | L21: =TRUNC(F21+H21+J21,1) -> 53807.8 | M21: 금액제외 | O21: 5CBF33614D1B68F169828194565881423DD54A | P21: F | Q21: F | R21: T | V21: 1 | AK21: 5C60033F4B756220488751143F54885CBF33614D1B68F169828194565881423DD54A | AM21: -
A22: 특별인부 | B22: 일반공사 직종 | C22: 인 | D22: 0.09 | E22: 0 | F22: =TRUNC(E22*D22,1) -> 0 | G22: 192375 | H22: =TRUNC(G22*D22,1) -> 17313.7 | I22: 0 | J22: =TRUNC(I22*D22,1) -> 0 | K22: =TRUNC(E22+G22+I22,1) -> 192375 | L22: =TRUNC(F22+H22+J22,1) -> 17313.7 | M22: 금액제외 | O22: 5CBF33614D1B68F169828194565881423DD54F | P22: F | Q22: F | R22: T | V22: 1 | AK22: 5C60033F4B756220488751143F54885CBF33614D1B68F169828194565881423DD54F | AM22: -
A23: 크레인(타이어) | B23: 10ton | C23: HR | D23: 1 | E23: 7370 | F23: =TRUNC(E23*D23,1) -> 7370 | G23: 47967 | H23: =TRUNC(G23*D23,1) -> 47967 | I23: 28495 | J23: =TRUNC(I23*D23,1) -> 28495 | K23: =TRUNC(E23+G23+I23,1) -> 83832 | L23: =TRUNC(F23+H23+J23,1) -> 83832 | M23: 금액제외 | O23: 5B78C378434567B5708832C1F05C7F86D5B4A77A | P23: T | Q23: F | R23: F | V23: 1 | AK23: 5C60033F4B756220488751143F54885B78C378434567B5708832C1F05C7F86D5B4A77A | AM23: -
A24: 경비로 적용 | B24: 합계의 100% | C24: 식 | D24: 1 | E24: 0 | F24: =TRUNC(E24*D24,1) -> 0 | G24: 0 | H24: =TRUNC(G24*D24,1) -> 0 | I24: =TRUNC(SUMIF(V21:V24, RIGHTB(O24, 1), L21:L24)*U24, 2) -> 154953.5 | J24: =TRUNC(I24*D24,1) -> 154953.5 | K24: =TRUNC(E24+G24+I24,1) -> 154953.5 | L24: =TRUNC(F24+H24+J24,1) -> 154953.5 | N24: 5C60033F4B756220488751143F5488 | O24: 5D7C43414B556F1341888AB7A65E1 | P24: F | Q24: F | R24: F | S24: 3 | T24: 2 | U24: 1 | AK24: 5C60033F4B756220488751143F54885D7C43414B556F1341888AB7A65E1
A25: [ 합 계 ] | F25: =TRUNC(SUMIF(N21:N24, N20, F21:F24),0) -> 0 | H25: =TRUNC(SUMIF(N21:N24, N20, H21:H24),0) -> 0 | J25: =TRUNC(SUMIF(N21:N24, N20, J21:J24),0) -> 154953 | L25: =F25+H25+J25 -> 154953 | N25: TOTAL | O25: TOTAL | AM25: -
A27: 콘테이너형 가설건축물 해체 3.0*3.0*2.6m 개소 공통 2-3-2 ( 호표 4 ) | N27: 5C60033F4B756220488751143F548D
A28: 비계공 | B28: 일반공사 직종 | C28: 인 | D28: 0.2 | E28: 0 | F28: =TRUNC(E28*D28,1) -> 0 | G28: 269039 | H28: =TRUNC(G28*D28,1) -> 53807.8 | I28: 0 | J28: =TRUNC(I28*D28,1) -> 0 | K28: =TRUNC(E28+G28+I28,1) -> 269039 | L28: =TRUNC(F28+H28+J28,1) -> 53807.8 | M28: 금액제외 | O28: 5CBF33614D1B68F169828194565881423DD54A | P28: F | Q28: F | R28: T | V28: 1 | AK28: 5C60033F4B756220488751143F548D5CBF33614D1B68F169828194565881423DD54A | AM28: -
A29: 특별인부 | B29: 일반공사 직종 | C29: 인 | D29: 0.09 | E29: 0 | F29: =TRUNC(E29*D29,1) -> 0 | G29: 192375 | H29: =TRUNC(G29*D29,1) -> 17313.7 | I29: 0 | J29: =TRUNC(I29*D29,1) -> 0 | K29: =TRUNC(E29+G29+I29,1) -> 192375 | L29: =TRUNC(F29+H29+J29,1) -> 17313.7 | M29: 금액제외 | O29: 5CBF33614D1B68F169828194565881423DD54F | P29: F | Q29: F | R29: T | V29: 1 | AK29: 5C60033F4B756220488751143F548D5CBF33614D1B68F169828194565881423DD54F | AM29: -
A30: 크레인(타이어) | B30: 10ton | C30: HR | D30: 1 | E30: 7370 | F30: =TRUNC(E30*D30,1) -> 7370 | G30: 47967 | H30: =TRUNC(G30*D30,1) -> 47967 | I30: 28495 | J30: =TRUNC(I30*D30,1) -> 28495 | K30: =TRUNC(E30+G30+I30,1) -> 83832 | L30: =TRUNC(F30+H30+J30,1) -> 83832 | M30: 금액제외 | O30: 5B78C378434567B5708832C1F05C7F86D5B4A77A | P30: T | Q30: F | R30: F | V30: 1 | AK30: 5C60033F4B756220488751143F548D5B78C378434567B5708832C1F05C7F86D5B4A77A | AM30: -
A31: 경비로 적용 | B31: 합계의 100% | C31: 식 | D31: 1 | E31: 0 | F31: =TRUNC(E31*D31,1) -> 0 | G31: 0 | H31: =TRUNC(G31*D31,1) -> 0 | I31: =TRUNC(SUMIF(V28:V31, RIGHTB(O31, 1), L28:L31)*U31, 2) -> 154953.5 | J31: =TRUNC(I31*D31,1) -> 154953.5 | K31: =TRUNC(E31+G31+I31,1) -> 154953.5 | L31: =TRUNC(F31+H31+J31,1) -> 154953.5 | N31: 5C60033F4B756220488751143F548D | O31: 5D7C43414B556F1341888AB7A65E1 | P31: F | Q31: F | R31: F | S31: 3 | T31: 2 | U31: 1 | AK31: 5C60033F4B756220488751143F548D5D7C43414B556F1341888AB7A65E1
A32: [ 합 계 ] | F32: =TRUNC(SUMIF(N28:N31, N27, F28:F31),0) -> 0 | H32: =TRUNC(SUMIF(N28:N31, N27, H28:H31),0) -> 0 | J32: =TRUNC(SUMIF(N28:N31, N27, J28:J31),0) -> 154953 | L32: =F32+H32+J32 -> 154953 | N32: TOTAL | O32: TOTAL | AM32: -
A34: 콘테이너형 가설건축물 해체 3.0*6.0*2.6m 개소 공통 2-3-2 ( 호표 5 ) | N34: 5C60033F4B756220488751143F5759
A35: 비계공 | B35: 일반공사 직종 | C35: 인 | D35: 0.29 | E35: 0 | F35: =TRUNC(E35*D35,1) -> 0 | G35: 269039 | H35: =TRUNC(G35*D35,1) -> 78021.3 | I35: 0 | J35: =TRUNC(I35*D35,1) -> 0 | K35: =TRUNC(E35+G35+I35,1) -> 269039 | L35: =TRUNC(F35+H35+J35,1) -> 78021.3 | M35: 금액제외 | O35: 5CBF33614D1B68F169828194565881423DD54A | P35: F | Q35: F | R35: T | V35: 1 | AK35: 5C60033F4B756220488751143F57595CBF33614D1B68F169828194565881423DD54A | AM35: -
A36: 특별인부 | B36: 일반공사 직종 | C36: 인 | D36: 0.17 | E36: 0 | F36: =TRUNC(E36*D36,1) -> 0 | G36: 192375 | H36: =TRUNC(G36*D36,1) -> 32703.7 | I36: 0 | J36: =TRUNC(I36*D36,1) -> 0 | K36: =TRUNC(E36+G36+I36,1) -> 192375 | L36: =TRUNC(F36+H36+J36,1) -> 32703.7 | M36: 금액제외 | O36: 5CBF33614D1B68F169828194565881423DD54F | P36: F | Q36: F | R36: T | V36: 1 | AK36: 5C60033F4B756220488751143F57595CBF33614D1B68F169828194565881423DD54F | AM36: -
A37: 크레인(타이어) | B37: 10ton | C37: HR | D37: 1 | E37: 7370 | F37: =TRUNC(E37*D37,1) -> 7370 | G37: 47967 | H37: =TRUNC(G37*D37,1) -> 47967 | I37: 28495 | J37: =TRUNC(I37*D37,1) -> 28495 | K37: =TRUNC(E37+G37+I37,1) -> 83832 | L37: =TRUNC(F37+H37+J37,1) -> 83832 | M37: 금액제외 | O37: 5B78C378434567B5708832C1F05C7F86D5B4A77A | P37: T | Q37: F | R37: F | V37: 1 | AK37: 5C60033F4B756220488751143F57595B78C378434567B5708832C1F05C7F86D5B4A77A | AM37: -
A38: 경비로 적용 | B38: 합계의 100% | C38: 식 | D38: 1 | E38: 0 | F38: =TRUNC(E38*D38,1) -> 0 | G38: 0 | H38: =TRUNC(G38*D38,1) -> 0 | I38: =TRUNC(SUMIF(V35:V38, RIGHTB(O38, 1), L35:L38)*U38, 2) -> 194557 | J38: =TRUNC(I38*D38,1) -> 194557 | K38: =TRUNC(E38+G38+I38,1) -> 194557 | L38: =TRUNC(F38+H38+J38,1) -> 194557 | N38: 5C60033F4B756220488751143F5759 | O38: 5D7C43414B556F1341888AB7A65E1 | P38: F | Q38: F | R38: F | S38: 3 | T38: 2 | U38: 1 | AK38: 5C60033F4B756220488751143F57595D7C43414B556F1341888AB7A65E1
A39: [ 합 계 ] | F39: =TRUNC(SUMIF(N35:N38, N34, F35:F38),0) -> 0 | H39: =TRUNC(SUMIF(N35:N38, N34, H35:H38),0) -> 0 | J39: =TRUNC(SUMIF(N35:N38, N34, J35:J38),0) -> 194557 | L39: =F39+H39+J39 -> 194557 | N39: TOTAL | O39: TOTAL | AM39: -
A41: 콘테이너형 가설건축물 설치 3.0*6.0*2.6m 개소 공통 2-3-2 ( 호표 6 ) | N41: 5C60033F4B756220488751143F575C
A42: 비계공 | B42: 일반공사 직종 | C42: 인 | D42: 0.29 | E42: 0 | F42: =TRUNC(E42*D42,1) -> 0 | G42: 269039 | H42: =TRUNC(G42*D42,1) -> 78021.3 | I42: 0 | J42: =TRUNC(I42*D42,1) -> 0 | K42: =TRUNC(E42+G42+I42,1) -> 269039 | L42: =TRUNC(F42+H42+J42,1) -> 78021.3 | M42: 금액제외 | O42: 5CBF33614D1B68F169828194565881423DD54A | P42: F | Q42: F | R42: T | V42: 1 | AK42: 5C60033F4B756220488751143F575C5CBF33614D1B68F169828194565881423DD54A | AM42: -
A43: 특별인부 | B43: 일반공사 직종 | C43: 인 | D43: 0.17 | E43: 0 | F43: =TRUNC(E43*D43,1) -> 0 | G43: 192375 | H43: =TRUNC(G43*D43,1) -> 32703.7 | I43: 0 | J43: =TRUNC(I43*D43,1) -> 0 | K43: =TRUNC(E43+G43+I43,1) -> 192375 | L43: =TRUNC(F43+H43+J43,1) -> 32703.7 | M43: 금액제외 | O43: 5CBF33614D1B68F169828194565881423DD54F | P43: F | Q43: F | R43: T | V43: 1 | AK43: 5C60033F4B756220488751143F575C5CBF33614D1B68F169828194565881423DD54F | AM43: -
A44: 크레인(타이어) | B44: 10ton | C44: HR | D44: 1 | E44: 7370 | F44: =TRUNC(E44*D44,1) -> 7370 | G44: 47967 | H44: =TRUNC(G44*D44,1) -> 47967 | I44: 28495 | J44: =TRUNC(I44*D44,1) -> 28495 | K44: =TRUNC(E44+G44+I44,1) -> 83832 | L44: =TRUNC(F44+H44+J44,1) -> 83832 | M44: 금액제외 | O44: 5B78C378434567B5708832C1F05C7F86D5B4A77A | P44: T | Q44: F | R44: F | V44: 1 | AK44: 5C60033F4B756220488751143F575C5B78C378434567B5708832C1F05C7F86D5B4A77A | AM44: -
A45: 경비로 적용 | B45: 합계의 100% | C45: 식 | D45: 1 | E45: 0 | F45: =TRUNC(E45*D45,1) -> 0 | G45: 0 | H45: =TRUNC(G45*D45,1) -> 0 | I45: =TRUNC(SUMIF(V42:V45, RIGHTB(O45, 1), L42:L45)*U45, 2) -> 194557 | J45: =TRUNC(I45*D45,1) -> 194557 | K45: =TRUNC(E45+G45+I45,1) -> 194557 | L45: =TRUNC(F45+H45+J45,1) -> 194557 | N45: 5C60033F4B756220488751143F575C | O45: 5D7C43414B556F1341888AB7A65E1 | P45: F | Q45: F | R45: F | S45: 3 | T45: 2 | U45: 1 | AK45: 5C60033F4B756220488751143F575C5D7C43414B556F1341888AB7A65E1
...

Sheet  공사설정 
A1: 이 Sheet는 수정하지 마십시요
A2: 공사구분 | B2: A
A3: 확정내역 | B3: 원내역
A4: 자재단가적용 | B4: 5
A5: 경비단가적용 | B5: 5
A6: 품목코드형식 | B6: XXXX-XXXX-XXXXXXXXX
A7: 내역금액소수점처리 | B7: C | C7: T
A8: 일위대가내역소수점처리 | B8: C | C8: 2
A9: 단가명 | B9: 조달청가격 | C9: 거래가격 | D9: 유통물가 | E9: 물가자료 | F9: 조사가격 | G9: TTTTT
A10: 환율 | B10: 1185 | C10: 0 | D10: 0
A11: 시간당작업량 | B11: R | C11: 4
A12: 1회 사이클시간 | B12: R | C12: 4
A13: 시간당 작업사이클 | B13: R | C13: 3
A14: 일반변수 | B14: R | C14: 5
A15: 시간당 노임산출 계수 | B15: A | C15: 1/8*16/12*25/20 | D15: 1/8*16/12*25/20 | E15: 1/8*16/12*25/20 | F15: 1
A16: 재료비 할증 계수 | B16: 1.11 | C16: 1.12
A17: 노무비 할증 계수 | B17: 1 | C17: 1.5 | D17: 1.16 | E17: 1.6 | F17: 1.6 | G17: 1.6 | H17: 1.94 | I17: 1.94 | J17: 1.94 | K17: 1 | L17: 1 | M17: 1
A18: 경비 할증 계수 | B18: 1.25 | C18: 1.071
A19: 내역,일위대가 품명,규격,단위 따로적용
A21: 코드 | B21: 공종구분명 | C21: 원가비목코드
A22: 1 | B22: 작 업 부 산 물 | C22: A3
A23: 2 | B23: 운 반 비 | C23: C1
A24: 3 | B24: 관 급 자 재 비 | C24: DJ
A25: 4 | B25: 사 급 자 재 비 | C25: D3
A26: 5 | B26: 외 자 재
A27: 6 | B27: ...
A28: 7 | B28: ...
A29: 8 | B29: ...
A30: 9 | B30: ...
